BEGIN:VCALENDAR
VERSION:2.0
PRODID:-//Fresno Estates &amp; Auction Company - ECPv6.15.18//NONSGML v1.0//EN
CALSCALE:GREGORIAN
METHOD:PUBLISH
X-WR-CALNAME:Fresno Estates &amp; Auction Company
X-ORIGINAL-URL:https://fresnoauctioncompany.com
X-WR-CALDESC:Events for Fresno Estates &amp; Auction Company
REFRESH-INTERVAL;VALUE=DURATION:PT1H
X-Robots-Tag:noindex
X-PUBLISHED-TTL:PT1H
BEGIN:VTIMEZONE
TZID:America/Los_Angeles
BEGIN:DAYLIGHT
TZOFFSETFROM:-0800
TZOFFSETTO:-0700
TZNAME:PDT
DTSTART:20240310T100000
END:DAYLIGHT
BEGIN:STANDARD
TZOFFSETFROM:-0700
TZOFFSETTO:-0800
TZNAME:PST
DTSTART:20241103T090000
END:STANDARD
BEGIN:DAYLIGHT
TZOFFSETFROM:-0800
TZOFFSETTO:-0700
TZNAME:PDT
DTSTART:20250309T100000
END:DAYLIGHT
BEGIN:STANDARD
TZOFFSETFROM:-0700
TZOFFSETTO:-0800
TZNAME:PST
DTSTART:20251102T090000
END:STANDARD
BEGIN:DAYLIGHT
TZOFFSETFROM:-0800
TZOFFSETTO:-0700
TZNAME:PDT
DTSTART:20260308T100000
END:DAYLIGHT
BEGIN:STANDARD
TZOFFSETFROM:-0700
TZOFFSETTO:-0800
TZNAME:PST
DTSTART:20261101T090000
END:STANDARD
END:VTIMEZONE
BEGIN:VEVENT
DTSTART;TZID=America/Los_Angeles:20250113T000000
DTEND;TZID=America/Los_Angeles:20250113T000000
DTSTAMP:20260422T155528
CREATED:20250110T204012Z
LAST-MODIFIED:20250129T172443Z
UID:21311-1736726400-1736726400@fresnoauctioncompany.com
SUMMARY:Jan 10-12 Jewells Beads Final Liquidation Sale. Fri/Sat/Sun! BEADS! SUPPLIES! BEADS!
DESCRIPTION:This 3 day estate TAG SALE is brought to you in collaboration with Leftover Treasures \nWhen: Jan. 10\, 11 & 8\, 2025 ONLY\nFriday Hours: 12pm to 4pm\nSaturday Hours: 12pm to 4pm\nSunday Hours: 11:30m to 3:30pm \nWhere: 648 Broadway Street | Fresno\, Ca 93721\nLook for “Estate Sale” street signs.\nFREE! GATED PARKING LOT! Direct access to our location. Please use the gate entrance located on Mono Street. \n\nThe final sale of everything beads. Literally 1000s & 1000s of beads will be available including an assortment of jewelers supplies\nThe sale will begin on Friday through Sunday.\nAll beads that are marked will be 50% Off ($2.00 minimum purchase. \nFurther discounts will be available on Sunday.\n\nBrief list on items to be sold: CLICK HERE for scrollable picture link! \n\nGlass Beads\nStone Beads\nSilver Plated beads (over jewelers brass)\nGold plated beads (over jewelers brass)\npearl beads\nfire polish beads\ncoral beads\npewter beads\njewelers supplies and accessories\njade beads\ncharms\nsterling silver beads\nvarious jewelers supplies\nand so much more!!!
URL:https://fresnoauctioncompany.com/event/1-10-12-24/
LOCATION:Yoshi Building\, 648 Broadway Street\, FRESNO\, CA\, 93721\, United States
CATEGORIES:Estate Tag Sale
ATTACH;FMTTYPE=image/jpeg:https://fresnoauctioncompany.com/wp-content/uploads/2025/01/jew.jpg
END:VEVENT
BEGIN:VEVENT
DTSTART;TZID=America/Los_Angeles:20250113T000000
DTEND;TZID=America/Los_Angeles:20250113T000000
DTSTAMP:20260422T155528
CREATED:20250110T204012Z
LAST-MODIFIED:20250129T172443Z
UID:21311-1736726400-1736726400@fresnoauctioncompany.com
SUMMARY:Jan 10-12 Jewells Beads Final Liquidation Sale. Fri/Sat/Sun! BEADS! SUPPLIES! BEADS!
DESCRIPTION:This 3 day estate TAG SALE is brought to you in collaboration with Leftover Treasures \nWhen: Jan. 10\, 11 & 8\, 2025 ONLY\nFriday Hours: 12pm to 4pm\nSaturday Hours: 12pm to 4pm\nSunday Hours: 11:30m to 3:30pm \nWhere: 648 Broadway Street | Fresno\, Ca 93721\nLook for “Estate Sale” street signs.\nFREE! GATED PARKING LOT! Direct access to our location. Please use the gate entrance located on Mono Street. \n\nThe final sale of everything beads. Literally 1000s & 1000s of beads will be available including an assortment of jewelers supplies\nThe sale will begin on Friday through Sunday.\nAll beads that are marked will be 50% Off ($2.00 minimum purchase. \nFurther discounts will be available on Sunday.\n\nBrief list on items to be sold: CLICK HERE for scrollable picture link! \n\nGlass Beads\nStone Beads\nSilver Plated beads (over jewelers brass)\nGold plated beads (over jewelers brass)\npearl beads\nfire polish beads\ncoral beads\npewter beads\njewelers supplies and accessories\njade beads\ncharms\nsterling silver beads\nvarious jewelers supplies\nand so much more!!!
URL:https://fresnoauctioncompany.com/event/1-10-12-24/
LOCATION:Yoshi Building\, 648 Broadway Street\, FRESNO\, CA\, 93721\, United States
CATEGORIES:Estate Tag Sale
ATTACH;FMTTYPE=image/jpeg:https://fresnoauctioncompany.com/wp-content/uploads/2025/01/jew.jpg
END:VEVENT
END:VCALENDAR