BEGIN:VCALENDAR
VERSION:2.0
PRODID:-//Fresno Estates &amp; Auction Company - ECPv6.15.18//NONSGML v1.0//EN
CALSCALE:GREGORIAN
METHOD:PUBLISH
X-ORIGINAL-URL:https://fresnoauctioncompany.com
X-WR-CALDESC:Events for Fresno Estates &amp; Auction Company
REFRESH-INTERVAL;VALUE=DURATION:PT1H
X-Robots-Tag:noindex
X-PUBLISHED-TTL:PT1H
BEGIN:VTIMEZONE
TZID:America/Los_Angeles
BEGIN:DAYLIGHT
TZOFFSETFROM:-0800
TZOFFSETTO:-0700
TZNAME:PDT
DTSTART:20240310T100000
END:DAYLIGHT
BEGIN:STANDARD
TZOFFSETFROM:-0700
TZOFFSETTO:-0800
TZNAME:PST
DTSTART:20241103T090000
END:STANDARD
BEGIN:DAYLIGHT
TZOFFSETFROM:-0800
TZOFFSETTO:-0700
TZNAME:PDT
DTSTART:20250309T100000
END:DAYLIGHT
BEGIN:STANDARD
TZOFFSETFROM:-0700
TZOFFSETTO:-0800
TZNAME:PST
DTSTART:20251102T090000
END:STANDARD
BEGIN:DAYLIGHT
TZOFFSETFROM:-0800
TZOFFSETTO:-0700
TZNAME:PDT
DTSTART:20260308T100000
END:DAYLIGHT
BEGIN:STANDARD
TZOFFSETFROM:-0700
TZOFFSETTO:-0800
TZNAME:PST
DTSTART:20261101T090000
END:STANDARD
END:VTIMEZONE
BEGIN:VEVENT
DTSTART;TZID=America/Los_Angeles:20250426T080000
DTEND;TZID=America/Los_Angeles:20250426T170000
DTSTAMP:20260424T080014
CREATED:20250423T022613Z
LAST-MODIFIED:20250423T230404Z
UID:23177-1745654400-1745686800@fresnoauctioncompany.com
SUMMARY:BIG Historic Cobb Ranch Estate Auction with Jaguar\, Slot Machine\, Rare GOLDEN Horse Mustang Statue\, Wooden Cigar Store Indian & SO SO much More!
DESCRIPTION:Where: COBB Ranch – 8805 N\, HWY 41\, Fresno CA 93720\nNorth of Fresno on HWY 41 \nWhen: Saturday\, April 26\, 2025 at 10am\nPreview from 8 to 10am \nComing SOON for the expandable and scrollable Google Photos -Enjoy the Gallery Below\nClick Here to Check the Google Link Photo Upload Process \n\nThe auction features:\n2000 Jaguar XK8\,\n1988 Chevy short wheelbase single cab pick up\,\nrare iron wheel Fresno Agricultural Works vineyard wagon\,\ncotton trailer\,\nToro zero turn riding mower\,\nOld Honesty 5 cent Cigar wooden cigar store Indian\,\nA 777 slot machine\,\na Remington bronze\,\ncow statues\,\na rare golden horse rearing Mustang statue from the Golden Horse Western Wear Store on Blackstone Avenue in Fresno\,\nsix foot tall carved wooden bear\,\nthirty plus Lifetime brand round event banquet tables\,\ntwo hundred plus folding Costco plastic event chairs\,\nlarge wood playground swing set and slide\,\nseveral Tuff Shed style storage sheds\,\n40 foot truck box container\,\nSeveral ladders\,\nboth extension and A frame\,\ntarps\, garden hoses\,\ngarden tools of all kinds\,\ngas powered chain saws\,\npatio furniture\,\ncement deer family\, and other yard art items\,\ncement and resin yard animals of all kinds\,\nseveral kayaks\, sprinklers and sprinkler repair parts\,\nnuts\,bolts and screws of all kinds\,\ncatering equipment\,\nlarge ice chests\,\nchafing dishes and pans\,\nlarge stainless catering sink\,\nsmall stainless catering sink\,\nfull propane cylinders\,\nlots of quality metal shelving\,\nlots of electric chainsaws\,\npatio umbrellas\,\ndining table with 6 chairs 2 extensions\,\nglassware and set of Noritake china\,\nKaraoke machine\,\nQuality freezer and small refrigerator\,\nMicrowave\,\nGoldwash flatware\,\nmen and women’s clothing\,\nwestern wear\,\ncowboy hats\,\nlarge parrot cage\,\ncoffee and end tables\,\nusable supplies and products\,\nshop heaters\,\nwall mirrors\,\nand much\, much more.\nDon’t Not miss this great auction!!
URL:https://fresnoauctioncompany.com/event/4-26-25/
CATEGORIES:Estate Auction
ATTACH;FMTTYPE=image/jpeg:https://fresnoauctioncompany.com/wp-content/uploads/2025/04/20250422_155918-scaled-e1745422153809.jpg
END:VEVENT
END:VCALENDAR