BEGIN:VCALENDAR
VERSION:2.0
PRODID:-//Fresno Estates &amp; Auction Company - ECPv6.15.18//NONSGML v1.0//EN
CALSCALE:GREGORIAN
METHOD:PUBLISH
X-WR-CALNAME:Fresno Estates &amp; Auction Company
X-ORIGINAL-URL:https://fresnoauctioncompany.com
X-WR-CALDESC:Events for Fresno Estates &amp; Auction Company
REFRESH-INTERVAL;VALUE=DURATION:PT1H
X-Robots-Tag:noindex
X-PUBLISHED-TTL:PT1H
BEGIN:VTIMEZONE
TZID:America/Los_Angeles
BEGIN:DAYLIGHT
TZOFFSETFROM:-0800
TZOFFSETTO:-0700
TZNAME:PDT
DTSTART:20230312T100000
END:DAYLIGHT
BEGIN:STANDARD
TZOFFSETFROM:-0700
TZOFFSETTO:-0800
TZNAME:PST
DTSTART:20231105T090000
END:STANDARD
BEGIN:DAYLIGHT
TZOFFSETFROM:-0800
TZOFFSETTO:-0700
TZNAME:PDT
DTSTART:20240310T100000
END:DAYLIGHT
BEGIN:STANDARD
TZOFFSETFROM:-0700
TZOFFSETTO:-0800
TZNAME:PST
DTSTART:20241103T090000
END:STANDARD
BEGIN:DAYLIGHT
TZOFFSETFROM:-0800
TZOFFSETTO:-0700
TZNAME:PDT
DTSTART:20250309T100000
END:DAYLIGHT
BEGIN:STANDARD
TZOFFSETFROM:-0700
TZOFFSETTO:-0800
TZNAME:PST
DTSTART:20251102T090000
END:STANDARD
END:VTIMEZONE
BEGIN:VEVENT
DTSTART;TZID=America/Los_Angeles:20240511T080000
DTEND;TZID=America/Los_Angeles:20240511T170000
DTSTAMP:20260423T224332
CREATED:20240501T062042Z
LAST-MODIFIED:20240510T222304Z
UID:16274-1715414400-1715446800@fresnoauctioncompany.com
SUMMARY:5-11-24  Big Boy Toys & Tool Ranchette Estate Auction 10am
DESCRIPTION:Where: 7694 East Gettysburg Avenue Clovis\, CA 93619\nBetween Locan and DeWolf Aves.\nWhen: Saturday\, May 11\, 2024\nAuction will begin at 10:00 a.m. with a preview beginning at 8:00 a.m \nThis is a large auction with approximately 470 good Lots including; motorcycle\, racing quad\, Sandrail Dune buggy\, Diesel truck and trailers\, hand tools\, shop equipment plus more and as always\, feel free to contact Steve at 559-930-7218 for more info and details! \nItems include: Click here for the Google scrollable expandable photo link  \n                              Click Here for YouTube Video  teaser \n\nRare Honda 250R racing quad\,\n1985 Honda XL 600R motorcycle\nsand rail dune buggy with small block Chevy engine\,\n3 Fishing boats\, 2 with trailers\n1984 Kenworth 2 axle truck with Caterpillar engine\,\n2 Fruehauf 28-ft dry Vans with onboard battery operated rail lifts\,\n500 gallon tandem axle water wagon\,\nsingle axle equipment jump trailer\,\nbin dump forklift attachment\,\n2000 gallon plus above ground poly water tank\,\nHotsy diesel/kerosene Steam cleaner\,\ntowable large field air compressor with 11 horsepower Honda engine\,\nMillermatic 250 wire feed welder\,\nMiller Spectrum 2050 plasma cutter\,\nHonda model EB5000X 5000 watt portable gas generator\,\nCraftsman 2400 Watt portable gas generator\,\nparts washer\,\ntile saw\,\nasphalt machine\,\noxy acetylene sets\,\nlots of oxy acetylene\, CO2 and Argon cylinders\,\ntransfer pumps\,\nlike new construction JOBOX’s\,\nladders of all kinds and sizes\,\nair hose and oxy acetylene hose reels\,\nSnap-on toolbox\,\n1in Drive air impacts\,\nPorta powers\,\nhand gas powered auger\,\nextension cords of all types and sizes\,\nelectric jackhammers\,\nlarge pipe wrenches\,\nfloor jacks\,\nsets of tires and wheels\,\nBear engine analyzer\,\n500 gallon above ground fuel tank\,\nsmall block Chevy engine with automatic transmission\,\nhand gas sickle bar mowers\,\nlarge and small propane tanks\, several are full\,\nportable electric cement mixer\,\n100 gallon portable gas powered spray rig\,\nportable gas powered log splitter\,\n40 ton press\,\nlots of hand and power tools and much\, much more.\nDon’t miss this great auction!!
URL:https://fresnoauctioncompany.com/event/5-11-24/
LOCATION:5-11-24 location\, 7694 East Gettysburg Avenue\, CLOVIS\, 93619\, United States
CATEGORIES:Estate Auction
ATTACH;FMTTYPE=image/jpeg:https://fresnoauctioncompany.com/wp-content/uploads/2024/04/5a-1.jpg
END:VEVENT
END:VCALENDAR