BEGIN:VCALENDAR
VERSION:2.0
PRODID:-//Fresno Estates &amp; Auction Company - ECPv6.15.18//NONSGML v1.0//EN
CALSCALE:GREGORIAN
METHOD:PUBLISH
X-ORIGINAL-URL:https://fresnoauctioncompany.com
X-WR-CALDESC:Events for Fresno Estates &amp; Auction Company
REFRESH-INTERVAL;VALUE=DURATION:PT1H
X-Robots-Tag:noindex
X-PUBLISHED-TTL:PT1H
BEGIN:VTIMEZONE
TZID:America/Los_Angeles
BEGIN:DAYLIGHT
TZOFFSETFROM:-0800
TZOFFSETTO:-0700
TZNAME:PDT
DTSTART:20250309T100000
END:DAYLIGHT
BEGIN:STANDARD
TZOFFSETFROM:-0700
TZOFFSETTO:-0800
TZNAME:PST
DTSTART:20251102T090000
END:STANDARD
BEGIN:DAYLIGHT
TZOFFSETFROM:-0800
TZOFFSETTO:-0700
TZNAME:PDT
DTSTART:20260308T100000
END:DAYLIGHT
BEGIN:STANDARD
TZOFFSETFROM:-0700
TZOFFSETTO:-0800
TZNAME:PST
DTSTART:20261101T090000
END:STANDARD
BEGIN:DAYLIGHT
TZOFFSETFROM:-0800
TZOFFSETTO:-0700
TZNAME:PDT
DTSTART:20270314T100000
END:DAYLIGHT
BEGIN:STANDARD
TZOFFSETFROM:-0700
TZOFFSETTO:-0800
TZNAME:PST
DTSTART:20271107T090000
END:STANDARD
END:VTIMEZONE
BEGIN:VEVENT
DTSTART;TZID=America/Los_Angeles:20260307T080000
DTEND;TZID=America/Los_Angeles:20260307T170000
DTSTAMP:20260423T233342
CREATED:20260304T213911Z
LAST-MODIFIED:20260304T214623Z
UID:30422-1772870400-1772902800@fresnoauctioncompany.com
SUMMARY:March 7 No Sale This Week!
DESCRIPTION:No sale this week! Please check back next week for pictures and descriptions of future auctions!
URL:https://fresnoauctioncompany.com/event/march-7-no-auction/
LOCATION:CA
ATTACH;FMTTYPE=image/png:https://fresnoauctioncompany.com/wp-content/uploads/2022/10/fresno-6-FINAL-copy-1.png
END:VEVENT
BEGIN:VEVENT
DTSTART;TZID=America/Los_Angeles:20260314T080000
DTEND;TZID=America/Los_Angeles:20260314T170000
DTSTAMP:20260423T233342
CREATED:20260304T214839Z
LAST-MODIFIED:20260311T005623Z
UID:30428-1773475200-1773507600@fresnoauctioncompany.com
SUMMARY:March 14 Madera Farm Auction 10am with Tractor\, Trailers\, Implements\, Outhouses\, Tool & More!
DESCRIPTION:Where: Off Ave 9\, Near Road 29\, West of 99.\nFollow signs starting at Ave. 9 & Road 29. Call Steve at 559-930-7218 if lost \nWhen: Saturday\, March 14\, 2026 at 10am\nPreview starting at 8am. Auction starts at 10am. \nClick here for Scrollable and Expandable Photos \nThis Auction to include;\nJohn Deere 2755 cab tractor\,\nKimco 3point PTO hydraulic berm tiller\,\nweeder\,\n24 foot gooseneck heavy duty tandem axle dovetail 3 ramp equipment trailer\,\n1000 gallon water tank and trailer with booster pump\,\n500 gallon gravity feed water wagon\,\nMacagnos Manufacturing raisin shaker system with bin dumper\,\n2004 GMC 3500 service truck\,\nsmall flatbed trailer\,\nRears 500 gallon stainless steel tank rear fan sprayer\,\n12 foot hydraulic assist wheel scraper\,\n3 point PTO hydraulic Berm sweeper\,\nPolaris 250 four wheel ATV\,\n8′ cultipack ring roller\,\nTwo unit portable field toilet\,\n2 single field toilets\,\n3 500 gallon above ground diesel storage tanks and stands\,\nService truck body\,\n2 Knaack model 89 Storagemaster wheeled storage chests\,\n3500 W generator\,\ntransfer pumps\,\nHusqvarna chainsaw\,\nRyobi drill press\,\nSanborn upright air compressor\,\nLincoln Idealarc 250 arc welder\,\n20 ton shop press\,\nSanborn portable gas air compressor\,\nJohn Deere tractor push bars and weights\,\nmiscellaneous tractor parts\,\nshop heater\,\nmiscellaneous hand tools\,\nmiscellaneous chains\,\nlots of usable products\,\nmetal shelving and metal cabinets\,\nraisin bins\,\nBezzeride blades\,\nlarge Wilton vise\,\nlots of various tractor parts\,\ntractor tires and wheels\,\nFrench plows and parts and much more.\nDon’t miss this great Auction!!! \n\n		\n		\n			\n				\n			\n			\n				\n			\n			\n				\n			\n			\n				\n			\n			\n				\n			\n			\n				\n			\n			\n				\n			\n			\n				\n			\n			\n				\n			\n			\n				\n			\n			\n				\n			\n			\n				\n			\n			\n				\n			\n			\n				\n			\n			\n				\n			\n			\n				\n			\n			\n				\n			\n			\n				\n			\n			\n				\n			\n			\n				\n			\n			\n				\n			\n			\n				\n			\n			\n				\n			\n			\n				\n			\n			\n				\n			\n			\n				\n			\n			\n				\n			\n			\n				\n			\n			\n				\n			\n			\n				\n			\n			\n				\n			\n			\n				\n			\n			\n				\n			\n			\n				\n			\n			\n				\n			\n			\n				\n			\n			\n				\n			\n			\n				\n			\n			\n				\n			\n			\n				\n			\n			\n				\n			\n			\n				\n			\n			\n				\n			\n			\n				\n			\n			\n				\n			\n			\n				\n			\n			\n				\n			\n			\n				\n			\n			\n				\n			\n			\n				\n			\n			\n				\n			\n			\n				\n			\n			\n				\n			\n			\n				\n			\n			\n				\n			\n			\n				\n			\n			\n				\n			\n			\n				\n			\n			\n				\n			\n			\n				\n			\n			\n				\n			\n			\n				\n			\n			\n				\n			\n			\n				\n			\n			\n				\n			\n			\n				\n			\n			\n				\n			\n			\n				\n			\n			\n				\n			\n			\n				\n			\n			\n				\n			\n			\n				\n			\n			\n				\n			\n			\n				\n			\n			\n				\n			\n			\n				\n			\n			\n				\n			\n			\n				\n			\n			\n				\n			\n			\n				\n			\n			\n				\n			\n			\n				\n			\n			\n				\n			\n			\n				\n			\n			\n				\n			\n			\n				\n			\n			\n				\n			\n			\n				\n			\n			\n				\n			\n			\n				\n			\n			\n				\n			\n			\n				\n			\n			\n				\n			\n			\n				\n			\n			\n				\n			\n			\n				\n			\n			\n				\n			\n			\n				\n			\n			\n				\n			\n			\n				\n			\n			\n				\n			\n			\n				\n			\n			\n				\n			\n			\n				\n			\n			\n				\n			\n			\n				\n			\n			\n				\n			\n			\n				\n			\n			\n				\n			\n			\n				\n			\n			\n				\n			\n			\n				\n			\n			\n				\n			\n			\n				\n			\n			\n				\n			\n			\n				\n			\n			\n				\n			\n			\n				\n			\n			\n				\n			\n			\n				\n			\n			\n				\n			\n			\n				\n			\n			\n				\n			\n			\n				\n			\n			\n				\n			\n			\n				\n			\n			\n				\n			\n			\n				\n			\n			\n				\n			\n			\n				\n			\n			\n				\n			\n			\n				\n			\n			\n				\n			\n			\n				\n			\n			\n				\n			\n			\n				\n			\n			\n				\n			\n			\n				\n			\n			\n				\n			\n			\n				\n			\n			\n				\n			\n			\n				\n			\n			\n				\n			\n			\n				\n			\n			\n				\n			\n			\n				\n			\n			\n				\n			\n			\n				\n			\n			\n				\n			\n			\n				\n			\n			\n				\n			\n			\n				\n			\n			\n				\n			\n			\n				\n			\n			\n				\n			\n			\n				\n			\n			\n				\n			\n			\n				\n			\n			\n				\n			\n			\n				\n			\n			\n				\n			\n			\n				\n			\n			\n				\n			\n			\n				\n			\n			\n				\n			\n			\n				\n			\n			\n				\n			\n			\n				\n			\n			\n				\n			\n			\n				\n			\n			\n				\n			\n			\n				\n			\n			\n				\n			\n			\n				\n			\n			\n				\n			\n			\n				\n			\n			\n				\n			\n			\n				\n			\n			\n				\n			\n			\n				\n			\n			\n				\n			\n			\n				\n			\n			\n				\n			\n			\n				\n			\n			\n				\n			\n			\n				\n			\n			\n				\n			\n			\n				\n			\n			\n		\n\n  \n 
URL:https://fresnoauctioncompany.com/event/march-14/
LOCATION:CA
CATEGORIES:Liquidation Auction
ATTACH;FMTTYPE=image/jpeg:https://fresnoauctioncompany.com/wp-content/uploads/2026/03/20260309_113418-scaled.jpg
END:VEVENT
BEGIN:VEVENT
DTSTART;TZID=America/Los_Angeles:20260327T090000
DTEND;TZID=America/Los_Angeles:20260327T150000
DTSTAMP:20260423T233342
CREATED:20260309T222709Z
LAST-MODIFIED:20260327T021109Z
UID:30661-1774602000-1774623600@fresnoauctioncompany.com
SUMMARY:ONE DAY Clovis Estate Tag Sale with Neon\, Quality Vintage Fabric\, and Fine Antiques!
DESCRIPTION:Where: 2545 Finchwood Ave. Clovis\, CA 93611\nEast of Armstrong\, North of Barstow. \nWhen: Friday March 27\, 2026 at 9am\nWe will only be holding the sale for one day! Doors open at 9am and close when the crowd stops coming or 3pm whichever is first. \nClick here for Scrollable and Expandable Google photos! \nThis Estate Tag Sale is to include: \nVintage Neon Signs\nMid Century Modern China Cabinet\nVintage Acoustic guitars\nSouvenir pillow cases\nVintage Philco predicta TV\nVintage RCA floor model radio\nVintage Mission style grandfather clock\nAntique paintings\nCedar Chest\nLuggage\nAntique floor lamps\n4 panel asian screen\nsigns\nvintage metal Tonka Toys\nAntique Oak wall phone\nvintage clothes\nVintage Hollywood regency wall light and table light\n1940’s overstuffed chair and sofa\nAntiques and collectibles\nbooks and games\nhousehold items\nand much much more!
URL:https://fresnoauctioncompany.com/event/march-20-22/
LOCATION:2545 Finchwood Ave\, 2545 Finchwood Ave.\, Clovis\, CA\, 93611\, United States
CATEGORIES:Estate Tag Sale
ATTACH;FMTTYPE=image/jpeg:https://fresnoauctioncompany.com/wp-content/uploads/2026/03/IMG_0234-2-scaled.jpg
END:VEVENT
BEGIN:VEVENT
DTSTART;TZID=America/Los_Angeles:20260328T080000
DTEND;TZID=America/Los_Angeles:20260328T170000
DTSTAMP:20260423T233342
CREATED:20260304T215100Z
LAST-MODIFIED:20260325T230518Z
UID:30430-1774684800-1774717200@fresnoauctioncompany.com
SUMMARY:March 28 Reedley Estate Auction with Firearms\, Model A and late Model Vehicles
DESCRIPTION:This event is in association with DS Liquidation Services\, Kingsburg! \nWhere: 4350 Navelencia Ave. Reedley\, CA 93654\nNorth of American and East of Reedley \nWhen: Saturday\, March 28\, 2026 at 10am\nPreview starting at 8am. Auction starts at 10am \nClick Here for Expandable and Scrollable Google photos! \nThere will be breakfast pastries\, coffee\, and BBQ for lunch available for purchase! \nGUNS\nSavage Arms – Model 116\, Cal 300 Rem Ultra Mag (w/ Bushnell Scope)\nRemington Model 1100 12 Gauge\nRemington 22 Model 510\nRemington Sportsman 58 12 Gauge\nLong Tom 12 Gauge\nRemington Model 1100 12 Gauge (yes – another one)\nSavage Arms Model 12 Cal 22-250 (With Simmons Scope)\nBenelli 12 Gauge – Nova Pump Action.\nPerkins Percussion Double Barrel – Percussion – Black powder – circa 1850 to 1870\nWinchester Model 12 – 12 Gauge\nIMC2 22 LR (Romanian) 5 Round Detachable Magazine\nStevens Model 67 (E) 12 Gauge (Savage Arms)\nRemington Model 550 -1 – 22 Cal\nMarlin 22 Cal Model 81\nMarlin Model 154 – 22 Cal\nSavage Arms – Model 72 – 22 Cal\nIthaca – Model Mag-10 (10 Gauge)\nRemington Model 513-T j(Match Master ) 22 Cal\nRemington Model 700 – 25-06 Rem (w/ Leupold Scope)\n3 Shotgun barrels (two Remington and one unmarked)\nassorted bb/pellet guns \nVehicles\n1931 Ford Model A Deluxe Roadster\n2015 Buick Enclave w/ 39K Miles\n2008 BMW 530I w/ 77K Miles\n2007 Dodge Hemi w/ 206K Miles\n1944 Jeep Willys\n1960’s VW Karmann Ghia Coupe\n1987 Suzuki 230 Quadrunner\nDual-Axle flatbed utility trailer \nItems\nreloading equipment\nhand tools\nsocket sets\nimpact guns\nshop vacs\nFort Knox 7ft Gun Safe\nvintage clothing and jeans\nhunting apparel\nduck calls\nammo\ndrill bits and drivers\ntorque wrench\ntool boxes\nyard tools\nsmall garden shed\ncanned foods\nCabela’s vacuum sealer and food storage bags\nCraftsman generator\nmedium duty generator\nlaser level kit\nSkill brand handheld saw\n4cycle weedeater\nedger\nStack-on toolbox\nDremel brand scroll saw\nCraftsman table saw\nmedium duty drill press\nGreenworks pressure washer\nKenmore washer and dryer\nmetal model cars\nantique cameras\nCannon Powershot G5 camera and tri-pod\nsilverplate flatware set\nBabylock sewing machine attachments\nmultiple Singer HeavyDuty sewing machines\nair tanks and compressors\nfloor jacks\njack stands\nfishing equipment\nmultiple fishing poles\ncar care chemicals\nengine oil\nshop racks\nsafety equipment\nhousehold furniture\ndining room tables\ncouches\nloveseats\nbedroom sets\nCorningware\ncrockpots\ndecorative dishes\nhome cleaning products\nfake home plants\npatio furniture\nvintage Christmas ornaments\nquilting material and fabric\nand much much more!
URL:https://fresnoauctioncompany.com/event/march-28/
LOCATION:4350 Navelencia Ave\, 4350 Navelencia Ave.\, Reedley\, CA\, 93654\, United States
CATEGORIES:Estate Auction
ATTACH;FMTTYPE=image/jpeg:https://fresnoauctioncompany.com/wp-content/uploads/2026/03/IMG_1073-scaled.jpg
END:VEVENT
END:VCALENDAR