BEGIN:VCALENDAR
VERSION:2.0
PRODID:-//Fresno Estates &amp; Auction Company - ECPv6.15.18//NONSGML v1.0//EN
CALSCALE:GREGORIAN
METHOD:PUBLISH
X-WR-CALNAME:Fresno Estates &amp; Auction Company
X-ORIGINAL-URL:https://fresnoauctioncompany.com
X-WR-CALDESC:Events for Fresno Estates &amp; Auction Company
REFRESH-INTERVAL;VALUE=DURATION:PT1H
X-Robots-Tag:noindex
X-PUBLISHED-TTL:PT1H
BEGIN:VTIMEZONE
TZID:America/Los_Angeles
BEGIN:DAYLIGHT
TZOFFSETFROM:-0800
TZOFFSETTO:-0700
TZNAME:PDT
DTSTART:20250309T100000
END:DAYLIGHT
BEGIN:STANDARD
TZOFFSETFROM:-0700
TZOFFSETTO:-0800
TZNAME:PST
DTSTART:20251102T090000
END:STANDARD
BEGIN:DAYLIGHT
TZOFFSETFROM:-0800
TZOFFSETTO:-0700
TZNAME:PDT
DTSTART:20260308T100000
END:DAYLIGHT
BEGIN:STANDARD
TZOFFSETFROM:-0700
TZOFFSETTO:-0800
TZNAME:PST
DTSTART:20261101T090000
END:STANDARD
BEGIN:DAYLIGHT
TZOFFSETFROM:-0800
TZOFFSETTO:-0700
TZNAME:PDT
DTSTART:20270314T100000
END:DAYLIGHT
BEGIN:STANDARD
TZOFFSETFROM:-0700
TZOFFSETTO:-0800
TZNAME:PST
DTSTART:20271107T090000
END:STANDARD
END:VTIMEZONE
BEGIN:VEVENT
DTSTART;VALUE=DATE:20260103
DTEND;VALUE=DATE:20260105
DTSTAMP:20260424T040417
CREATED:20251230T012006Z
LAST-MODIFIED:20251230T184947Z
UID:29154-1767398400-1767571199@fresnoauctioncompany.com
SUMMARY:1/3 & 1/4 Selma Antique Tag Sale!
DESCRIPTION:Where: 2057 E Front St. Selma\, CA 93662\nCross Streets Second and Front St. in Selma \nWhen: Saturday and Sunday January 3 & 4 at 10am\nSaturday the tag sale will start at 10am and end at 3pm \nSunday the tag sale will start at 10am and end at 1pm. \nClick here for Scrollable and Expandable Google Photos! \nThis tag sale to include; \n\nHundreds of small table items from the 40’s through the ’00’s\nVintage and pristine Broyhill Emphasis Bedroom set with 6pcs\nKenmore 60’s BBQ cart\nVintage Aluminum cannister set\n50’s Ford automotive grill\nSunning MCM curio cabinet\n1800’s marble top cabinet with ornate hand carvings\n1900’s antique whicker patio set\n1900’s Antique painting and frame\nAntique rice\, sugar\, cotton seed\, potato\, and flour bags\nBeautiful MCM green vinyl couch\nHandmade decorative rugs\nOrnate antique end tables\nJewelry cabinets\nPhilco CD/Vinyl record player\nQuality white whicker and blue outdoor patio furniture set\nPatchwork hide collage blanket\nGreen/Yellow AH FireKing milk glass coffee cups\nSpindle leg marble claw foot end table\nAntique branded clothes hangers\nLamps and plant stands\nCast iron Dutch ovens\nCast iron frying pans and pancake pans\nAntique pottery\nWestinghouse Phase Meter\nSoundmirror Magnetic Recorder\nSony Reel to Reel machines\nVintage brushed aluminum lamp\nAntique walking lawn tractor sprinkler\nAntique SmithLens car light lenses\nVintage aluminum meal containers\nVintage Toyco toy trains\nWooden soda/drink boxes\nHundreds of 78 and 45 vinyl records\nVintage candle holders\nMultiple clocks and clock housings\nMilitary flasks\nVintage comic book Lunchboxes (some w/ thermos)\nGas cans\nSpitoons\nVintage games and books\nAntique kitchen appliances\nWollensak portable projector\nAntique camel saddle stand\nBaking items and irons\nSunbeam mixers\nBeautiful landscape pictures\nVintage art installations\nCedar chests\nCorner curio cabinet\nAntique floor to ceiling lamp\nBeveled edge mirror\nAntique Pioneer/Kenwood audio equipment\nGorgeous woven whicker dining chairs\nAir Stream portable air tank\nDining table with 6 chairs and two leaves\nand much much more!
URL:https://fresnoauctioncompany.com/event/1-3-1-4-26/
LOCATION:2057 E Front St.\, 2057 E Front St.\, Selma\, CA\, 93662\, United States
CATEGORIES:Estate Tag Sale
ATTACH;FMTTYPE=image/jpeg:https://fresnoauctioncompany.com/wp-content/uploads/2025/12/IMG_7390-scaled.jpg
END:VEVENT
BEGIN:VEVENT
DTSTART;TZID=America/Los_Angeles:20260110T080000
DTEND;TZID=America/Los_Angeles:20260110T170000
DTSTAMP:20260424T040417
CREATED:20251230T023125Z
LAST-MODIFIED:20251230T025422Z
UID:29164-1768032000-1768064400@fresnoauctioncompany.com
SUMMARY:Fresno Bekins "Storage Wars" Vault Sale!
DESCRIPTION:Where: 301 Van Ness Ave. Fresno\, CA 93721\nCross Streets of Monterey St & Van Ness Ave \nWhen: Saturday January 10th\, 2026 at 10am\nPreview starting at 8am. Auction starts at 10am \nFresno Bekins is clearing out vaults that have been sealed for over 20 years!\nWe will be moving out a large number of vaults\, opening them up on site\, and selling them as we crack them.\nOnly viewing will be allowed\, no searching through the vault until you have won the bid and paid your bill. \nPianos and a few other items will be included in this auction as well with updates coming soon. \nClick here for Scrollable Expandable Photos \n 
URL:https://fresnoauctioncompany.com/event/1-10-26/
LOCATION:301 Van Ness Ave.\, 301 Van Ness Ave.\, Fresno\, CA\, 93721\, United States
CATEGORIES:Liquidation Auction,Special Event
ATTACH;FMTTYPE=image/jpeg:https://fresnoauctioncompany.com/wp-content/uploads/2025/12/IMG_7674-scaled.jpg
END:VEVENT
BEGIN:VEVENT
DTSTART;TZID=America/Los_Angeles:20260117T080000
DTEND;TZID=America/Los_Angeles:20260117T170000
DTSTAMP:20260424T040417
CREATED:20260115T175450Z
LAST-MODIFIED:20260118T002432Z
UID:29180-1768636800-1768669200@fresnoauctioncompany.com
SUMMARY:NO AUCTION THIS WEEK
DESCRIPTION:We have postponed the restaurant equipment auction until January 24th! we will see you there!
URL:https://fresnoauctioncompany.com/event/no-auction-this-week/
LOCATION:CA
ATTACH;FMTTYPE=image/jpeg:https://fresnoauctioncompany.com/wp-content/uploads/2022/10/cropped-Favicon.jpg
END:VEVENT
BEGIN:VEVENT
DTSTART;TZID=America/Los_Angeles:20260124T080000
DTEND;TZID=America/Los_Angeles:20260124T170000
DTSTAMP:20260424T040417
CREATED:20251230T024243Z
LAST-MODIFIED:20260119T042829Z
UID:29161-1769241600-1769274000@fresnoauctioncompany.com
SUMMARY:Local Japanese Restaurant Equipment Liquidation Auction 10am
DESCRIPTION:Where: 6825 N Willow Ave. Suite 101-103\, Fresno\, CA 93710\nSouthwest Corner of Herndon and Willow. Follow the signs! \nWhen: Saturday January 24th\, 2026 at 10am\nPreview starting at 8am. Auction starts at 10am \nClick Here for scrollable & expandable google photo link \nThis auction to include: \n\n7’x 13.5′ Master Built Walk in\nFlat Top Gas Grill\nCaptive Aire Exhaust Hoods: 13’3″x54’25″& (2) 6’x54″x 24″\nNatural Gas Rice cookers\nElectric  Rice cookers\nImperial Gas Grill\nRanges\nImperial Gas Oven Range\nDeep fat fryer\nSingle gas burner\nVarious Refrigerators: Superior\,  True\, US Refrig. & more\nUnder Counter Refrigerators\nWork top refrigerator\n3 Sakura Sushi Fish Case\nCold case\nPrep Cooler\nIcemaker & Ice scoop\nRoasters\nWarming lights\nMicrowaves\nBento boxs\nCommercial Pots and Pans\nMANY Wire racks of various height\, width & depth\nWarming chafing dishes\nMiso Warmer/Soup Kettle\nDining Tables\nRow bench seating\nBooster Seats\nHigh Chairs\nCases of plates and glasses\nFlatware tray with utensils\n12 Cambros\nServing dishes\nServing cart\nFreezer\nBar Stools\nTables &  40 Chairs\nTable service stands\nWine glasses\nIce bucket\nBar sink\nPatio Tables\n30 Patio Chairs\nSink\nSink extension\nSamsung & Vizio TVs\nTwo tower 12 tap system\nBar Service grill\nBeer cases\nSoda dispenser station\nFarmers Coffee Brewer\nImbera Cola Case\nSS tables\nSS prep Tables \nRolling SS prep table\nPrep table with back splash\nIngredient bin\nIngredient bin cart\nFree standing sink\nHand sink\nUtility sink\nFloor scrubber\nMop sink\nTrash Cans \nAnd MUCH MORE!
URL:https://fresnoauctioncompany.com/event/1-17-26/
LOCATION:KuniSama Restaurant\, 6825 N. Willow Ave.\, Fresno\, CA\, 93710\, United States
CATEGORIES:Liquidation Auction
ATTACH;FMTTYPE=image/jpeg:https://fresnoauctioncompany.com/wp-content/uploads/2025/12/20260115_170111-scaled.jpg
END:VEVENT
BEGIN:VEVENT
DTSTART;TZID=America/Los_Angeles:20260131T080000
DTEND;TZID=America/Los_Angeles:20260131T170000
DTSTAMP:20260424T040417
CREATED:20251230T025059Z
LAST-MODIFIED:20260130T013011Z
UID:29162-1769846400-1769878800@fresnoauctioncompany.com
SUMMARY:Guns\, Authenticated Designer Purses\, Collectibles\, Tools\, & Jewelry Auction & More!
DESCRIPTION:Where: 648 Broadway St. Fresno Ca\, 93721\nCross Streets of Mono and Broadway \nWhen: Saturday January 31st\, 2026 at 10am\nPreview starting at 8am. Auction starts at 10am \nClick Here for expandable Google Photos! \nFirearms\nClassic Doubles Model 201 Field 12 Ga + Chokes\nRuger body and barrel\nWinchester Model 67A 22SL/LR\nColt “Colteer” 22Mag\nWinchester Model 12 12Ga + Choke\nIthaca Model 37 12Ga\nMossberg and Sons 46m 22 SL/LR\nWinchester Model-94 30-30 Win\nRanger Model 103-12 20Ga\nSpringfield Model 1898 .30-40 Krag\nJ. Steven’s Arms Crack Shot-26 .22LR\nSmith & Wesson .38 revolver w/ holster\nBeretta Tomcat-.32Auto pistol\nBeretta Model 950 BS-.25cal pistol\nBeretta Model 21A-.25cal pistol w/ 2 mags\nRuger Single Six .22cal revolver w/ holster\nHarrington & Richardson 9shot .22LR revolver\n\nMultiple high magnification scopes\nMultiple red dot/acog sights\nGun belts and holsters\nPistol and rifle cases\n\n\nPurses – EACH Purse that is authenticated has an Accompanying COA\nHermés multicolored wallet\nHermés turquoise Bolin bag\nHermés Navy shoulder bag\nHermés Birkin bags in burgundy\, black\, and teal\nLouis V Monogram crossbody bag\nLouis V Cindy Sherman Camera Messenger bag\nLouis V duffel bag\nChanel brown calfskin pincushion shoulder bag\nChanel Khaki Canvas Graffiti “OTP” messenger bag\n\nTools\n\nFloor jacks\nHedge trimmers and shears\nAugers\nWeed whackers…..\nStihl Chainsaws\nDrain snake\nTorque wrenches\nSockets\nTool bags\nMilwaukee power tools\nCrescent wrenches\nMakita power tools\nRyobi power tools\nSaws\nDrill bit indexes\nPower boosters\nMagnetic drills\nViking jump pack\nVintage scale\nHusky tool box\nBelt sanders\nWrenches\nPliers\nMisc hand tools\nDremel multi tools\nRigid and DeWalt tools\n10-Ton port-a-power\nRigid pipe wrenches\n\nImpact guns\n\nSledge hammers\nBolt cutters\nBattery trickle charger/engine starter\n\n\nMisc\nBinders of sports and trading cards\nU.S. mint coins\nWatches\nRings\nGold\nSilver\nSmelter mantle clock\nAntique music box\n\nDye cast model cars\nMotorcycle helmet\n\nBinoculars\nCast iron skillet\nJewelry boxes\nAsian chess set\nSmart 31 ID printer\nCash box\nSanyo TV\nIon pathfinder speaker\nArt work\nComputer monitors\n\nRayban sunglasses cases\nAnd much much more!
URL:https://fresnoauctioncompany.com/event/1-31-26/
LOCATION:Broadway Warehouse\, 648 Broadway Street\, Fresno\, CA\, 93721\, United States
CATEGORIES:Liquidation Auction
ATTACH;FMTTYPE=image/jpeg:https://fresnoauctioncompany.com/wp-content/uploads/2025/12/IMG_8798-rotated.jpg
END:VEVENT
END:VCALENDAR