BEGIN:VCALENDAR
VERSION:2.0
PRODID:-//Fresno Estates &amp; Auction Company - ECPv6.15.18//NONSGML v1.0//EN
CALSCALE:GREGORIAN
METHOD:PUBLISH
X-ORIGINAL-URL:https://fresnoauctioncompany.com
X-WR-CALDESC:Events for Fresno Estates &amp; Auction Company
REFRESH-INTERVAL;VALUE=DURATION:PT1H
X-Robots-Tag:noindex
X-PUBLISHED-TTL:PT1H
BEGIN:VTIMEZONE
TZID:America/Los_Angeles
BEGIN:DAYLIGHT
TZOFFSETFROM:-0800
TZOFFSETTO:-0700
TZNAME:PDT
DTSTART:20240310T100000
END:DAYLIGHT
BEGIN:STANDARD
TZOFFSETFROM:-0700
TZOFFSETTO:-0800
TZNAME:PST
DTSTART:20241103T090000
END:STANDARD
BEGIN:DAYLIGHT
TZOFFSETFROM:-0800
TZOFFSETTO:-0700
TZNAME:PDT
DTSTART:20250309T100000
END:DAYLIGHT
BEGIN:STANDARD
TZOFFSETFROM:-0700
TZOFFSETTO:-0800
TZNAME:PST
DTSTART:20251102T090000
END:STANDARD
BEGIN:DAYLIGHT
TZOFFSETFROM:-0800
TZOFFSETTO:-0700
TZNAME:PDT
DTSTART:20260308T100000
END:DAYLIGHT
BEGIN:STANDARD
TZOFFSETFROM:-0700
TZOFFSETTO:-0800
TZNAME:PST
DTSTART:20261101T090000
END:STANDARD
END:VTIMEZONE
BEGIN:VEVENT
DTSTART;TZID=America/Los_Angeles:20251031T090000
DTEND;TZID=America/Los_Angeles:20251102T150000
DTSTAMP:20260424T113944
CREATED:20251030T185610Z
LAST-MODIFIED:20251030T190453Z
UID:27841-1761901200-1762095600@fresnoauctioncompany.com
SUMMARY:10-31\,11-1\,11-2 Three Day Tag Sale with Antiques\, Compressor and More!
DESCRIPTION:When: This Friday Saturday and Sunday 10-31\, 11-1 & 11-2-25\,\nfrom 9am until 3pm all three days. \nWhere: Downtown at 650 Fulton St. Fresno\, CA  93721\,\nNorth of Caesar Chavez and West of Van Ness \nClick here for scrollable and expandable Google Photos \nThis huge sale to include;\nwith great yard art\,\nold picking ladders\,\nlockers of all kinds\,\nwrought iron fence panels\,\nantique champion 400 forge blower\,\nmid-century water feature\,\nReznor hanging shop heater\,\nvintage file cabinets\,\nvintage metal barrels\,\nvintage workbenches and shelving\,\nantique cupolas from an old hatchery\,\nsheets of plywood of various sizes and OSB board\,\nsets of tires and wheels\,\npatio heaters\,\nold china & crystal\,\ngarden pots\,\nvintage shelving & cabinets\,\nan actual stoplight from  the County of Fresno\,\nladders of all kinds\,\nwood picking ladders\,\ncarved antique mantle\,\nHans Sumpf pavers\,\nmid-century rock planters\,\ncement farm sink\,\nRefrigerators and other appliances\,\nvintage pattern cabinet\,\nmulti drawer microfiche cabinet\,\nrolling carts\,\nQuincy industrial compressor\,\ngolf course pea gravel spreader\nand much\, much more.\nDon’t miss this great sale!!!
URL:https://fresnoauctioncompany.com/event/103111111225/
LOCATION:Fresno Auction Company\, 650 Fulton Street\, Fresno\, CA\, 93721\, United States
CATEGORIES:Estate Tag Sale,Special Event
ATTACH;FMTTYPE=image/jpeg:https://fresnoauctioncompany.com/wp-content/uploads/2025/10/IMG_5523-scaled.jpg
END:VEVENT
BEGIN:VEVENT
DTSTART;TZID=America/Los_Angeles:20251106T080000
DTEND;TZID=America/Los_Angeles:20251106T170000
DTSTAMP:20260424T113944
CREATED:20251106T194403Z
LAST-MODIFIED:20251108T174203Z
UID:27916-1762416000-1762448400@fresnoauctioncompany.com
SUMMARY:Al's Distributing New Products Liquidation Auction!
DESCRIPTION:Where: 1630 S Pearl St.  Fresno\, CA 93721\nSouth of Butler on Pearl \nWhen: November 8\, 2025 at 10AM\nPreview begins at 8AM \nScrollable and Expandable Photos Here! \nThis auction to include:\nAll new inventory! \nK&N Air filters\nSta-Lube AP White Lithium Grease\nFast Orange Xtreme and Standard pumice hand cleaner\nTrim and Bumper Coating\nCRC Pumice Hand Cleaner\nPB Blaster Multi Use lubricant\nGlass Cleaner\nRL Anti-Gel\nLubrication tools and grease guns\nMisc Ford and Chevy parts Valve Covers\, gaskets\, sockets\n20W60 HD Motorcycle Oil\nPenzoil 5W30 and ATF\nBlue mechanics gloves\nsnow and ice brushes\ncompression repair ring sealer\nCompression test and vacuum test kit\nDye Cast 1948 Ford Convertible\nCutting Fluid\nGoJo hand cleaner\nLucas Racing engine oil\ntransmission oil cooler\nTire Sealer\nWix Filters\nChrome crankshaft covers\nBattery hold downs\nbuffing and polishing accessories\nBattery isolation kits\nheaders\nmultiple large boxes of oil\nretractable power cord coil\nsteering wheel locks\nscrub brushes\ncarburetor adaptors and gaskets\nhead gasket repair kits\nchrome transfer case covers\nvalve sealer and oil treatment\nfence tool\nbottle jacks\ndrop lights\nglazing putty\ngasoline/oil spouts\nfishing reel oil\nfuses\nFarmTak Thermometers\nhitches and weather caps\nDuPont accessories\nTuff Stuff bug remover and leather cleaner\nhand tools\nlight systems\nRoyal Purple cleaner\nlarge bolt cutters\ncome along cable pullers\npipe wrenches\nPro-Logix intelligent battery charger\nand Much More!
URL:https://fresnoauctioncompany.com/event/11-8-25/
LOCATION:CA
ATTACH;FMTTYPE=image/jpeg:https://fresnoauctioncompany.com/wp-content/uploads/2025/11/IMG_5947-scaled.jpg
END:VEVENT
BEGIN:VEVENT
DTSTART;TZID=America/Los_Angeles:20251115T090000
DTEND;TZID=America/Los_Angeles:20251116T150000
DTSTAMP:20260424T113944
CREATED:20251111T180103Z
LAST-MODIFIED:20251113T171254Z
UID:28099-1763197200-1763305200@fresnoauctioncompany.com
SUMMARY:2-Day Fort Washington Estate Tag Sale!
DESCRIPTION:Where: 355 E Everglade Ave. Fresno\, Ca 93720\nSouth of Sheppard\, East of Friant. Follow the signs. \nWhen: Saturday & Sunday  November 15 & 16\, 2025\n9 to 3 pm Daily. Doors open at 9am \nClick Here for Scrollable Google photos  \nThis Tag Sale to include; \nBeautiful Mid Century Modern Drexel dining table with six chairs\, two leaves and matching pads\,\nkitchen table with six matching expanded metal wrought iron chairs and two leaves\,\nvintage set of Wallace Sterling Silver service for twelve with multiple serving pieces\,\npair of Mid Century Modern Sterling candlesticks by Myers\,\nKenmore refrigerator freezer\,\nKenmore Commercial frost free upright freezer\,\nSouthwestern blankets and wall art\nvintage hand hammered aluminum lazy Susan\,\nKeurig coffee maker\,\nsmall kitchen appliances\,\nset of stainless flatware\,\nwine and water glasses\ncostume jewelry\,\nLenox vase\,\nmatching sofa and loveseat\,\nset of home collection dish set\,\noriental entry rug\,\nmatching coffee and end tables\,\nupholstered side chairs\,\nvintage floor lamp\, artwork\,\nBrown Jordan glass top patio table with four chairs\,\nTwo sets folding chairs\,\nexpanded metal patio table\,\nlive and artificial plants\,\nwind chime\,\nlarge antique style beveled mirror\,\nlarge beautiful set of Minton china service for 12\,\nquality lead crystal and cut glass vases\,\nbowls and miscellaneous\,\nbeautiful handmade wall hangings\,\nquality upholstered wing back and armchairs\,\nformal living room sofa\,\nartwork of all kinds\,\nquality solid oak nine drawer console dresser with matching beveled mirror\,\nquality king size bed with Memory Foam Tempuredic mattress\,\n3 cushion hide a bed sofa\,\nBeautiful oak writing desk\,\ncomputer table\,\nbookcase\,\nlarge vintage Caswell Runyon Company cedar chest\,\nqueen size bed with Sealy Posturpedic Super Premium Grandeur mattress and foundation\,
URL:https://fresnoauctioncompany.com/event/11-1516-25/
LOCATION:355 E Everglade Ave\, 355 E Everglade Ave\, Fresno\, CA\, 93720\, United States
CATEGORIES:Estate Tag Sale
ATTACH;FMTTYPE=image/jpeg:https://fresnoauctioncompany.com/wp-content/uploads/2025/11/IMG_6194.jpg
END:VEVENT
BEGIN:VEVENT
DTSTART;TZID=America/Los_Angeles:20251122T080000
DTEND;TZID=America/Los_Angeles:20251122T170000
DTSTAMP:20260424T113944
CREATED:20251120T083315Z
LAST-MODIFIED:20251120T170059Z
UID:28264-1763798400-1763830800@fresnoauctioncompany.com
SUMMARY:Woodward Lakes Home Estate Auction!
DESCRIPTION:Where: 851 Country View Cir. Fresno CA 93730\nAround Woodward Lake and into Country View. Follow the signs \nWhen: Saturday November 22nd\, 2025 at 10am\nPreview starting at 8am. Auction starts at 10am \nClick Here For Scrollable and Expandable Photos \nThis auction to include: \n\nHonda Pilot Car\nBeautiful designer purses\, DKNY\, Michael Kors\, Lucaldo\nWall art with multiple different subjects like wildlife\, makeup\, pop culture\, maps\, and more\nHundreds of sets of linens\nOrnate Oak and Maple furniture for bedrooms\, living rooms\, and offices\nBeautiful Silk Scarves\nVintage clothing for men and women\nStunning handmade rugs with vibrant colors\nChristmas decorations perfect for the season\nCharger plates and hosting decorations for every occasion\nFestive Ceramic plates sets\nGardening books\nWoodworking books\nPolitical books\nmetal shoe rack\nwindow mirror\nStarbucks California ornaments\nLennox ceramic wear\nkicthen decor\nPoinsettia ceramic dish set\nSwans and cranes on ceramic pot\ndecorative wooden finches\nGreen ceramic tea set\nSigned Swedish crystal bowls\noverstuffed lounge chairs\nStetson hats\ndark wood 4 poster bed\nkitchen ware\nkitchen utensiles\nsmall kitchen appliances\nwooden bowls\nwooden barstools\nFlatware and Silverware\nglass and metal living room tables\nsnow shoes\ndining room tables with multiple chairs\nsmall TV’s\nWebber propane grills\nChar-Broil charcoal patio grill\nbeautiful potted jade\npatio furniture\nmultiple potted plants\nhanging lanterns\nPatio set with umbrella\, tile table and chairs\ngarden shelf\ntile top patio tables\nSamsung Washer and dryer\nammo boxes\ntools\nvices\nwoodworking bench\nrouter bits\nrouter table\ndrill bit indexes\ncarpentry and woodworking tools of all kinds\nstorage racks\, canned food\ncleaning supplies\noutdoor pathway lights\nwood clamps\ngolf clubs and walking caddy\ntons of hand tools and useful shop items\nhand router\nsand paper\nscrap project wood\nwood planes of all shapes and sizes\ndremel bits in case\nchisels and sockets\nwrenches\njack and jack stands\ntool organizer boxes and much more!
URL:https://fresnoauctioncompany.com/event/11-22-25/
LOCATION:851 E. Country View Circle Fresno\, CA 93730\, 851 E. Country View Circle\, Fresno\, CA\, 93730\, United States
CATEGORIES:Estate Auction
ATTACH;FMTTYPE=image/jpeg:https://fresnoauctioncompany.com/wp-content/uploads/2025/11/IMG_6555-scaled.jpg
END:VEVENT
BEGIN:VEVENT
DTSTART;TZID=America/Los_Angeles:20251129T080000
DTEND;TZID=America/Los_Angeles:20251129T170000
DTSTAMP:20260424T113944
CREATED:20251126T064005Z
LAST-MODIFIED:20251126T203558Z
UID:28447-1764403200-1764435600@fresnoauctioncompany.com
SUMMARY:11/29 Fowler Ave. Tools and Appliance Auction!
DESCRIPTION:Where: 11487 S Fowler Ave. Selma\, CA 93662\nOn Fowler between Floral and Nebraska Ave \nWhen: Saturday November 29nd\, 2025 at 10am\nPreview starting at 8am. Auction starts at 10am \nClick Here For Scrollable and Expandable Photos \nThis auction to include: \n\n26ft Enclosed Haulmark trailer\nMassey Ferguson Tractor\nMultiple shop air compressors\nSnap-On Commercial Air Compressor\nWestinghouse WGen7500 Generator\nRigid 14 Gal wet/dry Vac\nEgo single stage snow blower\nElectrolux commercial water heater\nLarge gun safe\nRigid Air Mover\nOrange Snap-On rolling tool chest\nBlack Cat iron stove\nIntek Pressure Washer\nIronton spray rig\nTruck tool boxes\ngarden bird baths\nmetal band saws\ncherry picker\nRadio Flyer wagon\nTroy-Bilt riding lawn mower\nfurniture of all kinds\nelectric fireplace\nbig buddy heater\nBeer advertisements\npaintings\nrecord player\nsporting equipment\ntable saw blades\ntrailer tongues and hitches\noutdoor lights\nriding helmet\ncat sculptures\ncleaning solutions\npottery\nMustang/Dodge hubcaps\nSmall shop vacs\nMagic mount phone holders\nbattery pack and chargers\nCraftsman chainsaws\nMilwaukee corded drill\ndiesel additives\nsocket sets\nball driver hex tools\ngravity feed spray guns\nhand tools\ndust mop treatment\nsubmersible pumps\nswing hangers\n5w20 motor oil\npneumatic impact wrenches\nrebel drill mitre\nGE power boxes\nRamsets and corded drills\nR-134A refrigerant\nchain binders\nhardwood cleaner\nratchet straps\nhorseshoe sets\nsky lights\ntrailer strap reels\nchains\njacks\nveterinary disinfectant\nnail/staple guns\nvacuums\nadult pads\nRidgid portable mitre arm saw\nmilk can\ntrailer foot with crank\nextension cords\nStack-On\, Snap-on tool boxes\npark bench and lunch tables\nParts washer\ndog crate\nlawnmowers\nand much more!
URL:https://fresnoauctioncompany.com/event/11-29-25/
LOCATION:11487 S Fowler Ave. Selma\, CA 93662\, 11487 S Fowler Ave\, Selma\, CA\, 93662\, United States
CATEGORIES:Estate Auction,Liquidation Auction
END:VEVENT
END:VCALENDAR