BEGIN:VCALENDAR
VERSION:2.0
PRODID:-//Fresno Estates &amp; Auction Company - ECPv6.15.18//NONSGML v1.0//EN
CALSCALE:GREGORIAN
METHOD:PUBLISH
X-ORIGINAL-URL:https://fresnoauctioncompany.com
X-WR-CALDESC:Events for Fresno Estates &amp; Auction Company
REFRESH-INTERVAL;VALUE=DURATION:PT1H
X-Robots-Tag:noindex
X-PUBLISHED-TTL:PT1H
BEGIN:VTIMEZONE
TZID:America/Los_Angeles
BEGIN:DAYLIGHT
TZOFFSETFROM:-0800
TZOFFSETTO:-0700
TZNAME:PDT
DTSTART:20240310T100000
END:DAYLIGHT
BEGIN:STANDARD
TZOFFSETFROM:-0700
TZOFFSETTO:-0800
TZNAME:PST
DTSTART:20241103T090000
END:STANDARD
BEGIN:DAYLIGHT
TZOFFSETFROM:-0800
TZOFFSETTO:-0700
TZNAME:PDT
DTSTART:20250309T100000
END:DAYLIGHT
BEGIN:STANDARD
TZOFFSETFROM:-0700
TZOFFSETTO:-0800
TZNAME:PST
DTSTART:20251102T090000
END:STANDARD
BEGIN:DAYLIGHT
TZOFFSETFROM:-0800
TZOFFSETTO:-0700
TZNAME:PDT
DTSTART:20260308T100000
END:DAYLIGHT
BEGIN:STANDARD
TZOFFSETFROM:-0700
TZOFFSETTO:-0800
TZNAME:PST
DTSTART:20261101T090000
END:STANDARD
END:VTIMEZONE
BEGIN:VEVENT
DTSTART;TZID=America/Los_Angeles:20250809T080000
DTEND;TZID=America/Los_Angeles:20250809T170000
DTSTAMP:20260424T182124
CREATED:20250807T185820Z
LAST-MODIFIED:20250807T222136Z
UID:25446-1754726400-1754758800@fresnoauctioncompany.com
SUMMARY:Welders\, Tools\, and Collectibles Auction 8/9/25
DESCRIPTION:Where: 648 Broadway St. Fresno\, CA 93721\nCross streets of Mono and Broadway \nWhen: August 9\, 2025 at 10AM\nPreview begins at 8AM \nScrollable and Expandable Photos Here! \nThis auction to include; \n\nMillermatic 250X Mig Welder\nDJI drone with built in camera and extra batteries\nShop press\n4 1/2″ Metal Cutting Band Saw\nCampbell Hausfeld Portable Air Tank\nCP AirCompressor\nCampbell Hausfeld air compressor\nChicago Parts Washer\n10 Ton Portable Puller Kit\nHitatchi Chainsaw\nassorted stick welding electrodes\npipe wrenches\nbattery tender\nMcCullough chainsaws\nlarge Makita chop saw\nOxyacetylene Cart\nvintage bait bucket\nDavid White transit and stand\nbearing set\n2 Honeywell Smartbox Power Inverter/Controller\nPortable Log Splitter\nRemington Branch Wizard Plus pole saw\nConcrete Vibrating tool\nMultiple Trailer hitch setups\nHydraulic control box\nMultiple saw blades and cutting tools\nrain gutter cleaning tool\ntire plug repair kit\nantique garden buckets\nboot and shoe cleaners\ntool boxes\nrivets and rivet gun\nheat shrink sleeves\nNorman P800-D power control box\ncomplete Oring set\nmisc pins\, anchors\, and small bolts\ngrinding wheels\nangle grinders\ndrills\nrotary tools\n3/4″ and 1″ drive sockets\nhose clamps\nfuses\nd-rings\nelectrical fence energizers\nplaymate ice chest\nlanterns\nworklights\nextension cords\nbeer steins\ncollectible bottles\nhome decorations\nstoneware-esque pots\nbeautiful paintings and prints\nmuch much more!
URL:https://fresnoauctioncompany.com/event/8-9-25/
LOCATION:Broadway Warehouse\, 648 Broadway Street\, Fresno\, CA\, 93721\, United States
CATEGORIES:Liquidation Auction
ATTACH;FMTTYPE=image/jpeg:https://fresnoauctioncompany.com/wp-content/uploads/2025/08/IMG_2068-scaled.jpg
END:VEVENT
BEGIN:VEVENT
DTSTART;TZID=America/Los_Angeles:20250815T090000
DTEND;TZID=America/Los_Angeles:20250815T140000
DTSTAMP:20260424T182124
CREATED:20250815T010052Z
LAST-MODIFIED:20250815T010321Z
UID:25832-1755248400-1755266400@fresnoauctioncompany.com
SUMMARY:Pop-Up Sale FRIDAY
DESCRIPTION:Where: 648 Broadway St.  Fresno\, CA 93721\nNorth of Cesar Chavez\, West of Van Ness \nWhen: August 15\, 2025 at 9AM\nNo Preview\, Doors open at 9AM! \nThis Pop-Up Tag sale will include; \n\nVintage Gas Pumps\nHundreds of LP\, 45 and misc. vinyl records\nStunning Heywood Wakefield Bedroom Furniture\nUnusual Antique Bowfront China cabinet\nVarious pieces of home furniture\nMultiple pieces of artwork\nCollectibles\nAntique C-Roll top secretary desks\nand Much More!
URL:https://fresnoauctioncompany.com/event/8-15-25/
LOCATION:648 Broadway\, 648 Broadway Street\, FRESNO\, CA\, 93721\, United States
CATEGORIES:Special Event
ATTACH;FMTTYPE=image/jpeg:https://fresnoauctioncompany.com/wp-content/uploads/2025/02/IMG_7225-scaled.jpg
END:VEVENT
BEGIN:VEVENT
DTSTART;TZID=America/Los_Angeles:20250816T080000
DTEND;TZID=America/Los_Angeles:20250816T170000
DTSTAMP:20260424T182124
CREATED:20250809T073438Z
LAST-MODIFIED:20250820T161655Z
UID:25534-1755331200-1755363600@fresnoauctioncompany.com
SUMMARY:Al's Distributing's HUGE All NEW Inventory Reduction Auction!
DESCRIPTION:Where: 1530 S Pearl St.  Fresno\, CA 93721\nSouth of Butler on Pearl \nWhen: August 16\, 2025 at 10AM\nPreview begins at 8AM \nScrollable and Expandable Photos Here! \nThis auction to include:\nAll new inventory! \n\n1/2″ drive socket sets\,\n10 inch buffer polishers\,\npliers\,\nplier sets\,\nflashlights\,\ncombination wrench sets\,\nallen wrench sets\,\nsocket adapter sets\,\nratchets and breaker bars\,\nBoxes of new supplies\,\nscrewdrivers\,\nInline blow guns\,\n3/8″ drive socket sets\,\nsheath knives\,\nscissors\,\noilers\,\nmagnets\,\nlarge adjustable vise\,\nfluid extractors\,\ncar care products\,\noil’s\,\nBondo\,\nsandpaper\,\nCollectible diecast car sets\,\nNylon line lock nut assortments\,\npistol grip wire strippers\,\nSpray guns and paint cups\,\nshrink tubing\,\nrefillable lunar spray bottles\,\nelectric R/C\, 1/18 scale\,\n4 wheel drive Rock Crawler toy\,\nswing spout containers\,\n3 ton Jack stands\,\nlubricants of all kinds\,\nbattery terminal ends\,\ncar dusters\,\ncar wash brushes\,\nfunnels\,\ntrailer jack’s\,\nchemical pumps and fuel pumps\,\nGrease guns\,\nbattery\nbooster\ncable sets\,\nHydraulic jack oil\,\nbarrel pumps\,\nantifreeze\,\nFast Orange\,\nshop towels and cloths\,\nGrease tubes\,\nBerryman B12 Chem Tool fuel injection cleaner\,\nSpray sealant\,\nIgloo 10 gallon and 3 gallon industrial drinking water containers\,\ntoolboxes\,\ngasoline cans\,\ntool sets\,\nindustrial cleaning products of all kinds\,\nassorted product sets of various types\,\nAC pro 134A a/c gages\,\nspray lubricant\,\nmagnetic parts trays\,\nlots of 3M products\,\nmaster locks\,\nimpact bit sets\,\nstud extractors\,\nlots of Dorman products\,\nwelding wire\,\nracing collectibles\,\nOil drain pans\,\nthrottle cables\,\nUpside down marking paint\,\n4 cycle 10/30 motor oil\,\n2 cycle engine oil\,\nrubbing compound\,\nStarting fluid\,\nDegreasing wipes\,\nhuge pallet lots of Wix filters\,\nauto rust proofing kits\,\nbike racks\,\nLiquid Wrench\,\nShami cloths\,\nGunk all purpose concentrated cleaner and degreaser\,\nabrasive discs of all sizes\,\npallet of bricks\,\npallets of gorilla rack shelving\,\nstand alone automotive shelving\,\nAnd much\, much more!!\nDon’t miss this great auction!!
URL:https://fresnoauctioncompany.com/event/8-16-25/
LOCATION:al\, 1530 S Pearl St.\, FRESNO\, CA\, 93721\, United States
CATEGORIES:Liquidation Auction
ATTACH;FMTTYPE=image/jpeg:https://fresnoauctioncompany.com/wp-content/uploads/2025/08/1000013747.jpg
END:VEVENT
BEGIN:VEVENT
DTSTART;TZID=America/Los_Angeles:20250816T090000
DTEND;TZID=America/Los_Angeles:20250816T150000
DTSTAMP:20260424T182124
CREATED:20250813T193834Z
LAST-MODIFIED:20250813T204643Z
UID:25700-1755334800-1755356400@fresnoauctioncompany.com
SUMMARY:2 Day Northwest Estate Sale with Antiques\, Quality Furniture & Cool Yard Items
DESCRIPTION:Where: 6467 N. Hazel Ave.  Fresno CA 93711\nEASY to find! West of Marks Ave. & Just North of Sierra Ave. \nWhen: August 16 & 17\, 2025 – Doors Opening at 9am\nOpen 9 to 3 each day \nScrollable and Expandable Photos Here! \nThis auction to include:\nAntique oak serpentine 4 drawer chest\,\nquality solid wood sideboard\,\nquality china cabinet with storage drawers\,\nantique entry table\,\nwrought iron and wood pub table\,\nupholstered chair and sofa\,\nQuality kitchenware\,\nRoyal Dalton Toby mugs and other items\,\nvintage Bauer mixing bowls\,\nEnglish porcelain cups and saucers\,\nfancy wall mirrors\,\nartwork\,\narea rugs\,\nantique drop front secretary\,\nBarstools\,\nFlat screen TVS\,\nantique mantle clocks\,\nquality women’s clothing and shoes\,\nAntique birdseye maple dresser with beveled mirror and matching bed frame\,\nantique oak upright player piano\,\nantique oak bench wrought iron yard items\,\nplant stands\,\nceramic and terracotta pots\,\nwoven patio furniture\,\ncement fountains\,\nrare 1960s Japanese Kamado grill\,\nAsian elephant garden seats\,\npatio table and chairs\,\nChristmas and holiday decorations\,\nbedroom sets\,\nlamps\,\nleather armchair\,\ndrum set\,\nvacuums\,\ncleaning supplies\,\nusable items of all kinds\,\ncollectibles\,\nbooks and much more!!
URL:https://fresnoauctioncompany.com/event/8-16-17-25/
LOCATION:Northwest Fresno Estate Sale\, 6467 N. Hazel Ave.\, FRESNO\, CA\, 93711\, United States
CATEGORIES:Estate Tag Sale
END:VEVENT
BEGIN:VEVENT
DTSTART;TZID=America/Los_Angeles:20250816T090000
DTEND;TZID=America/Los_Angeles:20250816T150000
DTSTAMP:20260424T182124
CREATED:20250813T193834Z
LAST-MODIFIED:20250813T204643Z
UID:25700-1755334800-1755356400@fresnoauctioncompany.com
SUMMARY:2 Day Northwest Estate Sale with Antiques\, Quality Furniture & Cool Yard Items
DESCRIPTION:Where: 6467 N. Hazel Ave.  Fresno CA 93711\nEASY to find! West of Marks Ave. & Just North of Sierra Ave. \nWhen: August 16 & 17\, 2025 – Doors Opening at 9am\nOpen 9 to 3 each day \nScrollable and Expandable Photos Here! \nThis auction to include:\nAntique oak serpentine 4 drawer chest\,\nquality solid wood sideboard\,\nquality china cabinet with storage drawers\,\nantique entry table\,\nwrought iron and wood pub table\,\nupholstered chair and sofa\,\nQuality kitchenware\,\nRoyal Dalton Toby mugs and other items\,\nvintage Bauer mixing bowls\,\nEnglish porcelain cups and saucers\,\nfancy wall mirrors\,\nartwork\,\narea rugs\,\nantique drop front secretary\,\nBarstools\,\nFlat screen TVS\,\nantique mantle clocks\,\nquality women’s clothing and shoes\,\nAntique birdseye maple dresser with beveled mirror and matching bed frame\,\nantique oak upright player piano\,\nantique oak bench wrought iron yard items\,\nplant stands\,\nceramic and terracotta pots\,\nwoven patio furniture\,\ncement fountains\,\nrare 1960s Japanese Kamado grill\,\nAsian elephant garden seats\,\npatio table and chairs\,\nChristmas and holiday decorations\,\nbedroom sets\,\nlamps\,\nleather armchair\,\ndrum set\,\nvacuums\,\ncleaning supplies\,\nusable items of all kinds\,\ncollectibles\,\nbooks and much more!!
URL:https://fresnoauctioncompany.com/event/8-16-17-25/
LOCATION:Northwest Fresno Estate Sale\, 6467 N. Hazel Ave.\, FRESNO\, CA\, 93711\, United States
CATEGORIES:Estate Tag Sale
END:VEVENT
BEGIN:VEVENT
DTSTART;TZID=America/Los_Angeles:20250823T080000
DTEND;TZID=America/Los_Angeles:20250823T170000
DTSTAMP:20260424T182124
CREATED:20250820T150716Z
LAST-MODIFIED:20250820T160123Z
UID:25836-1755936000-1755968400@fresnoauctioncompany.com
SUMMARY:DAY 2 -Final Al's Distributing's HUGE All NEW Inventory Reduction Auction!
DESCRIPTION:Where: 1530 S Pearl St.  Fresno\, CA 93721\nSouth of Butler on Pearl \nWhen: August 23\, 2025 at 10AM\nPreview begins at 8AM \nScrollable and Expandable Photos Here! \nThis auction to includes our 2nd and Final Day of Auction:\nAll new inventory! NEW PICTURES BELOW! \n\nGreat Western Heat Well Potbelly Cylinder Parlor Stove\nRack Shelving.\n1/2″ drive socket sets\,\n10 inch buffer polishers\,\npliers\,\nplier sets\,\nflashlights\,\ncombination wrench sets\,\nallen wrench sets\,\nsocket adapter sets\,\nratchets and breaker bars\,\nBoxes of new supplies\,\nscrewdrivers\,\nInline blow guns\,\n3/8″ drive socket sets\,\nsheath knives\,\nscissors\,\noilers\,\nmagnets\,\nlarge adjustable vise\,\nfluid extractors\,\ncar care products\,\noil’s\,\nBondo\,\nsandpaper\,\nCollectible diecast car sets\,\nNylon line lock nut assortments\,\npistol grip wire strippers\,\nSpray guns and paint cups\,\nshrink tubing\,\nrefillable lunar spray bottles\,\nelectric R/C\, 1/18 scale\,\n4 wheel drive Rock Crawler toy\,\nswing spout containers\,\n3 ton Jack stands\,\nlubricants of all kinds\,\nbattery terminal ends\,\ncar dusters\,\ncar wash brushes\,\nfunnels\,\ntrailer jack’s\,\nchemical pumps and fuel pumps\,\nGrease guns\,\nbattery\nbooster\ncable sets\,\nHydraulic jack oil\,\nbarrel pumps\,\nantifreeze\,\nFast Orange\,\nshop towels and cloths\,\nGrease tubes\,\nBerryman B12 Chem Tool fuel injection cleaner\,\nSpray sealant\,\nIgloo 10 gallon and 3 gallon industrial drinking water containers\,\ntoolboxes\,\ngasoline cans\,\ntool sets\,\nindustrial cleaning products of all kinds\,\nassorted product sets of various types\,\nAC pro 134A a/c gages\,\nspray lubricant\,\nmagnetic parts trays\,\nlots of 3M products\,\nmaster locks\,\nimpact bit sets\,\nstud extractors\,\nlots of Dorman products\,\nwelding wire\,\nracing collectibles\,\nOil drain pans\,\nthrottle cables\,\nUpside down marking paint\,\n4 cycle 10/30 motor oil\,\n2 cycle engine oil\,\nrubbing compound\,\nStarting fluid\,\nDegreasing wipes\,\nhuge pallet lots of Wix filters\,\nauto rust proofing kits\,\nbike racks\,\nLiquid Wrench\,\nShami cloths\,\nGunk all purpose concentrated cleaner and degreaser\,\nabrasive discs of all sizes\,\npallet of bricks\,\npallets of gorilla rack shelving\,\nstand alone automotive shelving\,\nAnd much\, much more!!\nDon’t miss this great auction!!
URL:https://fresnoauctioncompany.com/event/als-day-2/
LOCATION:Al’s Distributing\, 1530 S. Pearl Street\, Fresno\, CA\, 93721\, United States
CATEGORIES:Liquidation Auction
ATTACH;FMTTYPE=image/jpeg:https://fresnoauctioncompany.com/wp-content/uploads/2025/08/1000013747.jpg
END:VEVENT
BEGIN:VEVENT
DTSTART;TZID=America/Los_Angeles:20250824T080000
DTEND;TZID=America/Los_Angeles:20250824T170000
DTSTAMP:20260424T182124
CREATED:20250821T143743Z
LAST-MODIFIED:20250821T182808Z
UID:26020-1756022400-1756054800@fresnoauctioncompany.com
SUMMARY:SUNDAY Designer Purses\, Furs\, Shoes\, and More!
DESCRIPTION:Where: 648 Broadway St.  Fresno\, CA 93721\nNorth of Cesar Chavez\, West of Van Ness \nWhen: SUNDAY August 24\, 2025 at 10AM\nPreview at 8AM\, Auction starts at 10AM! \nScrollable and Expandable Google Photos Here! \nDISCLAIMER: The designer purses and clothes will not be on-site until the day of the auction. They are all Sheriff’s Recovered Property and you are at your own discretion to verify their authenticity. We do not guarantee the authenticity of these name brand designer pieces. We will give you all the information we have on each item. \nThis Auction To Include; \n\nHermès Birkin bags\nHermès Bolide bags\nHermès Jypsiere bags\nChanel quilted flap bags in various colors and finishes\nChanel Riding boots (size 36 1/2)\nBottega Veneta shoulder bag\nVersace tote\nLouis Vuitton handbags\, cross body bags\, purses\, and more\nYves Saint Lauren shoulder bag\nKate Spade wallets\nCoach purses and shoulder bags\nBalenciaga large tote\nPrada shoulder bags\nGucci shoes\nFerragamo evening shoes for men and women\ndozens of purses from consumer brands\nelegant evening furs\nbeautiful full size reproduction of “Springtime” by Pierre-Auguste Cot\nMultiple bags of misc jewelry\nMultiple bags of foreign paper money and coins\nSome Silver coins and pennies in booklets\nSilver Plate serving dishes and flatware\njewelry boxes\nChampion Generator\nPredator 4000 Generator\nHD MSR 5 Lug Rims and wheels\n(3) Visio 50-inch 4k UHD LED Smart TV’s\n(2) LG 50-inch 4k UHD Smart TV’s\nXbox 360 with two controllers\, Kinect\, carrying case\, visual cables\, and power source\nPelican Canoe\nHundreds of vintage records and dozens of Comic books\nGrandfather clock with scenic dial\n\n\n		\n		\n			\n				\n			\n			\n				\n			\n			\n				\n			\n			\n				\n			\n			\n				\n			\n			\n				\n			\n			\n				\n			\n			\n				\n			\n			\n				\n			\n			\n				\n			\n			\n				\n			\n			\n				\n			\n			\n				\n			\n			\n				\n			\n			\n				\n			\n			\n				\n			\n			\n				\n			\n			\n				\n			\n			\n				\n			\n			\n				\n			\n			\n				\n			\n			\n				\n			\n			\n				\n			\n			\n				\n			\n			\n				\n			\n			\n				\n			\n			\n				\n			\n			\n				\n			\n			\n				\n			\n			\n				\n			\n			\n				\n			\n			\n				\n			\n			\n				\n			\n			\n				\n			\n			\n				\n			\n			\n				\n			\n			\n				\n			\n			\n				\n			\n			\n				\n			\n			\n				\n			\n			\n				\n			\n			\n				\n			\n			\n				\n			\n			\n				\n			\n			\n				\n			\n			\n				\n			\n			\n				\n			\n			\n				\n			\n			\n				\n			\n			\n				\n			\n			\n				\n			\n			\n				\n			\n			\n				\n			\n			\n				\n			\n			\n				\n			\n			\n				\n			\n			\n				\n			\n			\n				\n			\n			\n				\n			\n			\n				\n			\n			\n				\n			\n			\n				\n			\n			\n				\n			\n			\n				\n			\n			\n				\n			\n			\n				\n			\n			\n				\n			\n			\n				\n			\n			\n				\n			\n			\n				\n			\n			\n				\n			\n			\n				\n			\n			\n				\n			\n			\n				\n			\n			\n				\n			\n			\n				\n			\n			\n				\n			\n			\n				\n			\n			\n				\n			\n			\n				\n			\n			\n				\n			\n			\n				\n			\n			\n				\n			\n			\n				\n			\n			\n				\n			\n			\n				\n			\n			\n				\n			\n			\n				\n			\n			\n				\n			\n			\n				\n			\n			\n				\n			\n			\n				\n			\n			\n				\n			\n			\n				\n			\n			\n				\n			\n			\n				\n			\n			\n				\n			\n			\n				\n			\n			\n				\n			\n			\n				\n			\n			\n				\n			\n			\n				\n			\n			\n				\n			\n			\n				\n			\n			\n				\n			\n			\n				\n			\n			\n				\n			\n			\n				\n			\n			\n				\n			\n			\n				\n			\n			\n				\n			\n			\n				\n			\n			\n				\n			\n			\n				\n			\n			\n				\n			\n			\n				\n			\n			\n				\n			\n			\n				\n			\n			\n				\n			\n			\n				\n			\n			\n				\n			\n			\n				\n			\n			\n				\n			\n			\n				\n			\n			\n				\n			\n			\n				\n			\n			\n				\n			\n			\n				\n			\n			\n				\n			\n			\n				\n			\n			\n				\n			\n			\n				\n			\n			\n				\n			\n			\n		\n\nm
URL:https://fresnoauctioncompany.com/event/8-24-25/
LOCATION:Broadway Warehouse\, 648 Broadway Street\, Fresno\, CA\, 93721\, United States
CATEGORIES:Liquidation Auction
ATTACH;FMTTYPE=image/jpeg:https://fresnoauctioncompany.com/wp-content/uploads/2025/08/IMG_2864-scaled.jpg
END:VEVENT
BEGIN:VEVENT
DTSTART;TZID=America/Los_Angeles:20250830T080000
DTEND;TZID=America/Los_Angeles:20250830T170000
DTSTAMP:20260424T182124
CREATED:20250827T010817Z
LAST-MODIFIED:20250827T031911Z
UID:26169-1756540800-1756573200@fresnoauctioncompany.com
SUMMARY:8-30-25 Sam's Party Rental Liquidation Auction 10am
DESCRIPTION:Where: 1950 Broadway St\, Fresno\, CA 93721\nNear the Corner of Broadway and Divisadero \nWhen: Saturday\, August 30\, 2025 at 10AM\nPreview at 8AM\, Auction starts at 10AM! \nScrollable and Expandable Google Photos Here! \nThis Auction to Include: \n\n1963 Chevy C20 Scelzi stake bed truck\,\n1989 Chevy High Sierra 2500 Scelzi stake bed truck\,\n17′ by 7 1/2′ gooseneck stake bed trailer.\nComplete stainless steel dishwashing line with 2 compartment tub sink and drain boards\,\n2 commercial water heaters\,\nwasher and dryer\,\ncrates and crates of various patterns of dishes\,\ncups and saucers\,\nbread and butter plates\,\nsalad plates\, glassware\, and much more.\nVintage Anchor Hocking Fire King platters\, cups and saucers and dishes.\nVarious stainless steel steam table inserts\,\nlots of aluminum sheet pans\,\nVintage Military Square Head field roasting pans\,\nbus tubs\,\npanrack\,\nsilverware\, of all kinds\,\ncommercial Rubbermaid utility kitchen carts\,\nExtension and a frame ladders\,\nMetal gorilla rack shelving\,\nnew electric countertop Pizza oven\,\nLots of glasses and dishwasher glass racks\,\nsmall crate sized pallets\,\n60 qt mixing bowl\,\nDecorator party items\,\nhand and power tools\,\n2 dance floors\,\n3 party tents\,\nSeveral risers\,\nround banquet tables\,\npatio heaters\,\nbooster high chairs\,\nrefrigerator\,\nmicrowave\,\nRestaurant utensils\,\npaper products\,\ncooler\,\ndesks\,\nMemorabilia of all kinds\,\nAnd much\, much more\nDon’t miss this Great auction!!!
URL:https://fresnoauctioncompany.com/event/8-30-25/
LOCATION:Sam’s Party Rental Auction Location\, 1950 Broadway St\, Fresno\, CA\, 93721\, United States
CATEGORIES:Liquidation Auction
ATTACH;FMTTYPE=image/jpeg:https://fresnoauctioncompany.com/wp-content/uploads/2025/08/20250826_150738-scaled.jpg
END:VEVENT
END:VCALENDAR