BEGIN:VCALENDAR
VERSION:2.0
PRODID:-//Fresno Estates &amp; Auction Company - ECPv6.15.18//NONSGML v1.0//EN
CALSCALE:GREGORIAN
METHOD:PUBLISH
X-WR-CALNAME:Fresno Estates &amp; Auction Company
X-ORIGINAL-URL:https://fresnoauctioncompany.com
X-WR-CALDESC:Events for Fresno Estates &amp; Auction Company
REFRESH-INTERVAL;VALUE=DURATION:PT1H
X-Robots-Tag:noindex
X-PUBLISHED-TTL:PT1H
BEGIN:VTIMEZONE
TZID:America/Los_Angeles
BEGIN:DAYLIGHT
TZOFFSETFROM:-0800
TZOFFSETTO:-0700
TZNAME:PDT
DTSTART:20240310T100000
END:DAYLIGHT
BEGIN:STANDARD
TZOFFSETFROM:-0700
TZOFFSETTO:-0800
TZNAME:PST
DTSTART:20241103T090000
END:STANDARD
BEGIN:DAYLIGHT
TZOFFSETFROM:-0800
TZOFFSETTO:-0700
TZNAME:PDT
DTSTART:20250309T100000
END:DAYLIGHT
BEGIN:STANDARD
TZOFFSETFROM:-0700
TZOFFSETTO:-0800
TZNAME:PST
DTSTART:20251102T090000
END:STANDARD
BEGIN:DAYLIGHT
TZOFFSETFROM:-0800
TZOFFSETTO:-0700
TZNAME:PDT
DTSTART:20260308T100000
END:DAYLIGHT
BEGIN:STANDARD
TZOFFSETFROM:-0700
TZOFFSETTO:-0800
TZNAME:PST
DTSTART:20261101T090000
END:STANDARD
END:VTIMEZONE
BEGIN:VEVENT
DTSTART;TZID=America/Los_Angeles:20250705T080000
DTEND;TZID=America/Los_Angeles:20250705T170000
DTSTAMP:20260424T195954
CREATED:20250604T044126Z
LAST-MODIFIED:20250703T030233Z
UID:24306-1751702400-1751734800@fresnoauctioncompany.com
SUMMARY:7-5-25 Sheriff's Recovered Property Auction at 648 Broadway Street
DESCRIPTION:Where: 648 Broadway St. Fresno\, CA 93721\nCross streets of Mono and Broadway \nWhen: July 5\, 2025 at 10AM\nPreview begins at 8AM \nThis auction to include; \nRigid pipe vise\nWeldapower g3000 generator welder\nStihl gas powered weedeater\nStihl ms391 chainsaw\npaint sprayer\nDrafting table\nBand Saw\nself contained air compressor\nOversized handheld chop saws\nelectric skilsaws\nmultiple cutoff saws\nlarge chain tool\ngas powered lawnmower\nlarge electric pipe threader\nHitachi power hammer\nhand tools\npry bars\nBlack and Decker ramsets\nSawsalls\nsanders\nMilwaukee heavy duty electric magnet drill\npalm sanders\nLaser plane transit\nDWG transit both with legs\nnail guns\nhand saws\nelectric screwdrivers\nSealife underwater camera system\nPalmer 600 psi Gauge\nmultiple nail guns both electric and pneumatic\ntool crates and organizers\ncanteen\nRC cars\ntoys\ncollectible figurines\ncologne\nantique art pictures\ngames of all sorts\nRyobi\, DeWalt\, Milwaukee\, Black and Decker power tools\nhard cover comics\nholiday decor\nantique match holder and striker\ncharcoal grill\nextension cords\nsmall car jack\nand much more! \nClick Here For Scrollable and Expandable Google Photos!
URL:https://fresnoauctioncompany.com/event/7-5-25/
LOCATION:648 Broadway\, 648 Broadway Street\, FRESNO\, CA\, 93721\, United States
CATEGORIES:Estate Auction
ATTACH;FMTTYPE=image/jpeg:https://fresnoauctioncompany.com/wp-content/uploads/2025/06/qtq80-UBaKRK-scaled.jpeg
END:VEVENT
BEGIN:VEVENT
DTSTART;TZID=America/Los_Angeles:20250712T080000
DTEND;TZID=America/Los_Angeles:20250712T120000
DTSTAMP:20260424T195954
CREATED:20250604T044320Z
LAST-MODIFIED:20250711T011803Z
UID:24310-1752307200-1752321600@fresnoauctioncompany.com
SUMMARY:7-12-25 Fresno "Storage Wars" Auction at Bekins Storage ....Yuuup! Mystery containers and Units
DESCRIPTION:Where: 2310 S. Santa Fe St. Visalia 93292 \nJack and Jeff Transfer for Bekins Storage\nSouth of Walnut on the East side of Santa Fe\nWhen: July 12\, 2025 at 10AM\nPreview begins at 8AM \nWe have over 40 large abandoned vaults up for auction! \nThe contents of each vault will be revealed at the time of the sale.\nCracked open at 8am with our standard 2 hour preview but no touching!\nSale will begin at 10amThe contents are a mystery to us and can range from tools to furniture to art\, to valuable antiques. Join us as we BID IT UP! \nThe Auction will be brief so be here at 10am or earlier so you don’t miss a thing!
URL:https://fresnoauctioncompany.com/event/7-12-25/
LOCATION:CA
CATEGORIES:Estate Auction,Liquidation Auction
ATTACH;FMTTYPE=image/jpeg:https://fresnoauctioncompany.com/wp-content/uploads/2025/06/IMG_9266-scaled.jpg
END:VEVENT
BEGIN:VEVENT
DTSTART;TZID=America/Los_Angeles:20250726T090000
DTEND;TZID=America/Los_Angeles:20250726T150000
DTSTAMP:20260424T195954
CREATED:20250722T023102Z
LAST-MODIFIED:20250723T055847Z
UID:25184-1753520400-1753542000@fresnoauctioncompany.com
SUMMARY:2 Day Madera Estate Sale with Rare Grandfather Clock\, Collectible Sculptures\, Yard Art\, and Antiques
DESCRIPTION:FIRST of 2 Weekend Sales \nWhere: 2352 Frederick Way 93637\nWest of 99 and South of Cleveland. Follow the signs \nWhen: Saturday & Sunday  July 26 & 27\, 2025\n9 to 3 pm Daily. Doors open at 9am \nClick here for google photo link \nThis Estate sale to include: \n\nRare Waterbury jewelers standing regulator # 61 eight day grandfather clock\,\nGerman and French restored regulator wall clocks\,\nBose CD player\,\nAntique and vintage pocket watch collection\,\nCostume jewelry\,\nLarge selection of Margaret Hudson’s sculptures\,\nLouis Vuitton wallets\,\nLarge collection of the yard art of all kinds\, including birdhouses\,\nHans Sumph Rare bird  feeder & Ball birdhouse\,\nWrought iron patio furniture\nPaolo Soleri Cosanti wind chimes\n2 antique lightning rods\nPotted plants of all kinds\nWoodworking equipment\nCraftsman table saw\nDelta 16 inch scroll saw\nCombination belt and disk sander\,\nVintage metal thermometers\,\nCement pagodas\n3 Native American grinding bowls\nLarge 5 piece cement fountain\nIron & wood park bench\nAntique entry table\nBistro sets\nRare vintage fob collection with 65 fobs\nFeather weight sewing machine\nLevi model 3 trucker jacket\,\nDecorated denim garments\nVintage woodworking tools\,\nAntique kids tool chests\,\nPottery\nGlassware\,\nConsole & tall dresser set\nAntique oak hall tree\nLarge stainless steel French Door refrigerator with ice & water in the door\nPocket knife collection\,\nLots of books\,\nHummel Figurines\nPerfumes\nCoach clutch and much much more!\n\n\n		\n		\n			\n				\n			\n			\n				\n			\n			\n				\n			\n			\n				\n			\n			\n				\n			\n			\n				\n			\n			\n				\n			\n			\n				\n			\n			\n				\n			\n			\n				\n			\n			\n				\n			\n			\n				\n			\n			\n				\n			\n			\n				\n			\n			\n				\n			\n			\n				\n			\n			\n				\n			\n			\n				\n			\n			\n				\n			\n			\n				\n			\n			\n				\n			\n			\n				\n			\n			\n				\n			\n			\n				\n			\n			\n				\n			\n			\n				\n			\n			\n				\n			\n			\n				\n			\n			\n				\n			\n			\n				\n			\n			\n				\n			\n			\n				\n			\n			\n				\n			\n			\n				\n			\n			\n				\n			\n			\n				\n			\n			\n				\n			\n			\n				\n			\n			\n				\n			\n			\n				\n			\n			\n				\n			\n			\n				\n			\n			\n				\n			\n			\n				\n			\n			\n				\n			\n			\n				\n			\n			\n				\n			\n			\n				\n			\n			\n				\n			\n			\n				\n			\n			\n				\n			\n			\n				\n			\n			\n				\n			\n			\n				\n			\n			\n				\n			\n			\n				\n			\n			\n				\n			\n			\n				\n			\n			\n				\n			\n			\n				\n			\n			\n				\n			\n			\n				\n			\n			\n				\n			\n			\n				\n			\n			\n				\n			\n			\n				\n			\n			\n				\n			\n			\n				\n			\n			\n				\n			\n			\n				\n			\n			\n				\n			\n			\n				\n			\n			\n				\n			\n			\n				\n			\n			\n				\n			\n			\n				\n			\n			\n				\n			\n			\n				\n			\n			\n				\n			\n			\n				\n			\n			\n				\n			\n			\n				\n			\n			\n				\n			\n			\n				\n			\n			\n				\n			\n			\n				\n			\n			\n				\n			\n			\n				\n			\n			\n				\n			\n			\n				\n			\n			\n				\n			\n			\n				\n			\n			\n				\n			\n			\n				\n			\n			\n				\n			\n			\n				\n			\n			\n				\n			\n			\n				\n			\n			\n				\n			\n			\n				\n			\n			\n				\n			\n			\n				\n			\n			\n				\n			\n			\n				\n			\n			\n				\n			\n			\n				\n			\n			\n				\n			\n			\n				\n			\n			\n				\n			\n			\n				\n			\n			\n				\n			\n			\n				\n			\n			\n				\n			\n			\n				\n			\n			\n				\n			\n			\n				\n			\n			\n				\n			\n			\n				\n			\n			\n				\n			\n			\n				\n			\n			\n				\n			\n			\n				\n			\n			\n				\n			\n			\n				\n			\n			\n				\n			\n			\n				\n			\n			\n				\n			\n			\n				\n			\n			\n				\n			\n			\n				\n			\n			\n				\n			\n			\n				\n			\n			\n				\n			\n			\n				\n			\n			\n				\n			\n			\n				\n			\n			\n				\n			\n			\n				\n			\n			\n				\n			\n			\n				\n			\n			\n				\n			\n			\n				\n			\n			\n				\n			\n			\n				\n			\n			\n				\n			\n			\n				\n			\n			\n				\n			\n			\n				\n			\n			\n				\n			\n			\n				\n			\n			\n				\n			\n			\n				\n			\n			\n				\n			\n			\n				\n			\n			\n				\n			\n			\n				\n			\n			\n				\n			\n			\n				\n			\n			\n				\n			\n			\n				\n			\n			\n				\n			\n			\n				\n			\n			\n				\n			\n			\n				\n			\n			\n				\n			\n			\n				\n			\n			\n				\n			\n			\n				\n			\n			\n				\n			\n			\n				\n			\n			\n				\n			\n			\n				\n			\n			\n				\n			\n			\n				\n			\n			\n				\n			\n			\n				\n			\n			\n				\n			\n			\n				\n			\n			\n				\n			\n			\n				\n			\n			\n				\n			\n			\n				\n			\n			\n				\n			\n			\n				\n			\n			\n				\n			\n			\n				\n			\n			\n				\n			\n			\n				\n			\n			\n				\n			\n			\n				\n			\n			\n				\n			\n			\n				\n			\n			\n				\n			\n			\n				\n			\n			\n				\n			\n			\n				\n			\n			\n				\n			\n			\n				\n			\n			\n				\n			\n			\n				\n			\n			\n				\n			\n			\n				\n			\n			\n				\n			\n			\n				\n			\n			\n				\n			\n			\n				\n			\n			\n				\n			\n			\n				\n			\n			\n				\n			\n			\n				\n			\n			\n				\n			\n			\n				\n			\n			\n				\n			\n			\n				\n			\n			\n				\n			\n			\n				\n			\n			\n				\n			\n			\n				\n			\n			\n				\n			\n			\n				\n			\n			\n				\n			\n			\n				\n			\n			\n				\n			\n			\n				\n			\n			\n				\n			\n			\n				\n			\n			\n				\n			\n			\n				\n			\n			\n				\n			\n			\n				\n			\n			\n				\n			\n			\n				\n			\n			\n				\n			\n			\n				\n			\n		\n\n 
URL:https://fresnoauctioncompany.com/event/7-26-27-25/
LOCATION:Madera Estate Tag Sale\, 2352 Frederick Way\,\, Madera\, CA\, 93637\, United States
CATEGORIES:Estate Tag Sale
ATTACH;FMTTYPE=image/jpeg:https://fresnoauctioncompany.com/wp-content/uploads/2025/07/qtq80-nscUpV-scaled.jpeg
END:VEVENT
BEGIN:VEVENT
DTSTART;TZID=America/Los_Angeles:20250729T080000
DTEND;TZID=America/Los_Angeles:20250729T140000
DTSTAMP:20260424T195954
CREATED:20250722T021833Z
LAST-MODIFIED:20250723T064852Z
UID:25179-1753776000-1753797600@fresnoauctioncompany.com
SUMMARY:Tuesday 7-29-25 Farm Equipment Liquidation Auction 10am
DESCRIPTION:Where: 5545 W. Dakota Ave. Fresno CA 93722\nSouthwest corner of Dakota and Polk Aves. \nWhen: July 29\, 2025 at 10AM\nPreview begins at 8AM \nClick here for google expandable and scrollable photos \nThis auction to include \n\n32″ Denair Hydraulic tilt flat bed trailer\n1993 Ford F450 super duty diesel dually truck with Scelzi flatbed\,\n2 Ramacher nut harvesters\,\nAgrator 3pt PTO shredder\,\nseveral 3 point PTO sweepers\,\nheavy duty tandem disc\,\nseveral heavy duty offset discs\,\ntowable PTO spray rig with 150 gallon stainless steel tank\,\nMarvin Oxnard heavy duty 3pt tandem disc\,\nheavy duty offset hydraulic assist wheel disc\,\n3pt PTO sulfur machine\,\nseveral sets 3pt ridgers; one is a Domries\,\nseveral sets 3pt flat furrows\,\ntowable roller\,\nhydraulic setups\,\ntowable blocker\,\n3pt brush fork\,\n3pt rotating harrow\,\n3pt spring tooth plow\,\n3pt border disc\,\n3pt blower\,\nmiscellaneous tools\,\ntoolbox\,\nfuel cans\,\nportable air compressor\,\nvintage wood sauna\,\nvintage picking box hand cart\,\nExide portable battery charger\,\nBaldor bench grinder\, and more.
URL:https://fresnoauctioncompany.com/event/7-29-25/
LOCATION:Farm Auction 7-29-25\, 5545 W. Dakota Ave.\, FRESNO\, CA\, 93722-2200\, United States
CATEGORIES:Liquidation Auction
ATTACH;FMTTYPE=image/jpeg:https://fresnoauctioncompany.com/wp-content/uploads/2025/07/20250721_161503-scaled-e1753150617195.jpg
END:VEVENT
END:VCALENDAR