BEGIN:VCALENDAR
VERSION:2.0
PRODID:-//Fresno Estates &amp; Auction Company - ECPv6.15.18//NONSGML v1.0//EN
CALSCALE:GREGORIAN
METHOD:PUBLISH
X-ORIGINAL-URL:https://fresnoauctioncompany.com
X-WR-CALDESC:Events for Fresno Estates &amp; Auction Company
REFRESH-INTERVAL;VALUE=DURATION:PT1H
X-Robots-Tag:noindex
X-PUBLISHED-TTL:PT1H
BEGIN:VTIMEZONE
TZID:America/Los_Angeles
BEGIN:DAYLIGHT
TZOFFSETFROM:-0800
TZOFFSETTO:-0700
TZNAME:PDT
DTSTART:20230312T100000
END:DAYLIGHT
BEGIN:STANDARD
TZOFFSETFROM:-0700
TZOFFSETTO:-0800
TZNAME:PST
DTSTART:20231105T090000
END:STANDARD
BEGIN:DAYLIGHT
TZOFFSETFROM:-0800
TZOFFSETTO:-0700
TZNAME:PDT
DTSTART:20240310T100000
END:DAYLIGHT
BEGIN:STANDARD
TZOFFSETFROM:-0700
TZOFFSETTO:-0800
TZNAME:PST
DTSTART:20241103T090000
END:STANDARD
BEGIN:DAYLIGHT
TZOFFSETFROM:-0800
TZOFFSETTO:-0700
TZNAME:PDT
DTSTART:20250309T100000
END:DAYLIGHT
BEGIN:STANDARD
TZOFFSETFROM:-0700
TZOFFSETTO:-0800
TZNAME:PST
DTSTART:20251102T090000
END:STANDARD
END:VTIMEZONE
BEGIN:VEVENT
DTSTART;TZID=America/Los_Angeles:20240713T080000
DTEND;TZID=America/Los_Angeles:20240713T170000
DTSTAMP:20260424T115344
CREATED:20240704T223744Z
LAST-MODIFIED:20240709T010539Z
UID:17934-1720857600-1720890000@fresnoauctioncompany.com
SUMMARY:7-13-24 99 Cent Only Store Liquidation Auction with Fixtures and Shelving (No Product) 10am
DESCRIPTION:Where: 6036 N. First Avenue Fresno\, CA 93710\nOn First at Bullard Ave.\nWhen: Saturday\, July 13\, 2024 10am\nAuction will begin at 10:00 a.m. with a preview beginning at 8:00 am \nPlease feel free to contact Steve at 559-930-7218 for more info and details! \nClick HERE for Google Expandable & Searchable photos \nThis Saturday 7-13-24. We will be liquidating\, by auction\, the entire contents of the 99Cent Only store\, located at Bullard and First Streets in  Fresno\, CA. \nThe auction consists of fixtures only and includes;\n\n\nBaletech model V60 cardboard baler that makes 60″×30″×45″ bales\,\n2 door ice merchandiser\,\n3 door safe with keys\,\nTrue single door display refrigerator\,\n5 door reach in display freezer\,\n8 door reach in display refrigerator\,\nApproximately 750 linear feet of 48 inch double side gondola metal shelving\,\nApproximately 250 Linear feet of 48 inch wall gondola shelving\,\nproduce merchandisers\,\ndisplay riser tables\,\nbanana riser table and other display racks\,\nproduce bags and stands\,\npallet sign holders\,\nsign holders\,\nutility cart\,\nU boat rolling carts\,\nshopping carts and 2 cart corrals\,\nproduce scales\,\nSelf-contained self-serve open air coolers\,\nComplete checkout counters with belt\,\nNCR scanners/scales\, printers\, etc\,\nportable generator\,\ncases of paper hand towels\,\ncases of produce bags\,\ncases of trash can liners\,\npallet of pegboard hooks\,\npallet of price tags\,\n3 bales of cardboard\, and more.\n\nEverything must go!  Don’t miss this auction!
URL:https://fresnoauctioncompany.com/event/7-13-24/
LOCATION:CA
CATEGORIES:Estate Auction
ATTACH;FMTTYPE=image/jpeg:https://fresnoauctioncompany.com/wp-content/uploads/2024/07/20240704_154511.jpg
END:VEVENT
BEGIN:VEVENT
DTSTART;TZID=America/Los_Angeles:20240720T080000
DTEND;TZID=America/Los_Angeles:20240720T170000
DTSTAMP:20260424T115344
CREATED:20240624T170521Z
LAST-MODIFIED:20240717T033813Z
UID:17504-1721462400-1721494800@fresnoauctioncompany.com
SUMMARY:7-20-24 Precision Automotive Liquidation Auction - 10am
DESCRIPTION:Where: 1032 E. Barstow Avenue Clovis\, CA 93612\nOn Barstow\, between Clovis & Sunnyside.\nWhen: Saturday\, July 20\, 2024 10am\nAuction will begin at 10:00 a.m. with a preview beginning at 8:00 a.m\n\nPlease feel free to contact Steve at 559-930-7218 for more info and details! \nClick HERE for Google Expandable & Searchable photos \nThe items up for Auction include: \n\nBendPak\, model hd-12xB. heavy duty 12\,000lb. 4 post lift\,\nAmmco break lathe with tooling\nHunter\, model OCL410\, On car break lathe\nRobinair Cool Tech ID refrigerant identifier\n1998 Dodge ram 1500 V8 as is\nCherry picker and engine stand\nCoil spring compressor\nHarley parts\nHeavy Duty tri-pod jack\nBoat anchors\n350 Chevy engine and transmission\nMega Mate Environmental parts washer\nAdvertising banners\, clocks and signs\nMisc. usable products\nMetal work Benches\nVintage Corvette valve covers\nWeiand aluminum high rise intake with double pump Carburetors for 450 Chevy\nVarious vintage Carburetors\nVector battery charger\nNew Vevor portable waste oil drain tanks\nShop work stools\nAir hose reel\nM7 1″ air gun with sockets\nSnap-on\, model MT3750AVR\, battery load tester\nHuge collection of Mitchell repair books\nSnap-on\, model BC4200\, fast charger battery charger\nFord Cam tools set\nChampion fuel system tune-up ready box\nVideo Stik Flexible inspection scope\nEnerpac Turbo II pneumatic foot control\nGM 4 and 6 cylinder cam tool sets\nGM timing tool kit\nEvercraft torsion bar tool kit\nMaster Cool\, model 55100\, electronic leak detector\n4WD lock nut socket set\nMisc. air tools\nSeveral set of various jack stands\nTool carts\nMatco 4 ton Portapower\nSnap-on creeper\nOTC leak tamer plus evap. leak detection system\nRemington shop heater\nBreak bleeder\nChop saw\noil and grease drum dispensers\nLots of Gorilla rack stand alone shelving\nBolt and nut organizers\nRefrigerator and Microwave\nOffice desk and lobby furniture\n& Much More.
URL:https://fresnoauctioncompany.com/event/7-20-24/
LOCATION:CA
CATEGORIES:Estate Auction
ATTACH;FMTTYPE=image/jpeg:https://fresnoauctioncompany.com/wp-content/uploads/2024/06/20240624_101248-scaled.jpg
END:VEVENT
BEGIN:VEVENT
DTSTART;TZID=America/Los_Angeles:20240727T080000
DTEND;TZID=America/Los_Angeles:20240727T170000
DTSTAMP:20260424T115345
CREATED:20240624T172430Z
LAST-MODIFIED:20240725T061515Z
UID:17508-1722067200-1722099600@fresnoauctioncompany.com
SUMMARY:7-27-24  Salinas Estate Auction with Vintage Project Cars\, 2014 F-150\, 2012 Camero II SS\, Kubota Tractor w/ Loader & More!
DESCRIPTION:Where: 8550 Wild Horse Road  Salinas\, CA 93907\nFrom Fresno: Take Hwy 99 North TO Hwy 152 W. Continue on 152 W TO US-101 S to Blackie Rd in Prunedale. Take Cross Rd and Pesante Rd to Wild Horse Rd\nOR use Google Maps from your location\nWhen: Saturday\, July 27\, 2024 10am\nAuction will begin at 10:00 a.m. with a preview beginning at 8:00 a.m\nIMPORTANT NOTICE: CELLULAR RECEPTION IN THIS AREA IS SPOTTY & THERE WILL BE A FORKLIFT ON SITE FOR LOAD OUT\nPlease feel free to contact Steve at 559-930-7218 for more info and details! \n-Click HERE for Google Expandable & Searchable photos ADDITIONAL PHOTOS TO BE POSTED 7-25-24 \n\n\nThis Huge AUCTION INCLUDES:\n2014 Ford F150 STX Sport 4×4 extended cab pickup less than 50\,000 miles\, with snug top camper shell\,\n2012 45th anniversary Chevy Camaro\, with 23000 miles\,\nKubota Model 2154 wheel drive compact tractor with L. A 350 front end loader with 1383 Hours\,\n6.5′ by 16′ tandem axle flatbed trailer with expanded metal racks\,\nJohn Deere model 40 tractor\,\n6 rare vintage American made Anvils. Including; Vulcan Brand\, Dennis Wright\, Peter Wright and Pexton.\nlots of Anvil tooling.\nProject cars\, including\n\nrare 1955 Chevy Nomad\,\n1955 Chevy 2 door \,\n1935 Ford Coupe\,\n1935 Ford pick up\,\n1953 Willie’s Jeep\,\nEarly Ford Model T\,\n\n\nEurosport Sunbird 22′ speedboat with tandem axle trailer\,\nEagle model SS 7000 XLT 4 post car lift\,\nQuincy 7.5 hp 2 stage 80 gallon heavy duty industrial cast Iron air compressor\,\nBrave 34ton 8hp heavy duty portable log splitter\,\nOrtolan model L52 3pt PTO rototiller\,\nGearmore 3 point PTO mower\,\nGearmore 3 point Gannon style box scraper\,\nYork Rake 3pt rock rake\,\n.D. front end loader attachment\,\nFull size AERMOTOR windmill\,\nrare AERMOTOR water pump\,\nMillermatic model 150 wire feed welder\,\nMiller Synchrowave model 180SD welder\,\nOxy/Ace set\,\n4.5 foot metal cutting band saw\,\nPneumatic portable sandblast unit\,\nPexto # 137 stomp shear\,\nChicago model W – 31  metal bending break\,\nmetal bender\,\nHotsey steam cleaner\,\n6 inch Jointer\,\n20 ton press\,\nKohler generator\,\nPeck\, Stow and Wilcox  model 381-D Slip roll\,\nBeverly Shear model B-2A\,\nJet 14 inch wood cutting band saw model # JBS-14\,\nDelta Rockwell wood lathe\,\nDelta Rockwell metal lathe\,\nBaldor 1.5hp pedestal grinder\,\nTrisk Model S214d Curemaster Super digital portable auto body cure lamp\,\nAntiques and collectibles including;\n1930’s pool table\,\nwagon wheels\,\nsafe\,\nlanterns\,\nbottles\,\nglassware and china\,\nsigns\,\nlarge fancy wood stove\,\nlots of deep sea and spincast poles\,\nreels and tackle\,\nlarge mounted sailfish\,\nlarge antique cash register and much more!!
URL:https://fresnoauctioncompany.com/event/7-27-24/
LOCATION:CA
CATEGORIES:Estate Auction
ATTACH;FMTTYPE=image/jpeg:https://fresnoauctioncompany.com/wp-content/uploads/2024/06/20240624_104530-2-scaled.jpg
END:VEVENT
END:VCALENDAR