BEGIN:VCALENDAR
VERSION:2.0
PRODID:-//Fresno Estates &amp; Auction Company - ECPv6.15.18//NONSGML v1.0//EN
CALSCALE:GREGORIAN
METHOD:PUBLISH
X-ORIGINAL-URL:https://fresnoauctioncompany.com
X-WR-CALDESC:Events for Fresno Estates &amp; Auction Company
REFRESH-INTERVAL;VALUE=DURATION:PT1H
X-Robots-Tag:noindex
X-PUBLISHED-TTL:PT1H
BEGIN:VTIMEZONE
TZID:America/Los_Angeles
BEGIN:DAYLIGHT
TZOFFSETFROM:-0800
TZOFFSETTO:-0700
TZNAME:PDT
DTSTART:20220313T100000
END:DAYLIGHT
BEGIN:STANDARD
TZOFFSETFROM:-0700
TZOFFSETTO:-0800
TZNAME:PST
DTSTART:20221106T090000
END:STANDARD
BEGIN:DAYLIGHT
TZOFFSETFROM:-0800
TZOFFSETTO:-0700
TZNAME:PDT
DTSTART:20230312T100000
END:DAYLIGHT
BEGIN:STANDARD
TZOFFSETFROM:-0700
TZOFFSETTO:-0800
TZNAME:PST
DTSTART:20231105T090000
END:STANDARD
BEGIN:DAYLIGHT
TZOFFSETFROM:-0800
TZOFFSETTO:-0700
TZNAME:PDT
DTSTART:20240310T100000
END:DAYLIGHT
BEGIN:STANDARD
TZOFFSETFROM:-0700
TZOFFSETTO:-0800
TZNAME:PST
DTSTART:20241103T090000
END:STANDARD
END:VTIMEZONE
BEGIN:VEVENT
DTSTART;TZID=America/Los_Angeles:20231202T080000
DTEND;TZID=America/Los_Angeles:20231202T160000
DTSTAMP:20260421T065901
CREATED:20231129T164443Z
LAST-MODIFIED:20231129T173326Z
UID:13085-1701504000-1701532800@fresnoauctioncompany.com
SUMMARY:12-2-23 Fresno Estate Auction with Multiple Vehicles\, Motorcycles\, Vintage and More!- 10am
DESCRIPTION:Where: 4585 North Hayes Avenue Fresno California 93723\nThe property is West of Highway 99 between Shaw Avenue and Gettysburg Avenue.\n\nWhen: Saturday\, December 2\, 2023\nAuction will begin at 10:00 a.m. with a preview beginning at 8:00 a.m.\n\n\nClick HERE  for scrollable and expandable google photos \n\n\n\nThis Auction Features: \n\nSeveral aluminum ladders (In case you are still putting up Christmas lights)\n2008 GMC Sierra SWB single cab pickup\,\n2017 Harley-Davidson Limited with 107 engine\,\n2007 Mercury Grand Marquis\,\n2007 Chevy Colorado pickup\,\n1998 Ford Crown Vic\,\n1950 Ford 2 door sedan project car\,\n1941 Dodge pickup project truck\,\nPagsta short Chopper motorcycle\nCool two seat FCC police Taylor Dunn style Electric cart\,\nrare 1974 Trans Am hood\,\nmatched sets of vintage California license plates\,\nCraftsman radial arm saw\,\nvintage Craftsman drill press\,\nCraftsman table saw\,\nchainsaws\,\nElectric weed eaters\,\nshop vacs\,\nMiller welder\,\ntoolbox\,\nvarious tools\,\nlarge shop fan\,\nlateral file cabinet for storage\,\nrare Vendo Westinghouse coin-op top load embossed Coca-Cola machine\,\nwheelbarrow and carts\,\ncollectibles\,\nantique oak wall phone\,\nantique curved glass Oak China cabinet\,\nold hall tree\,\noriginal Elvis artwork\,\nother Collectibles and usable items\n\n#comebidwithus
URL:https://fresnoauctioncompany.com/event/12-2-23-2/
LOCATION:Hayes\, 4585 N Hayes Avenue\, Fresno\, CA\, 93723\, United States
CATEGORIES:Estate Auction
ATTACH;FMTTYPE=image/jpeg:https://fresnoauctioncompany.com/wp-content/uploads/2023/11/1-2-scaled.jpg
END:VEVENT
BEGIN:VEVENT
DTSTART;TZID=America/Los_Angeles:20231209T080000
DTEND;TZID=America/Los_Angeles:20231209T170000
DTSTAMP:20260421T065901
CREATED:20231123T024704Z
LAST-MODIFIED:20231207T053000Z
UID:13066-1702108800-1702141200@fresnoauctioncompany.com
SUMMARY:12-9-23 - By Order of the Fresno County Public Administrator - Auberry Estate Auction 10am with Vehicles\, Log Splitter\, Gun Safe\, Fishing Gear & MORE!
DESCRIPTION:Where: 31902 Rockhill Lane  Auberry CA 93602. \nThe property is north of Auberry road and left (north) on Rock Hill Road. Pease follow the signs\n\nWhen: Saturday\, December 9\, 2023 at 10am\nAuction will begin at 10:00 a.m. with a preview beginning at 8:00 a.m.\n\n\nClick HERE  for scrollable and expandable google photos \n\nItems to be sold include:\n\n2 New GUNS were found in the rafters & JUST ADDED to Auction\n    Details are listen with photos below!\n2009 Toyota Highlander four-wheel drive with 106\,000 mi\,\n1995 Toyota T100 LWB pickup\,\n1992 Hobie Cat 16.5 ft Catamaran with a 28.5 mast\,\n22 ton towable commercial log splitter\,\nlarge Liberty Gun safe\,\ncords of split firewood\,\nstacks of bricks and pavers\,\nvintage fire hydrant\,\ncement bird bath and benches\,\ncamping gear\,\nquality fishing poles and reels\,\nhuge collection of lures for fresh and saltwater\,\nCraftsman 17 inch 16-speed 3/4 horsepower drill press\,\nCraftsman 12-in belt drive bandsaw\,\nCraftsman combo sander\,\nCraftsman table saw\,\nblack stainless steel front side X side refrigerator freezer\,\nPanasonic inverter microwave\,\nmatching Kenmore washer and Electric dryer\,\nusable items of all kinds\,\nlots of Craftsman hand tools\,\nmatching washer dryer\,\nartwork\,\nset of Callaway XR woods and Hogan Edge irons\,\ncollection of collectible bobbleheads\,\nfull set of iron free weights\,\nart pottery\,\nhand-built scale boat models\,\ndiecast cars\,\ndiecast Texaco airplanes\,\nquality cookware\,\ndining room table and chairs\,\nsofa and recliners\,\nbeds and bedroom furniture\,\nmen’s clothing\,\nmetal gorilla rack garage shelving\,\nCraftsman 3 horsepower air compressor\,\nlots of power tools\,\nwoodworking tools\,\nextension cords\,\nlots of large and small ice chests\,\ntwo pair of ATV/ motorcycle ramps\,\nwell organized selection of nuts\, bolts\, washers\, nails and more everything you need to do home repairs\,\nnew craftsman transit\,\nCraftsman twin cutter saw\,\nDeWalt 18 volt cordless drill\,\nSkill Worm Drive circular saw\,\nlots of wood\, and quality building materials\,\nfull pantry of food and wine\,\nquality knife sets\,\nquality cookware\,\nTVs of all kinds\,\nhuge collection of micro trains\,\nquality JVC stack stereo system with speakers\, and much much more!\nLots of great items\ndon’t miss this auction!!\n\n#comebidwith us\n\n		\n		\n			\n				\n			\n				\n				Just Found In the attic and added to the  Auction Winchester 88 Cal..308 WIN\n				\n			\n				\n			\n				\n				Winchester stock detail photo\n				\n			\n				\n			\n				\n				Sears & Roebuck Model 21 12-guage Sears Ted Williams
URL:https://fresnoauctioncompany.com/event/12-9-23/
LOCATION:12-9\, 31902 Rockhill Lane\, Auberry\, CA\, 93602\, United States
CATEGORIES:Estate Auction
ATTACH;FMTTYPE=image/jpeg:https://fresnoauctioncompany.com/wp-content/uploads/2023/11/20230922_102808-scaled.jpg
END:VEVENT
BEGIN:VEVENT
DTSTART;TZID=America/Los_Angeles:20231210T080000
DTEND;TZID=America/Los_Angeles:20231210T080000
DTSTAMP:20260421T065901
CREATED:20231205T041530Z
LAST-MODIFIED:20231207T053749Z
UID:13382-1702195200-1702195200@fresnoauctioncompany.com
SUMMARY:12-10-23 In collaboration with Big Valley Estates- SUNDAY MADERA Ranchos AUCTION 10am with Vehicles\, Riding lawn mower\, golf cart  plus Much More
DESCRIPTION:Where: 35079 Bonadelle Ave. Madera CA 93636\n\nClick here for link to upcoming Dec. 10 Big Valley Event page and photos\nFurther details Call Frank 559-790-8598\n\nWhen: SUNDAY\, December 10\, 2023 at 10am\nAuction will begin at 10:00 a.m. with a preview beginning at 8:00 a.m.\n\n\nClick HERE  for scrollable and expandable google photos \n\n\n\nDecember 10\, 2023 AUCTION-MADERA CA- Details coming\n\n\n\n\n\n​Two 1965 Pontiac Bonneville convertible body parts\n\n\n\n\n\n1960s Model I-60 Hough Loader. Cummings engine. Hydraulics work. \n\n\n\n\n\nPressure treated wood for trailer decking. \n\n\n\n\n\n2.5” high x 5.375” wide x 8ft long\n\n\n\n\n\n1989 Serengeti Safari Motorhome by Oshkosh. Diesel pusher engine. Reads 54\,193 miles. Includes Koehler Generator. Runs great. \n\n\n\n\n\nHonda lawnmower \n\n\n\n\n\nCraftsman Riding 6 speed turbo cooled lawnmower \n\n\n\n\n\n2009 EZ go Golf Cart by Textron. Electric. \n\n\n\n\n\nBriggs and Stratton lawnmower. \n\n\n\n\n\nRototiller by Troy 6.75 Engine\n\n\n\n\n\n2004 Blue Dodge Ram 3500. diesel 153\,00 miles !\n\n\n\n\n\n2008 Red Dodge Magnum \n\n\n\n\n\n74\,000 miles\n\n\n\n\n\n1926 Ford Model T \n\n\n\n\n\n5 window coupe. Runs\n\n\n\n\n\n1972 Suzuki Enduro. Model 90. Runs \n\n\n\n\n\nToro lawnmower 7.25 torque 163 cc. Runs \n\n\n\n\n\nRockwell Drill press with lots of bits. \n\n\n\n\n\n1976 Ford 900 fuel truck\n\n\n\n\n\nRt610 engine. 10 speed transmission.\n\n\n		\n		\n			\n				\n			\n			\n				\n			\n			\n				\n			\n			\n				\n			\n			\n				\n			\n			\n				\n			\n			\n				\n			\n			\n				\n			\n			\n				\n			\n			\n				\n			\n			\n				\n			\n			\n				\n			\n			\n				\n			\n			\n				\n			\n			\n				\n			\n			\n				\n			\n			\n				\n			\n			\n				\n			\n			\n				\n			\n			\n				\n			\n			\n				\n			\n			\n				\n			\n			\n				\n			\n			\n				\n			\n			\n				\n			\n			\n				\n			\n			\n				\n			\n			\n				\n			\n			\n				\n			\n			\n				\n			\n			\n				\n			\n			\n				\n			\n			\n				\n			\n			\n				\n			\n			\n				\n			\n			\n				\n			\n			\n				\n			\n			\n				\n			\n			\n				\n			\n			\n				\n			\n			\n				\n			\n			\n				\n			\n			\n				\n			\n			\n				\n			\n			\n				\n			\n			\n				\n			\n			\n				\n			\n			\n				\n			\n			\n				\n			\n			\n				\n			\n			\n				\n			\n			\n				\n			\n			\n				\n			\n			\n				\n			\n			\n				\n			\n			\n				\n			\n			\n				\n			\n			\n				\n			\n			\n				\n			\n			\n				\n			\n			\n				\n			\n			\n				\n			\n			\n				\n			\n			\n				\n			\n			\n				\n			\n			\n				\n			\n			\n				\n			\n			\n				\n			\n			\n				\n			\n			\n				\n			\n			\n				\n			\n			\n				\n			\n			\n				\n			\n			\n				\n			\n			\n				\n			\n			\n				\n			\n			\n				\n			\n			\n				\n			\n			\n				\n			\n			\n				\n			\n			\n				\n			\n			\n				\n			\n			\n				\n			\n			\n				\n			\n			\n				\n			\n			\n				\n			\n			\n				\n			\n			\n				\n			\n			\n				\n			\n			\n				\n			\n			\n				\n			\n			\n				\n			\n			\n				\n			\n			\n				\n			\n			\n				\n			\n			\n				\n			\n			\n				\n			\n			\n				\n			\n			\n				\n			\n			\n				\n			\n			\n				\n			\n			\n				\n			\n			\n				\n			\n			\n				\n			\n			\n				\n			\n			\n				\n			\n			\n		\n\n 
URL:https://fresnoauctioncompany.com/event/12-10-23/
LOCATION:12-10\, 35079 Bonadelle Ave.\, Madera\, CA\, 93636\, United States
CATEGORIES:Estate Auction
ATTACH;FMTTYPE=image/jpeg:https://fresnoauctioncompany.com/wp-content/uploads/2023/12/6AFCECE9-FBC3-4CC1-8EE6-68FBF5A92C8D-scaled.jpeg
END:VEVENT
BEGIN:VEVENT
DTSTART;TZID=America/Los_Angeles:20231216T090000
DTEND;TZID=America/Los_Angeles:20231216T160000
DTSTAMP:20260421T065901
CREATED:20231212T151816Z
LAST-MODIFIED:20231213T193129Z
UID:13510-1702717200-1702742400@fresnoauctioncompany.com
SUMMARY:Dec. 16 & 17 Two Day Quality Fresno Estate SALE - 9am daily start
DESCRIPTION:Where :3048 E. Los Altos Ave. Fresno\, CA 93710\nEast of Chestnut between Sierra and Herndon Aves \nWhen: Saturday and Sunday\, December 16 and 17\, 2023\nSaturday: 9pm – 4pm\nSunday: 9am -3pm \nCLICK HERE for expandable and scrollable Google photo Link \nThis Saturday and Sunday 12-16 & 12-17 -23\, we will be conducting a quality 2 day Estate Sale. The sale begins Saturday at 12pm until 5pm and Sunday 9am to 3pm. All must go! Great prices & selection on Saturday holiday gift ideas or your next new treasures and Let’s make a deal Sunday price reductions. See you soon! \nThis Estate Sale Features: \n\n10×12 & 8×8 Tuff Sheds\,\nHuge collection of costume jewelry\nHerschede Burl wood three weight grandfather clock with Whittington\, Westminster and Canterbury chimes\,\npair Lalique swans with cut glass water base panel\,\npair Murano Glass swans\,\nlarge fabulous Murano Bird of Paradise\,\nvintage mid-century Hollywood Regency gilt\,\ngold metal Hydrangea floor lamp\,\ntable lamp and matching wall lamp\,\nquality Asian collectibles\, pair ceramic Foo Dogs\,\nhand cut & blown glass Czechoslovakian\, French\, German and Polish Crystal\,\nDrexel Heritage dining table with extensions and six fancy chairs with two captains chairs\,\nfancy large gold gesso wall mirror\,\nDrexel Heritage 72-in round dining table with Center Lazy Susan and six oval back chairs\,\nDrexel lighted curio/china cabinet with beveled glass doors\,\n6 ft tall triple beveled mirror room divider\,\nmirrored mid-century modern coffee table\,\nand matching sofa table\,\nmid-century modern sofa\,\nlarge fancy classic rectangular beveled mirror\,\nTropical Grande metal palm leaf floor lamp\,\npraying winged angel statue\,\nharp playing winged angel statue\,\ncement yard art statues\nvarious size sago palms – some potted\, some planted\,\nlarge cement 8-piece fountain\,\nvintage Sony stack stereo systems\,\nPulaski Cal King Classic bedroom set\,\nquality clothing\,\npurses and shoes\,\nreligious icons\,\nthree matching graduated\,\nfull size brass and marble antique style headboard\,\nquality cookware\,\nsmall appliances\,\nLinens of all kinds\,\ntowels\,\nhuge selection of quality tablecloths\,\nvintage round drop leaf Hard Rock Maple dining table and Captain’s chairs\,\nbeautiful antique armoire with beveled mirror door\,\nmid-century bar cabinet with glasses\,\nantique oak lamp table\,\nantique quarter sawn Oak Serpentine front dresser with beveled mirror\,\nEthan Allen TV cabinet\,\nseveral quality hand knotted wool area rugs\,\nand much much more.\nDon’t miss the last great estate sale for the year!!\n\n\n		\n		\n			\n				\n			\n			\n				\n			\n			\n				\n			\n			\n				\n			\n			\n				\n			\n			\n				\n			\n			\n				\n			\n			\n				\n			\n			\n				\n			\n			\n				\n			\n			\n				\n			\n			\n				\n			\n			\n				\n			\n			\n				\n			\n			\n				\n			\n			\n				\n			\n			\n				\n			\n			\n				\n			\n			\n				\n			\n			\n				\n			\n			\n				\n			\n			\n				\n			\n			\n				\n			\n			\n				\n			\n			\n				\n			\n			\n				\n			\n			\n				\n			\n			\n				\n			\n			\n				\n			\n			\n				\n			\n			\n				\n			\n			\n				\n			\n			\n				\n			\n			\n				\n			\n			\n				\n			\n			\n				\n			\n			\n				\n			\n			\n				\n			\n			\n				\n			\n			\n				\n			\n			\n				\n			\n			\n				\n			\n			\n				\n			\n			\n				\n			\n			\n				\n			\n			\n				\n			\n			\n				\n			\n			\n				\n			\n			\n				\n			\n			\n				\n			\n			\n				\n			\n			\n				\n			\n			\n				\n			\n			\n				\n			\n			\n				\n			\n			\n				\n			\n			\n				\n			\n			\n				\n			\n			\n				\n			\n			\n				\n			\n			\n				\n			\n			\n				\n			\n			\n				\n			\n			\n				\n			\n			\n				\n			\n			\n				\n			\n			\n				\n			\n			\n				\n			\n			\n				\n			\n			\n				\n			\n			\n				\n			\n			\n				\n			\n			\n				\n			\n			\n				\n			\n			\n				\n			\n			\n				\n			\n			\n				\n			\n			\n				\n			\n			\n				\n			\n			\n				\n			\n			\n				\n			\n			\n				\n			\n			\n				\n			\n			\n				\n			\n			\n				\n			\n			\n				\n			\n			\n				\n			\n			\n				\n			\n			\n				\n			\n			\n				\n			\n			\n				\n			\n			\n				\n			\n			\n				\n			\n			\n				\n			\n			\n				\n			\n			\n				\n			\n			\n				\n			\n			\n				\n			\n			\n				\n			\n			\n				\n			\n			\n				\n			\n			\n				\n			\n			\n				\n			\n			\n				\n			\n			\n				\n			\n			\n				\n			\n			\n				\n			\n			\n				\n			\n			\n				\n			\n			\n				\n			\n			\n				\n			\n			\n				\n			\n			\n				\n			\n			\n				\n			\n			\n				\n			\n			\n				\n			\n			\n				\n			\n			\n				\n			\n			\n				\n			\n			\n				\n			\n			\n				\n			\n			\n				\n			\n			\n				\n			\n			\n				\n			\n			\n				\n			\n			\n				\n			\n			\n				\n			\n			\n		\n\n 
URL:https://fresnoauctioncompany.com/event/12-16-17-23/
LOCATION:Dec 16 & 17\, 3048 E. Los Altos Ave.\, Fresno\, CA\, 9\, United States
CATEGORIES:Estate Tag Sale
ATTACH;FMTTYPE=image/jpeg:https://fresnoauctioncompany.com/wp-content/uploads/2023/12/20231211_131456-1-scaled.jpg
END:VEVENT
BEGIN:VEVENT
DTSTART;TZID=America/Los_Angeles:20231217T090000
DTEND;TZID=America/Los_Angeles:20231217T150000
DTSTAMP:20260421T065901
CREATED:20231212T160802Z
LAST-MODIFIED:20231213T193056Z
UID:13646-1702803600-1702825200@fresnoauctioncompany.com
SUMMARY:Dec. 16 & 17 Two Day Quality Fresno Estate SALE - 9am start daily
DESCRIPTION:Where :3048 E. Los Altos Ave. Fresno\, CA 93710\nEast of Chestnut between Sierra and Herndon Aves \nWhen: Saturday and Sunday\, December 16 and 17\, 2023\nSaturday: 9am to 4pm\nSunday: 9am-3pm \nCLICK HERE for expandable and scrollable Google photo Link \nThis Saturday and Sunday 12-16 & 12-17 -23\, we will be conducting a quality 2 day Estate Sale. The sale begins Saturday at 12pm until 5pm and Sunday 9am to 3pm. All must go! Great prices & selection on Saturday holiday gift ideas or your next new treasures and Let’s make a deal Sunday price reductions. See you soon! \nThis Estate Sale Features: \n\n10×12 & 8×8 Tuff Sheds\,\nHerschede Burl wood three weight grandfather clock with Whittington\, Westminster and Canterbury chimes\,\nHuge Collection of Costume Jewelry\npair Lalique swans with cut glass water base panel\,\npair Murano Glass swans\,\nlarge fabulous Murano Bird of Paradise\,\nvintage mid-century Hollywood Regency gilt\,\ngold metal Hydrangea floor lamp\,\ntable lamp and matching wall lamp\,\nquality Asian collectibles\, pair ceramic Foo Dogs\,\nhand cut & blown glass Czechoslovakian\, French\, German and Polish Crystal\,\nDrexel Heritage dining table with extensions and six fancy chairs with two captains chairs\,\nfancy large gold gesso wall mirror\,\nDrexel Heritage 72-in round dining table with Center Lazy Susan and six oval back chairs\,\nDrexel lighted curio/china cabinet with beveled glass doors\,\n6 ft tall triple beveled mirror room divider\,\nmirrored mid-century modern coffee table\,\nand matching sofa table\,\nmid-century modern sofa\,\nlarge fancy classic rectangular beveled mirror\,\nTropical Grande metal palm leaf floor lamp\,\npraying winged angel statue\,\nharp playing winged angel statue\,\ncement yard art statues\nvarious size sago palms – some potted\, some planted\,\nlarge cement 8-piece fountain\,\nvintage Sony stack stereo systems\,\nPulaski Cal King Classic bedroom set\,\nquality clothing\,\npurses and shoes\,\nreligious icons\,\nthree matching graduated\,\nfull size brass and marble antique style headboard\,\nquality cookware\,\nsmall appliances\,\nLinens of all kinds\,\ntowels\,\nhuge selection of quality tablecloths\,\nvintage round drop leaf Hard Rock Maple dining table and Captain’s chairs\,\nbeautiful antique armoire with beveled mirror door\,\nmid-century bar cabinet with glasses\,\nantique oak lamp table\,\nantique quarter sawn Oak Serpentine front dresser with beveled mirror\,\nEthan Allen TV cabinet\,\nseveral quality hand knotted wool area rugs\,\nand much much more.\nDon’t miss the last great estate sale for the year!\n\n\n		\n		\n			\n				\n			\n			\n				\n			\n			\n				\n			\n			\n				\n			\n			\n				\n			\n			\n				\n			\n			\n				\n			\n			\n				\n			\n			\n				\n			\n			\n				\n			\n			\n				\n			\n			\n				\n			\n			\n				\n			\n			\n				\n			\n			\n				\n			\n			\n				\n			\n			\n				\n			\n			\n				\n			\n			\n				\n			\n			\n				\n			\n			\n				\n			\n			\n				\n			\n			\n				\n			\n			\n				\n			\n			\n				\n			\n			\n				\n			\n			\n				\n			\n			\n				\n			\n			\n				\n			\n			\n				\n			\n			\n				\n			\n			\n				\n			\n			\n				\n			\n			\n				\n			\n			\n				\n			\n			\n				\n			\n			\n				\n			\n			\n				\n			\n			\n				\n			\n			\n				\n			\n			\n				\n			\n			\n				\n			\n			\n				\n			\n			\n				\n			\n			\n				\n			\n			\n				\n			\n			\n				\n			\n			\n				\n			\n			\n				\n			\n			\n				\n			\n			\n				\n			\n			\n				\n			\n			\n				\n			\n			\n				\n			\n			\n				\n			\n			\n				\n			\n			\n				\n			\n			\n				\n			\n			\n				\n			\n			\n				\n			\n			\n				\n			\n			\n				\n			\n			\n				\n			\n			\n				\n			\n			\n				\n			\n			\n				\n			\n			\n				\n			\n			\n				\n			\n			\n				\n			\n			\n				\n			\n			\n				\n			\n			\n				\n			\n			\n				\n			\n			\n				\n			\n			\n				\n			\n			\n				\n			\n			\n				\n			\n			\n				\n			\n			\n				\n			\n			\n				\n			\n			\n				\n			\n			\n				\n			\n			\n				\n			\n			\n				\n			\n			\n				\n			\n			\n				\n			\n			\n				\n			\n			\n				\n			\n			\n				\n			\n			\n				\n			\n			\n				\n			\n			\n				\n			\n			\n				\n			\n			\n				\n			\n			\n				\n			\n			\n				\n			\n			\n				\n			\n			\n				\n			\n			\n				\n			\n			\n				\n			\n			\n				\n			\n			\n				\n			\n			\n				\n			\n			\n				\n			\n			\n				\n			\n			\n				\n			\n			\n				\n			\n			\n				\n			\n			\n				\n			\n			\n				\n			\n			\n				\n			\n			\n				\n			\n			\n				\n			\n			\n				\n			\n			\n				\n			\n			\n				\n			\n			\n				\n			\n			\n				\n			\n			\n				\n			\n			\n				\n			\n			\n				\n			\n			\n				\n			\n			\n				\n			\n			\n				\n			\n			\n				\n			\n			\n				\n			\n			\n				\n			\n			\n		\n\n 
URL:https://fresnoauctioncompany.com/event/12-17-23/
LOCATION:Dec 16 & 17\, 3048 E. Los Altos Ave.\, Fresno\, CA\, 9\, United States
CATEGORIES:Estate Tag Sale
ATTACH;FMTTYPE=image/jpeg:https://fresnoauctioncompany.com/wp-content/uploads/2023/12/20231211_131456-1-scaled.jpg
END:VEVENT
END:VCALENDAR