BEGIN:VCALENDAR
VERSION:2.0
PRODID:-//Fresno Estates &amp; Auction Company - ECPv6.15.18//NONSGML v1.0//EN
CALSCALE:GREGORIAN
METHOD:PUBLISH
X-WR-CALNAME:Fresno Estates &amp; Auction Company
X-ORIGINAL-URL:https://fresnoauctioncompany.com
X-WR-CALDESC:Events for Fresno Estates &amp; Auction Company
REFRESH-INTERVAL;VALUE=DURATION:PT1H
X-Robots-Tag:noindex
X-PUBLISHED-TTL:PT1H
BEGIN:VTIMEZONE
TZID:America/Los_Angeles
BEGIN:DAYLIGHT
TZOFFSETFROM:-0800
TZOFFSETTO:-0700
TZNAME:PDT
DTSTART:20220313T100000
END:DAYLIGHT
BEGIN:STANDARD
TZOFFSETFROM:-0700
TZOFFSETTO:-0800
TZNAME:PST
DTSTART:20221106T090000
END:STANDARD
BEGIN:DAYLIGHT
TZOFFSETFROM:-0800
TZOFFSETTO:-0700
TZNAME:PDT
DTSTART:20230312T100000
END:DAYLIGHT
BEGIN:STANDARD
TZOFFSETFROM:-0700
TZOFFSETTO:-0800
TZNAME:PST
DTSTART:20231105T090000
END:STANDARD
BEGIN:DAYLIGHT
TZOFFSETFROM:-0800
TZOFFSETTO:-0700
TZNAME:PDT
DTSTART:20240310T100000
END:DAYLIGHT
BEGIN:STANDARD
TZOFFSETFROM:-0700
TZOFFSETTO:-0800
TZNAME:PST
DTSTART:20241103T090000
END:STANDARD
END:VTIMEZONE
BEGIN:VEVENT
DTSTART;TZID=America/Los_Angeles:20231007T080000
DTEND;TZID=America/Los_Angeles:20231007T160000
DTSTAMP:20260421T011534
CREATED:20230925T195104Z
LAST-MODIFIED:20230928T140255Z
UID:10771-1696665600-1696694400@fresnoauctioncompany.com
SUMMARY:10-7-23 Boston Market Lien Liquidation Auction - First & Nees Street 10am
DESCRIPTION:Where: 637 E. Nees Ave\, Fresno CA 93720\nCorner of First & Nees Street \nWhen: Saturday\, October 7\, 2023 at 10am\nPreview 8am to 10am \nThis lien liquidation auction of the remaining fixtures and equipment at the former Boston Market include: \n\nConvection oven\,\ndeep fryer\,\nice machine\,\nwalk-in refrigerator and freezers\,\nthree door freezer\,\nsinks\,\nsandwich prep tables\,\nwork tables\,\nsafes\,\nrotisseries\,\nsteam table\,\nbarbecue machine\,\nholding cabinet\,\ntables and chairs\,\nPOS system\,\ncounters\nand fixtures
URL:https://fresnoauctioncompany.com/event/10-7-23/
LOCATION:Boston Market\, 637 E. Nees Ave\,\, Fresno\, CA\, 93720\, United States
CATEGORIES:Estate Auction
ATTACH;FMTTYPE=image/jpeg:https://fresnoauctioncompany.com/wp-content/uploads/2023/09/Screenshot_20230915_100414_Google.jpg
END:VEVENT
BEGIN:VEVENT
DTSTART;TZID=America/Los_Angeles:20231014T080000
DTEND;TZID=America/Los_Angeles:20231014T160000
DTSTAMP:20260421T011534
CREATED:20231013T154437Z
LAST-MODIFIED:20231013T154649Z
UID:11463-1697270400-1697299200@fresnoauctioncompany.com
SUMMARY:10-14-23 Sunnyside Estate Auction with Mid-Century\, Sterling Flatware\, Vintage Cadillac -10am
DESCRIPTION:When: October 14\, 2023 at 10am\nPreview beginning at 8am\n\nWhere: 6109 E Butler Ave.\, Fresno\,  CA 93727\nin Sunnyside on Butler Avenue\, East of Fowler Avenue \nCLICK HERE for Expandable and Scroll-able google photos \n\nThis Saturday’s Auction is and features;\n1989 Cadillac Sedan de Ville 4.5 liter V8\,\nlarge classic Ridgeway 3 weight grandfather clock\,\nset of sterling silver flatware by Towle- Legato pattern\,\nmid-century Boomerang coffee table\,\nmid-century bedroom sets\,\nFrigidaire refrigerator freezer\,\nElectric organ\,\ntvs\,\nmatching multi drawer linen chests\,\nvintage Kenwood stereo system\,\nart of all kinds\, prints\,\noils\, Etc\,\nhighly decorated Asian Garden pottery and garden seats\,\nlarge cement deer family\,\npatio furniture\,\nvintage men’s hats and clothes\,\nvintage San Francisco 49er windbreaker\,\nlots of holiday decor\,\nCrystal vases and decanters\,\nset of Royal Albert Country Roses pattern china with serving pieces\,\nlarge set of Lenox china\,\nhandmade quilt and linens\,\nvintage Atari game console and games\,\nvintage Corner Bar with four stools\,\nvintage record albums\,\nvintage Pirates kitchenware\,\ndining table with eight mid-century chairs\,\nlarge beautiful China cabinet\,\nseveral console entry tables\,\nsofas and recliners\,\nholiday decorations of all kinds\,\nsome animated\,\ncement fountains\,\ngarage cabinets\,\ncookware\,\nlinens\,\nhousehold items\,\nusable products\,\nand much much more. #comebidwithus
URL:https://fresnoauctioncompany.com/event/10-14-23/
LOCATION:10-14-23 Sunnyside estate\, 6109 E. Bulter Ave\, Fresno\, CA\, 93727\, United States
CATEGORIES:Estate Auction
ATTACH;FMTTYPE=image/jpeg:https://fresnoauctioncompany.com/wp-content/uploads/2023/10/20231009_154930-scaled.jpg
END:VEVENT
BEGIN:VEVENT
DTSTART;TZID=America/Los_Angeles:20231021T080000
DTEND;TZID=America/Los_Angeles:20231021T170000
DTSTAMP:20260421T011534
CREATED:20231003T170634Z
LAST-MODIFIED:20260321T013326Z
UID:10942-1697875200-1697907600@fresnoauctioncompany.com
SUMMARY:10-21-23 BIG Vintage Car Auction with Porsche\, VW and Classic Car Parts\, Motorcycle\, Bikes and MORE!
DESCRIPTION:Where: 4736 E. Belmont Ave. Fresno CA 93702\n              The location is west of Chestnut Avenue\n              on the South side of Belmont\nWhen: Saturday\, Oct. 21\, 2023 at 10am\n        2 Days to PREVIEW – Friday 12-5pm & Saturday 8am-10am \n\n\n\nThis Saturday’s Auction Features Vintage Project Cars\, N.O.S. Parts\, Shop tools and Collectibles\nFrom a Long Time Car Enthusiast & Collector\nItems include: CLICK HERE for scrollable & expandable Google Photo Link \n  \nThe following were recently uncovered while setting up this Saturday’s Auction; \n\n hard to find factory Ford 65 66 Mustang under dash air conditioning units\, \nsuper rare vintage McCulloch supercharger for Ford in great condition\, \n2 rare vintage under dash 45 record players\, \nExtremely Rare vintage B & N model 809 under dash multi disc record player in excellent condition. Plays 16\, 33\, 45 and 78 records. I can only find one online and it is in the Radio Museum at radiomuseum.org. \ndesirable Ford 9-in rear end from Lincoln Versailles\, \nrare 356 Porsche parts\, \nhoods\, \nengine covers\, \nremovable top\, \nrebuilt big block Chevy heads\, \nadditional info on the New 383 Chevrolet Crate Engine; GM part number 12498772 appears to be ZZ High Performance Racing Engine.\nHard to get 67 Mustang Center console\, \nVolkswagen van steering wheel\, \nPorsche 911 steering wheel\, \nvintage Seeburg 200 selection coin operated Booth box selector\, \nrare Rock Ola coin-op 120 Hi-Fi Booth box selector\, \nand much much more!! Don’t miss this fabulous auction!! \n1967 Chevy Nova SS\,\n1976 Corvette Stingray\,\n1956 T-Bird coupe\n1959 Ford Skyliner\,\n1959 Plymouth Fury convertible\n1959 Plymouth Fury Sport\n1955 Ford Fairlane 2 door hard top\n2001 Suzuki 650 Dual Sport Motorcycle\nrare 1940s Indian Scout motorcycle\,\nRare 1960’s Zundapp 250 Motorcycle\nBSA motorcycle\,\nRare 1901 Crescent Wood wheel bike\,\n1955 Rockola 120 HiFi selection 45\,\nnew 383 Chevrolet engine\,\nCommercial Paint booth\nLarge Commercial dust collector\nNOS Porsche\, Volkswagen and 65 to 69 Mustang parts\nsets of Porsche\, VW and Mustang hubcaps\,\nKwik-Way sandblast cabinet with dust collector\,\nMiller Dialarc HF tungsten gas Arc welder\,\nMiller spot welder\,\noxy acetylene welding set\,\nFreon refrigerant of several types including R12\, or 134A and R22\,\nPorsche 383 speedster top\, hoods\, engine parts\, rear ends\, axles etc\,\nsets of vintage custom wire wheels\,\nair compressor\,\nshop heater\,\ngenerator\,\nvintage Pepsi coin-op machine\,\nsets of Volkswagen fenders\, doors\, bumpers\, hoods\, and much more\nnew Blue Point port-a-power set\,\nProto rollaway toolbox\,\nlarge stainless steel rollaway toolbox\,\ntools of all kinds\,\nvintage Corvette parts\,\nwindshield\,\nbumpers\nAutomotive paint\, thinners\, lacquer\, and related items\nAnd SO MUCH MORE!\n\nWE are STILL digging and finding rare parts. Don’t miss this great collectors auction!! #comebidwithus \n 
URL:https://fresnoauctioncompany.com/event/10-21-23/
LOCATION:10-21-23 Vintage Car\, 4736 E. Belmont Ave.\, Fresno\, CA\, 93702
CATEGORIES:Estate Auction
ATTACH;FMTTYPE=image/jpeg:https://fresnoauctioncompany.com/wp-content/uploads/2023/10/20231017_154523-1-scaled.jpg
END:VEVENT
BEGIN:VEVENT
DTSTART;TZID=America/Los_Angeles:20231028T120000
DTEND;TZID=America/Los_Angeles:20231028T170000
DTSTAMP:20260421T011534
CREATED:20231024T183839Z
LAST-MODIFIED:20231024T202648Z
UID:11598-1698494400-1698512400@fresnoauctioncompany.com
SUMMARY:Oct. 28 & 29 2-Day Quality Estate SALE with Asian Art\, Cloisonné\, Mid Century\, Sago Palms & MORE!
DESCRIPTION:Where :3048 E. Los Altos Ave. Fresno\, CA 93710\nEast of Chestnut between Sierra and Herndon Aves \nWhen: Saturday and Sunday\, October 28 and 29\, 2023\nSaturday: 12pm to 5pm\nSunday: 9-3pm \nCLICK HERE for expandable and scrollable Google photo Link \nThis Saturday and Sunday 10-28 &10-29-23 we will be conducting a fabulous 2 day Estate Sale. The sale begins Saturday at 12pm until 5pm and Sunday 9am to 3pm. \nThe items for sale include the following;\n10×12 & 8×8 Tuff Sheds\,\nHerschede Burl wood three weight grandfather clock with Whittington\, Westminster and Canterbury chimes\,\npair Lalique swans with cut glass water base panel\,\npair Murano Glass swans\,\nlarge fabulous Murano Bird of Paradise\,\nvintage mid-century Hollywood Regency gilt\,\ngold metal Hydrangea floor lamp\,\ntable lamp and matching wall lamp\,\nquality Asian collectibles\,\npair of rare large Chinese Cloisonné bulbous paneled vases with Red Crown Crane\,\ngreat carved wooden female Buddha with raised left hand\,\npair ceramic Foo Dogs\,\nhand cut\,blown glass Czechoslovakian\,\nFrench\, German and Polish Crystal\,\nDrexel Heritage dining table with extensions and six fancy chairs with two captains chairs\,\nfancy large gold gesso wall mirror\,\nDrexel Heritage 72-in round dining table with Center Lazy Susan and six oval back chairs\,\nDrexel Heritage sideboard/server\,\nDrexel lighted curio/china cabinet with beveled glass doors\,\n6 ft tall triple beveled mirror room divider\,\nmirrored mid-century modern coffee table\,\nand matching sofa table\,\nmid-century modern sofa loveseat\,\nlarge fancy classic rectangular beveled mirror\,\nTropical Grande metal palm leaf floor lamp\,\n52-in ceramic Blessed Virgin Mary statue on Angel pedestal\,\npraying winged angel statue\,\nharp playing winged angel statue\,\ncement yard art statues of all lots of various size sago palms some potted\,\nsome planted\,\nlarge cement 8-piece fountain\,\nvintage Sony stack stereo systems\,\nPulaski Cal King Classic bedroom set\,\nquality clothing\, purses and shoes\,\nreligious icons\,\nthree matching graduated\, lighted hexagon display pedestals\,\nfull size brass and marble antique style headboard and footboard\,\nsigned Asian artwork\,\nRobert Spooner galleries limited edition 10 Commandments print\,\npair mirrors with Asian peacock motif\,\npair of mirrors with Asian good luck tree motif\,\ntwo matching sofas and loveseat\,\nset of Wallace Antique Baroque pattern stainless flatware\,\nquality cookware\,\nsmall appliances\,\nLinens of all kinds\, towels\, huge selection of quality tablecloths\,\nand much much more!\nPlease join us for this Great Estate sale!! \n\n		\n		\n			\n				\n			\n			\n				\n			\n			\n				\n			\n			\n				\n			\n			\n				\n			\n			\n				\n			\n			\n				\n			\n			\n				\n			\n			\n				\n			\n			\n				\n			\n			\n				\n			\n			\n				\n			\n			\n				\n			\n			\n				\n			\n			\n				\n			\n			\n				\n			\n			\n				\n			\n			\n				\n			\n			\n				\n			\n			\n				\n			\n			\n				\n			\n			\n				\n			\n			\n				\n			\n			\n				\n			\n			\n				\n			\n			\n				\n			\n			\n				\n			\n			\n				\n			\n			\n				\n			\n			\n				\n			\n			\n				\n			\n			\n				\n			\n			\n				\n			\n			\n				\n			\n			\n				\n			\n			\n				\n			\n			\n				\n			\n			\n				\n			\n			\n				\n			\n			\n				\n			\n			\n				\n			\n			\n				\n			\n			\n				\n			\n			\n				\n			\n			\n				\n			\n			\n				\n			\n			\n				\n			\n			\n				\n			\n			\n				\n			\n			\n				\n			\n			\n				\n			\n			\n				\n			\n			\n				\n			\n			\n				\n			\n			\n				\n			\n			\n				\n			\n			\n				\n			\n			\n				\n			\n			\n				\n			\n			\n				\n			\n			\n				\n			\n			\n				\n			\n			\n				\n			\n			\n				\n			\n			\n				\n			\n			\n				\n			\n			\n				\n			\n			\n				\n			\n			\n				\n			\n			\n				\n			\n			\n				\n			\n			\n				\n			\n			\n				\n			\n			\n				\n			\n			\n				\n			\n			\n				\n			\n			\n				\n			\n			\n				\n			\n			\n				\n			\n			\n				\n			\n			\n				\n			\n			\n				\n			\n			\n				\n			\n			\n				\n			\n			\n				\n			\n			\n				\n			\n			\n				\n			\n			\n				\n			\n			\n				\n			\n			\n				\n			\n			\n				\n			\n			\n				\n			\n			\n				\n			\n			\n				\n			\n			\n				\n			\n			\n				\n			\n			\n				\n			\n			\n				\n			\n			\n				\n			\n			\n				\n			\n			\n				\n			\n			\n				\n			\n			\n				\n			\n			\n				\n			\n			\n				\n			\n			\n				\n			\n			\n				\n			\n			\n				\n			\n			\n				\n			\n			\n				\n			\n			\n				\n			\n			\n				\n			\n			\n				\n			\n			\n				\n			\n			\n				\n			\n			\n				\n			\n			\n				\n			\n			\n				\n			\n			\n				\n			\n			\n				\n			\n			\n				\n			\n			\n				\n			\n			\n				\n			\n			\n				\n			\n			\n				\n			\n			\n				\n			\n			\n				\n			\n			\n				\n			\n			\n				\n			\n			\n				\n			\n			\n				\n			\n			\n				\n			\n			\n				\n			\n			\n				\n			\n			\n				\n			\n			\n				\n			\n			\n				\n			\n			\n				\n			\n			\n				\n			\n			\n				\n			\n			\n				\n			\n			\n				\n			\n			\n				\n			\n			\n				\n			\n			\n				\n			\n			\n				\n			\n			\n				\n			\n			\n				\n			\n			\n				\n			\n			\n				\n			\n			\n				\n			\n			\n				\n			\n			\n				\n			\n			\n				\n			\n			\n				\n			\n			\n				\n			\n			\n				\n			\n			\n				\n			\n			\n				\n			\n			\n				\n			\n			\n				\n			\n			\n				\n			\n			\n				\n			\n			\n				\n			\n			\n				\n			\n			\n				\n			\n			\n				\n			\n			\n				\n			\n			\n				\n			\n			\n				\n			\n			\n				\n			\n			\n				\n			\n			\n				\n			\n			\n				\n			\n			\n				\n			\n			\n				\n			\n			\n				\n			\n			\n				\n			\n			\n				\n			\n			\n				\n			\n			\n				\n			\n			\n				\n			\n			\n				\n			\n			\n				\n			\n			\n				\n			\n			\n				\n			\n			\n				\n			\n			\n				\n			\n			\n				\n			\n			\n				\n			\n			\n				\n			\n			\n				\n			\n			\n				\n			\n			\n				\n			\n			\n				\n			\n			\n				\n			\n			\n				\n			\n			\n				\n			\n			\n				\n			\n			\n				\n			\n			\n				\n			\n			\n				\n			\n			\n				\n			\n			\n				\n			\n			\n				\n			\n			\n				\n			\n			\n				\n			\n			\n				\n			\n			\n				\n			\n			\n				\n			\n			\n				\n			\n			\n				\n			\n			\n				\n			\n			\n				\n			\n			\n				\n			\n			\n				\n			\n			\n				\n			\n			\n				\n			\n			\n				\n			\n			\n				\n			\n			\n				\n			\n			\n				\n			\n			\n				\n			\n			\n				\n			\n			\n				\n			\n			\n				\n			\n			\n				\n			\n			\n				\n			\n			\n				\n			\n			\n				\n			\n			\n				\n			\n			\n				\n			\n			\n				\n			\n			\n				\n			\n			\n				\n			\n			\n				\n			\n			\n				\n			\n			\n				\n			\n			\n				\n			\n			\n				\n			\n			\n				\n			\n			\n				\n			\n			\n				\n			\n			\n				\n			\n			\n				\n			\n			\n				\n			\n			\n				\n			\n			\n				\n			\n			\n				\n			\n			\n				\n			\n			\n				\n			\n			\n				\n			\n			\n				\n			\n			\n				\n			\n			\n				\n			\n			\n				\n			\n			\n				\n			\n			\n				\n			\n			\n				\n			\n			\n				\n			\n			\n				\n			\n			\n				\n			\n			\n				\n			\n			\n				\n			\n			\n				\n			\n			\n				\n			\n			\n				\n			\n			\n				\n			\n			\n				\n			\n			\n				\n			\n			\n				\n			\n			\n				\n			\n			\n				\n			\n			\n				\n			\n			\n				\n			\n			\n				\n			\n			\n				\n			\n			\n				\n			\n			\n				\n			\n			\n				\n			\n			\n				\n			\n			\n				\n			\n			\n				\n			\n			\n				\n			\n			\n				\n			\n			\n				\n			\n			\n				\n			\n			\n				\n			\n			\n				\n			\n			\n				\n			\n			\n				\n			\n			\n				\n			\n			\n				\n			\n			\n				\n			\n			\n				\n			\n			\n				\n			\n			\n				\n			\n			\n				\n			\n			\n				\n			\n			\n				\n			\n			\n				\n			\n			\n				\n			\n			\n				\n			\n			\n				\n			\n			\n				\n			\n			\n				\n			\n			\n				\n			\n			\n				\n			\n			\n				\n			\n			\n				\n			\n			\n				\n			\n			\n				\n			\n			\n				\n			\n			\n				\n			\n			\n				\n			\n			\n				\n			\n			\n				\n			\n			\n				\n			\n			\n				\n			\n			\n				\n			\n			\n				\n			\n			\n				\n			\n			\n				\n			\n			\n				\n			\n			\n				\n			\n			\n				\n			\n			\n				\n			\n			\n				\n			\n			\n				\n			\n			\n				\n			\n			\n				\n			\n			\n				\n			\n			\n				\n			\n			\n				\n			\n			\n				\n			\n			\n				\n			\n			\n				\n			\n			\n				\n			\n			\n				\n			\n			\n				\n			\n			\n				\n			\n			\n				\n			\n		\n\n.
URL:https://fresnoauctioncompany.com/event/oct-28-29/
LOCATION:10-28&29\, 3048 E. Los Altos Ave\, Fresno\, CA\, 93710\, United States
CATEGORIES:Estate Tag Sale
ATTACH;FMTTYPE=image/jpeg:https://fresnoauctioncompany.com/wp-content/uploads/2023/10/20231016_165933-scaled.jpg
END:VEVENT
BEGIN:VEVENT
DTSTART;TZID=America/Los_Angeles:20231028T120000
DTEND;TZID=America/Los_Angeles:20231028T170000
DTSTAMP:20260421T011535
CREATED:20231024T183839Z
LAST-MODIFIED:20231024T202648Z
UID:11598-1698494400-1698512400@fresnoauctioncompany.com
SUMMARY:Oct. 28 & 29 2-Day Quality Estate SALE with Asian Art\, Cloisonné\, Mid Century\, Sago Palms & MORE!
DESCRIPTION:Where :3048 E. Los Altos Ave. Fresno\, CA 93710\nEast of Chestnut between Sierra and Herndon Aves \nWhen: Saturday and Sunday\, October 28 and 29\, 2023\nSaturday: 12pm to 5pm\nSunday: 9-3pm \nCLICK HERE for expandable and scrollable Google photo Link \nThis Saturday and Sunday 10-28 &10-29-23 we will be conducting a fabulous 2 day Estate Sale. The sale begins Saturday at 12pm until 5pm and Sunday 9am to 3pm. \nThe items for sale include the following;\n10×12 & 8×8 Tuff Sheds\,\nHerschede Burl wood three weight grandfather clock with Whittington\, Westminster and Canterbury chimes\,\npair Lalique swans with cut glass water base panel\,\npair Murano Glass swans\,\nlarge fabulous Murano Bird of Paradise\,\nvintage mid-century Hollywood Regency gilt\,\ngold metal Hydrangea floor lamp\,\ntable lamp and matching wall lamp\,\nquality Asian collectibles\,\npair of rare large Chinese Cloisonné bulbous paneled vases with Red Crown Crane\,\ngreat carved wooden female Buddha with raised left hand\,\npair ceramic Foo Dogs\,\nhand cut\,blown glass Czechoslovakian\,\nFrench\, German and Polish Crystal\,\nDrexel Heritage dining table with extensions and six fancy chairs with two captains chairs\,\nfancy large gold gesso wall mirror\,\nDrexel Heritage 72-in round dining table with Center Lazy Susan and six oval back chairs\,\nDrexel Heritage sideboard/server\,\nDrexel lighted curio/china cabinet with beveled glass doors\,\n6 ft tall triple beveled mirror room divider\,\nmirrored mid-century modern coffee table\,\nand matching sofa table\,\nmid-century modern sofa loveseat\,\nlarge fancy classic rectangular beveled mirror\,\nTropical Grande metal palm leaf floor lamp\,\n52-in ceramic Blessed Virgin Mary statue on Angel pedestal\,\npraying winged angel statue\,\nharp playing winged angel statue\,\ncement yard art statues of all lots of various size sago palms some potted\,\nsome planted\,\nlarge cement 8-piece fountain\,\nvintage Sony stack stereo systems\,\nPulaski Cal King Classic bedroom set\,\nquality clothing\, purses and shoes\,\nreligious icons\,\nthree matching graduated\, lighted hexagon display pedestals\,\nfull size brass and marble antique style headboard and footboard\,\nsigned Asian artwork\,\nRobert Spooner galleries limited edition 10 Commandments print\,\npair mirrors with Asian peacock motif\,\npair of mirrors with Asian good luck tree motif\,\ntwo matching sofas and loveseat\,\nset of Wallace Antique Baroque pattern stainless flatware\,\nquality cookware\,\nsmall appliances\,\nLinens of all kinds\, towels\, huge selection of quality tablecloths\,\nand much much more!\nPlease join us for this Great Estate sale!! \n\n		\n		\n			\n				\n			\n			\n				\n			\n			\n				\n			\n			\n				\n			\n			\n				\n			\n			\n				\n			\n			\n				\n			\n			\n				\n			\n			\n				\n			\n			\n				\n			\n			\n				\n			\n			\n				\n			\n			\n				\n			\n			\n				\n			\n			\n				\n			\n			\n				\n			\n			\n				\n			\n			\n				\n			\n			\n				\n			\n			\n				\n			\n			\n				\n			\n			\n				\n			\n			\n				\n			\n			\n				\n			\n			\n				\n			\n			\n				\n			\n			\n				\n			\n			\n				\n			\n			\n				\n			\n			\n				\n			\n			\n				\n			\n			\n				\n			\n			\n				\n			\n			\n				\n			\n			\n				\n			\n			\n				\n			\n			\n				\n			\n			\n				\n			\n			\n				\n			\n			\n				\n			\n			\n				\n			\n			\n				\n			\n			\n				\n			\n			\n				\n			\n			\n				\n			\n			\n				\n			\n			\n				\n			\n			\n				\n			\n			\n				\n			\n			\n				\n			\n			\n				\n			\n			\n				\n			\n			\n				\n			\n			\n				\n			\n			\n				\n			\n			\n				\n			\n			\n				\n			\n			\n				\n			\n			\n				\n			\n			\n				\n			\n			\n				\n			\n			\n				\n			\n			\n				\n			\n			\n				\n			\n			\n				\n			\n			\n				\n			\n			\n				\n			\n			\n				\n			\n			\n				\n			\n			\n				\n			\n			\n				\n			\n			\n				\n			\n			\n				\n			\n			\n				\n			\n			\n				\n			\n			\n				\n			\n			\n				\n			\n			\n				\n			\n			\n				\n			\n			\n				\n			\n			\n				\n			\n			\n				\n			\n			\n				\n			\n			\n				\n			\n			\n				\n			\n			\n				\n			\n			\n				\n			\n			\n				\n			\n			\n				\n			\n			\n				\n			\n			\n				\n			\n			\n				\n			\n			\n				\n			\n			\n				\n			\n			\n				\n			\n			\n				\n			\n			\n				\n			\n			\n				\n			\n			\n				\n			\n			\n				\n			\n			\n				\n			\n			\n				\n			\n			\n				\n			\n			\n				\n			\n			\n				\n			\n			\n				\n			\n			\n				\n			\n			\n				\n			\n			\n				\n			\n			\n				\n			\n			\n				\n			\n			\n				\n			\n			\n				\n			\n			\n				\n			\n			\n				\n			\n			\n				\n			\n			\n				\n			\n			\n				\n			\n			\n				\n			\n			\n				\n			\n			\n				\n			\n			\n				\n			\n			\n				\n			\n			\n				\n			\n			\n				\n			\n			\n				\n			\n			\n				\n			\n			\n				\n			\n			\n				\n			\n			\n				\n			\n			\n				\n			\n			\n				\n			\n			\n				\n			\n			\n				\n			\n			\n				\n			\n			\n				\n			\n			\n				\n			\n			\n				\n			\n			\n				\n			\n			\n				\n			\n			\n				\n			\n			\n				\n			\n			\n				\n			\n			\n				\n			\n			\n				\n			\n			\n				\n			\n			\n				\n			\n			\n				\n			\n			\n				\n			\n			\n				\n			\n			\n				\n			\n			\n				\n			\n			\n				\n			\n			\n				\n			\n			\n				\n			\n			\n				\n			\n			\n				\n			\n			\n				\n			\n			\n				\n			\n			\n				\n			\n			\n				\n			\n			\n				\n			\n			\n				\n			\n			\n				\n			\n			\n				\n			\n			\n				\n			\n			\n				\n			\n			\n				\n			\n			\n				\n			\n			\n				\n			\n			\n				\n			\n			\n				\n			\n			\n				\n			\n			\n				\n			\n			\n				\n			\n			\n				\n			\n			\n				\n			\n			\n				\n			\n			\n				\n			\n			\n				\n			\n			\n				\n			\n			\n				\n			\n			\n				\n			\n			\n				\n			\n			\n				\n			\n			\n				\n			\n			\n				\n			\n			\n				\n			\n			\n				\n			\n			\n				\n			\n			\n				\n			\n			\n				\n			\n			\n				\n			\n			\n				\n			\n			\n				\n			\n			\n				\n			\n			\n				\n			\n			\n				\n			\n			\n				\n			\n			\n				\n			\n			\n				\n			\n			\n				\n			\n			\n				\n			\n			\n				\n			\n			\n				\n			\n			\n				\n			\n			\n				\n			\n			\n				\n			\n			\n				\n			\n			\n				\n			\n			\n				\n			\n			\n				\n			\n			\n				\n			\n			\n				\n			\n			\n				\n			\n			\n				\n			\n			\n				\n			\n			\n				\n			\n			\n				\n			\n			\n				\n			\n			\n				\n			\n			\n				\n			\n			\n				\n			\n			\n				\n			\n			\n				\n			\n			\n				\n			\n			\n				\n			\n			\n				\n			\n			\n				\n			\n			\n				\n			\n			\n				\n			\n			\n				\n			\n			\n				\n			\n			\n				\n			\n			\n				\n			\n			\n				\n			\n			\n				\n			\n			\n				\n			\n			\n				\n			\n			\n				\n			\n			\n				\n			\n			\n				\n			\n			\n				\n			\n			\n				\n			\n			\n				\n			\n			\n				\n			\n			\n				\n			\n			\n				\n			\n			\n				\n			\n			\n				\n			\n			\n				\n			\n			\n				\n			\n			\n				\n			\n			\n				\n			\n			\n				\n			\n			\n				\n			\n			\n				\n			\n			\n				\n			\n			\n				\n			\n			\n				\n			\n			\n				\n			\n			\n				\n			\n			\n				\n			\n			\n				\n			\n			\n				\n			\n			\n				\n			\n			\n				\n			\n			\n				\n			\n			\n				\n			\n			\n				\n			\n			\n				\n			\n			\n				\n			\n			\n				\n			\n			\n				\n			\n			\n				\n			\n			\n				\n			\n			\n				\n			\n			\n				\n			\n			\n				\n			\n			\n				\n			\n			\n				\n			\n			\n				\n			\n			\n				\n			\n			\n				\n			\n			\n				\n			\n			\n				\n			\n			\n				\n			\n			\n				\n			\n			\n				\n			\n			\n				\n			\n			\n				\n			\n			\n				\n			\n			\n				\n			\n			\n				\n			\n			\n				\n			\n			\n				\n			\n			\n				\n			\n			\n				\n			\n			\n				\n			\n			\n				\n			\n			\n				\n			\n			\n				\n			\n			\n				\n			\n			\n				\n			\n			\n				\n			\n			\n				\n			\n			\n				\n			\n			\n				\n			\n			\n				\n			\n			\n				\n			\n			\n				\n			\n			\n				\n			\n			\n				\n			\n			\n				\n			\n			\n				\n			\n			\n				\n			\n			\n				\n			\n			\n				\n			\n			\n				\n			\n			\n				\n			\n			\n				\n			\n			\n				\n			\n			\n				\n			\n			\n				\n			\n			\n				\n			\n			\n				\n			\n			\n				\n			\n			\n				\n			\n			\n				\n			\n			\n				\n			\n			\n				\n			\n			\n				\n			\n			\n				\n			\n			\n				\n			\n			\n				\n			\n			\n				\n			\n			\n				\n			\n			\n				\n			\n			\n				\n			\n			\n				\n			\n			\n				\n			\n			\n				\n			\n		\n\n.
URL:https://fresnoauctioncompany.com/event/oct-28-29/
LOCATION:10-28&29\, 3048 E. Los Altos Ave\, Fresno\, CA\, 93710\, United States
CATEGORIES:Estate Tag Sale
ATTACH;FMTTYPE=image/jpeg:https://fresnoauctioncompany.com/wp-content/uploads/2023/10/20231016_165933-scaled.jpg
END:VEVENT
END:VCALENDAR