BEGIN:VCALENDAR
VERSION:2.0
PRODID:-//Fresno Estates &amp; Auction Company - ECPv6.15.18//NONSGML v1.0//EN
CALSCALE:GREGORIAN
METHOD:PUBLISH
X-ORIGINAL-URL:https://fresnoauctioncompany.com
X-WR-CALDESC:Events for Fresno Estates &amp; Auction Company
REFRESH-INTERVAL;VALUE=DURATION:PT1H
X-Robots-Tag:noindex
X-PUBLISHED-TTL:PT1H
BEGIN:VTIMEZONE
TZID:America/Los_Angeles
BEGIN:DAYLIGHT
TZOFFSETFROM:-0800
TZOFFSETTO:-0700
TZNAME:PDT
DTSTART:20220313T100000
END:DAYLIGHT
BEGIN:STANDARD
TZOFFSETFROM:-0700
TZOFFSETTO:-0800
TZNAME:PST
DTSTART:20221106T090000
END:STANDARD
BEGIN:DAYLIGHT
TZOFFSETFROM:-0800
TZOFFSETTO:-0700
TZNAME:PDT
DTSTART:20230312T100000
END:DAYLIGHT
BEGIN:STANDARD
TZOFFSETFROM:-0700
TZOFFSETTO:-0800
TZNAME:PST
DTSTART:20231105T090000
END:STANDARD
BEGIN:DAYLIGHT
TZOFFSETFROM:-0800
TZOFFSETTO:-0700
TZNAME:PDT
DTSTART:20240310T100000
END:DAYLIGHT
BEGIN:STANDARD
TZOFFSETFROM:-0700
TZOFFSETTO:-0800
TZNAME:PST
DTSTART:20241103T090000
END:STANDARD
END:VTIMEZONE
BEGIN:VEVENT
DTSTART;TZID=America/Los_Angeles:20230506T080000
DTEND;TZID=America/Los_Angeles:20230506T170000
DTSTAMP:20260421T011810
CREATED:20230418T024751Z
LAST-MODIFIED:20230418T031259Z
UID:5074-1683360000-1683392400@fresnoauctioncompany.com
SUMMARY:May 6\, 2023 - 45th Annual Fresno Basque Club Festival -9am-5pm (Scheduled events listed below)
DESCRIPTION: OPEN to the Public –Traditional Food & Drink\, Music\, Dancing\, Fun & Friends! \nLocation: Campos Bros 15516 S Walnut Ave\, Caruthers\, Ca 93609\nCall Steve for Ticket Information and more Info at 559-930-7218 \nDoors open at 9am\nCatholic Mass: 10:30am\nTraditional Lamb BBQ with classic side dishes: 12:30pm-2pm\nBasque Parade\, Folk Dancers & Klika 2pm\nChorizo Sandwiches served at 4:30pm\nwith No host bar and Basque Vendors and Much more \n\n		\n		\n			\n				\n			\n			\n				\n			\n			\n		\n\n 
URL:https://fresnoauctioncompany.com/event/may-6-annual-fresno-basque-club-festival-open-to-the-public-traditional-food-drink-music-dancing-fun-friend/
LOCATION:Campos Farms\, 15516 S. Walnut Ave.\, Caruthers\, 93609\, United States
CATEGORIES:Special Event
ATTACH;FMTTYPE=image/jpeg:https://fresnoauctioncompany.com/wp-content/uploads/2023/04/341812972_780110236638072_8779459193115109273_n.jpg
END:VEVENT
BEGIN:VEVENT
DTSTART;TZID=America/Los_Angeles:20230507T080000
DTEND;TZID=America/Los_Angeles:20230507T170000
DTSTAMP:20260421T011810
CREATED:20230503T164451Z
LAST-MODIFIED:20230503T172303Z
UID:5714-1683446400-1683478800@fresnoauctioncompany.com
SUMMARY:5-7-23 SUNDAY Quilter's Estate Auction with Quilting items\, Antiques and Collectibles 10am
DESCRIPTION:2742 East Andrews Ave Fresno CA 93726\nPreview 8am-10am\nEast of First Street and North of Shields \nQuilting and and SO Much more. Fabrics\, Products\, Machines and antiques GALORE! \nCLICK HERE for scrollable & expandable Google Photos & Video link
URL:https://fresnoauctioncompany.com/event/5-7-23-sunday-quilters-estate-auction-with-quilting-items-antiques-and-collectibles-10am/
LOCATION:CA
CATEGORIES:Estate Auction
ATTACH;FMTTYPE=image/jpeg:https://fresnoauctioncompany.com/wp-content/uploads/2023/05/20230502_185155-scaled.jpg
END:VEVENT
BEGIN:VEVENT
DTSTART;TZID=America/Los_Angeles:20230513T100000
DTEND;TZID=America/Los_Angeles:20230513T170000
DTSTAMP:20260421T011810
CREATED:20230430T164740Z
LAST-MODIFIED:20230510T220221Z
UID:5705-1683972000-1683997200@fresnoauctioncompany.com
SUMMARY:5-13-23 - Kerman Marvin Schafer Estate Farm Auction #1 - 10am - 3 Properties in 2 weekends!
DESCRIPTION:3157 North Siskiyou in Kerman Californiai\nIt is just North of Shields Avenue on Siskiyou.\n5-13-2023 at 10am.Preview Starting at 8am \nThis HUGE auction has hundreds of ITEMS!\nWe apologize but the list is TOO long to bullet point. \nClick here for over 400 scrollable\, expandable Google photo’s link \nItems include:\nvintage vehicle\, clean vintage Ford tractor and quality implements\, plus antiques and collectibles\, tools of all kinds and much more. We start with a 1960 Oldsmobile Dynamic 88 two-door hardtop Survivor car with a Rocket 394 engine\, a very clean Ford 4000 tractor\, pair of Yamaha Wave Venture jet skis with trailer\, vintage Belmont speed boat needs TLC\, 1960s GMC panel van\, 7 ft heavy duty Orchard flail shredder\, 7 ft Howard Selectatilth Rotavator\, 6 ft Orchard flail shredder\, Indusco 3pt tandem disc\, L&H 3-point hydraulic Terrace blade\, Domries 3-point three blade border disc\, heavy duty 3-point spring tooth cultivator\, Indusco flat furrows with rotating harrows\, heavy duty 3-point 3 shank Ripper\, 3-point brush forks\,Schwabenland 3pt 3 bottom plow\, Indusco hydraulic 3pt French plow\, spray booms\, antique Iron Wheel Vineyard wagon\, vintage Wayne model 10 gas pump\, vintage metal Ford Pedal Tractor with Trailer in excellent condition\, vintage Radio Flyer wagon in excellent condition\, Antique horse drawn three bottom plow\, antique horse drawn 5 bottom plow\, other antique horse drawn equipment\, antique wood single trees and doubletrees\, antique leather horse harnesses\, vintage cast iron pots and pans\, vintage wrought iron items\,Lots of vintage galvanized buckets and tubs\, vintage metal oil cans\, vintage Pennzoil oil cans\, vintage dealer license plate frames\, unopened 1964 Playboy calendar\, lots of old vintage iron tools\, yard tools\, mid-century dining table and chairs\, mid-century coffee and end table set\, several vintage 1950s metal  Motel chairs\, antique Hoosier cabinet\, 1970s dining room table and chairs\, pots pans and household items\, men’s clothing\, vintage wood kitchen cabinets\, vintage wood chicken boxes\, antique wood grape trays\, sweat boxes and picking boxes\, vintage Coca-Cola and other soda boxes\, vintage Adams motor grader by Model\, vintage Model carryall bottom metal toy\, vintage Ford 901 diecast toy tractor\, vintage fishing gear\, vintage glass and Brass Door knobs\, vintage scale\, vintage wood crib\, vintage desk vanity from sun made Furniture Fresno california\, vintage mirrors\, vintage stoneware crocks of all kinds\,  enamelware of all kinds\, fancy and antique statue lamp\, antique mahogany drop front secretary with paw feet\, antique dressers\, large selection of vintage antique metal bed frames\, antique two-tier pie crust mahogany table\, antique Serpentine front drop front secretary\, artwork by local artist Robert Nidy\, quality contemporary console dresser with beveled mirror\, king size bed with memory foam mattress\, antique cranberry glassware\, yard and hand tools of all kinds\, ladders\, large metal wagon with electric spray tank\, hand carts and wheelbarrows\, building materials\, and much much more. Don’t miss this great sale!! 
URL:https://fresnoauctioncompany.com/event/5-13-23/
LOCATION:Schafer Estate\, 3157 N. Siskiyou Ave.\, KERMAN\, 93630\, United States
CATEGORIES:Estate Auction
ATTACH;FMTTYPE=image/jpeg:https://fresnoauctioncompany.com/wp-content/uploads/2023/04/20230508_135445.jpg
END:VEVENT
BEGIN:VEVENT
DTSTART;TZID=America/Los_Angeles:20230520T080000
DTEND;TZID=America/Los_Angeles:20230520T170000
DTSTAMP:20260421T011810
CREATED:20230503T164719Z
LAST-MODIFIED:20230510T153812Z
UID:5918-1684569600-1684602000@fresnoauctioncompany.com
SUMMARY:5-20-23 No Auction. We apologize for the inconvenience
DESCRIPTION:Due to unexpected family emergency\, This auction has been postponed to June 3. We apologize for the inconvenience.
URL:https://fresnoauctioncompany.com/event/5-20-23/
LOCATION:CA
CATEGORIES:Estate Auction
ATTACH;FMTTYPE=image/png:https://fresnoauctioncompany.com/wp-content/uploads/2022/10/fresno-6-FINAL-copy-1.png
END:VEVENT
BEGIN:VEVENT
DTSTART;TZID=America/Los_Angeles:20230525T090000
DTEND;TZID=America/Los_Angeles:20230525T160000
DTSTAMP:20260421T011810
CREATED:20230519T160241Z
LAST-MODIFIED:20230523T010255Z
UID:6922-1685005200-1685030400@fresnoauctioncompany.com
SUMMARY:5-25-23 Thursday Dr's Office Liquidation Sale - One day Only * Not an Auction 9am
DESCRIPTION:THURSDAY Dr. Office Liquidation JUST ADDED!\n1 Day only: 9am to 4pm\n5151 N. Palm Ave. Suite 400\nFresno\, CA 93704\nContents include: Mid-Century furnishing\, artwork and office items. More info to come shortly! CALL Steve at 559-930-7218 for More Details
URL:https://fresnoauctioncompany.com/event/5-25-23/
LOCATION:Dr Office sale\, 5151 N. Palm Ave.\, Fresno\, CA\, 93704\, United States
CATEGORIES:Estate Tag Sale
ATTACH;FMTTYPE=image/jpeg:https://fresnoauctioncompany.com/wp-content/uploads/2023/05/20230514_102002-scaled.jpg
END:VEVENT
BEGIN:VEVENT
DTSTART;TZID=America/Los_Angeles:20230527T080000
DTEND;TZID=America/Los_Angeles:20230527T170000
DTSTAMP:20260421T011810
CREATED:20230503T165826Z
LAST-MODIFIED:20230524T224115Z
UID:5924-1685174400-1685206800@fresnoauctioncompany.com
SUMMARY:5-27-23 Kerman Marvin Schafer Estate Farm Auction - 10am - Tractors\, Forklifts\, Tools\, Vintage Vehicles\, Ski Boat\, & MUCH More!
DESCRIPTION:Tractors\, Forklifts\, Tools\, Dirt Bikes\, Ski Boat\,  UTV\, RV & more!\n16106 West Shields Ave Kerman Californi 93630\nSaturday\, May 27\, 2023 at 10am – Preview begins at 8am\nOn Shields Avenue. West of Siskiyou Ave\,\nFirst property on the North \nFRIDAY PREVIEW JUST ADDED 12PM TO 5PM\nFriday May 26\, 2023 \nThis quality MEGA Farm Estate Auction for the Estate of Marvin Schafer\nis HUGE with Tractors\, Farm Equipment Implements\, Tools\, UTV\, Dirt Bikes\, Ski Boat\, Vehicles\, Antiques\, Collectibles\, Shop Items and MORE!  \nCLICK HERE for scrollable\, expandable Google photo link \nNew Kubota MS- 111 low profile diesel cab tractor\, Kubota M125X diesel cab tractor\, Kubota L4200 diesel tractor\, Kubota L3050T diesel tractor\, Ford 4600 diesel tractor\, newer Branson 4520R  diesel tractor with front end loader\, \nnewer 300 gallon towable Orchard sprayer\, newer Flory towable sulfur machine\, newer Domries 14 ft 3-pt Orchard float\, newer Vrisimo 14 ft 3-pt  PTO Orchard shredder\, newer Salsco towable PTO wood chipper\, newer Kuhn 3-pt PTO broadcast spreader\, Mastercraft Miser rough terrain diesel forklift\, Nissan Optimum 50 diesel forklift\, HiSun Sector E1 48 volt electric 4×4 UTV with dump bed\, wrap around Shaker tree nut Harvester with extra shaker head\, \n1956 Chevy 6\,500 stake bed truck in excellent condition\, 1970 Dodge D100 Adventurer half ton Survivor pickup what camper shell\, 1974 Chrysler Imperial LeBaron two-door sedan Survivor car\, 1988 Fleetwood Southwind RV \, Vintage Custom Sanger flat bottom speed boat with 454 chevy\, 1991 Ford F-150 Lariat LWB pickup with cab high camper shell\, several vintage competition dirt bikes; Husqvarna\, Yamaha\, Honda and others\, pair of Kawasaki Jet Ski 440 WaveRunners and trailer\, \nIndusco model PF 53 tandem hydraulic wheel disc\, Domries tandem 3-pt disc with clod breaker drag\, Towner tandem 3-pt disc\, Domries 3-pt spring-tooth cultivator\,  2 L&H 4 bin bin trailers\, Brandt bin dumper attachment\, towable PTO generator\, 500 gallon stainless towable PTO water wagon\, three flatbed Vineyard trailers\, L&H 3-pt furrow/ blocker\, 3-pt forks\, 3-pt PTO auger\, cane cutter attachments\, berm brush attachments\, self-contained portable field toilet\, towable hydraulic PTO Elevating Scraper\, 3-pt railroad rail drags\, tandem drag disc\, Antique horse-drawn flatbed cargo Wagon in excellent condition\, antique horse drawn disc\, antique Iron Wheel planter\, antique iron-wheeled Vineyard wagon newer transfer pumps and hoses\, new Nema Premium 40 horsepower electric Wellhead motor\, 50 plus raisin bins in excellent condition\, drip line and sprinklers\, HK 150 parts washer\, 25 ton press\, oxy acetylene set with Victor torch\, tools and Tool boxes\, bolt bins and contents\, Drums of oil\, hydraulic fluid and Avgas\, metal storage cabinets\, some shelving\, organizers with o-rings\, connectors\, nuts bolts screws Etc\, pallets of foliar fertilizer\, pallets of miscellaneous chemicals\, ice chests\, hundreds of vintage sweat boxes\, \nantique Mills War Eagle 5 Cent mechanical slot machine antique Mills Golden Nugget Gambling Hall 25 cent slot machine rare pre-prohibition Fresno Brewing Company serving tray\, antique waterfall bedroom set\, antique Radio\, turntable\, antique Morris chair\, antique oak wall phones\, antique Cedar chest\, and much much more. Don’t miss this auction!! \n\n		\n		\n			\n				\n			\n			\n				\n			\n			\n				\n			\n			\n				\n			\n			\n				\n			\n			\n				\n			\n			\n				\n			\n			\n				\n			\n			\n				\n			\n			\n				\n			\n			\n				\n			\n			\n				\n			\n			\n				\n			\n			\n				\n			\n			\n				\n			\n			\n				\n			\n			\n				\n			\n			\n				\n			\n			\n				\n			\n			\n				\n			\n			\n				\n			\n			\n				\n			\n			\n				\n			\n			\n				\n			\n			\n				\n			\n			\n				\n			\n			\n				\n			\n			\n				\n			\n			\n				\n			\n			\n				\n			\n			\n				\n			\n			\n				\n			\n			\n				\n			\n			\n				\n			\n			\n				\n			\n			\n				\n			\n			\n				\n			\n			\n				\n			\n			\n				\n			\n			\n				\n			\n			\n				\n			\n			\n				\n			\n			\n				\n			\n			\n				\n			\n			\n				\n			\n			\n				\n			\n			\n				\n			\n			\n				\n			\n			\n				\n			\n			\n				\n			\n			\n				\n			\n			\n				\n			\n			\n				\n			\n			\n				\n			\n			\n				\n			\n			\n				\n			\n			\n				\n			\n			\n				\n			\n			\n				\n			\n			\n				\n			\n			\n				\n			\n			\n				\n			\n			\n				\n			\n			\n				\n			\n			\n				\n			\n			\n				\n			\n			\n				\n			\n			\n				\n			\n			\n				\n			\n			\n				\n			\n			\n				\n			\n			\n				\n			\n			\n				\n			\n			\n				\n			\n			\n				\n			\n			\n				\n			\n			\n				\n			\n			\n				\n			\n			\n				\n			\n			\n				\n			\n			\n				\n			\n			\n				\n			\n			\n				\n			\n			\n				\n			\n			\n				\n			\n			\n				\n			\n			\n				\n			\n			\n				\n			\n			\n				\n			\n			\n				\n			\n			\n				\n			\n			\n				\n			\n			\n				\n			\n			\n				\n			\n			\n				\n			\n			\n				\n			\n			\n				\n			\n			\n				\n			\n			\n				\n			\n			\n				\n			\n			\n				\n			\n			\n				\n			\n			\n				\n			\n			\n				\n			\n			\n				\n			\n			\n				\n			\n			\n				\n			\n			\n				\n			\n			\n				\n			\n			\n				\n			\n			\n				\n			\n			\n				\n			\n			\n				\n			\n			\n				\n			\n			\n				\n			\n			\n				\n			\n			\n				\n			\n			\n				\n			\n			\n				\n			\n			\n				\n			\n			\n				\n			\n			\n				\n			\n			\n				\n			\n			\n				\n			\n			\n				\n			\n			\n				\n			\n			\n				\n			\n			\n				\n			\n			\n				\n			\n			\n				\n			\n			\n				\n			\n			\n				\n			\n			\n				\n			\n			\n				\n			\n			\n				\n			\n			\n				\n			\n			\n				\n			\n			\n				\n			\n			\n				\n			\n			\n				\n			\n			\n				\n			\n			\n				\n			\n			\n				\n			\n			\n				\n			\n			\n				\n			\n			\n				\n			\n			\n				\n			\n			\n				\n			\n			\n				\n			\n			\n				\n			\n			\n				\n			\n			\n				\n			\n			\n				\n			\n			\n				\n			\n			\n				\n			\n			\n				\n			\n			\n				\n			\n			\n				\n			\n			\n				\n			\n			\n				\n			\n			\n				\n			\n			\n				\n			\n			\n				\n			\n			\n				\n			\n			\n				\n			\n			\n				\n			\n			\n				\n			\n			\n				\n			\n			\n				\n			\n			\n				\n			\n			\n				\n			\n			\n				\n			\n			\n				\n			\n			\n				\n			\n			\n				\n			\n			\n				\n			\n			\n				\n			\n			\n				\n			\n			\n				\n			\n			\n				\n			\n			\n				\n			\n			\n				\n			\n			\n				\n			\n			\n				\n			\n			\n				\n			\n			\n				\n			\n			\n				\n			\n			\n				\n			\n			\n				\n			\n			\n				\n			\n			\n				\n			\n			\n				\n			\n			\n				\n			\n			\n				\n			\n			\n				\n			\n			\n				\n			\n			\n				\n			\n			\n				\n			\n			\n				\n			\n			\n				\n			\n			\n				\n			\n			\n				\n			\n			\n				\n			\n			\n				\n			\n			\n				\n			\n			\n				\n			\n			\n				\n			\n			\n				\n			\n			\n				\n			\n			\n				\n			\n			\n				\n			\n			\n				\n			\n			\n				\n			\n			\n				\n			\n			\n				\n			\n			\n				\n			\n			\n				\n			\n			\n				\n			\n			\n				\n			\n			\n				\n			\n			\n				\n			\n			\n				\n			\n			\n				\n			\n			\n				\n			\n			\n				\n			\n			\n				\n			\n			\n				\n			\n			\n				\n			\n			\n				\n			\n			\n				\n			\n			\n				\n			\n			\n				\n			\n			\n				\n			\n			\n				\n			\n			\n				\n			\n			\n				\n			\n			\n				\n			\n			\n				\n			\n			\n				\n			\n			\n				\n			\n			\n				\n			\n			\n				\n			\n			\n				\n			\n			\n				\n			\n			\n				\n			\n			\n				\n			\n			\n				\n			\n			\n				\n			\n			\n				\n			\n			\n				\n			\n			\n				\n			\n			\n				\n			\n			\n				\n			\n			\n				\n			\n			\n				\n			\n			\n				\n			\n			\n				\n			\n			\n				\n			\n			\n				\n			\n			\n				\n			\n			\n				\n			\n			\n				\n			\n			\n				\n			\n			\n				\n			\n			\n				\n			\n			\n				\n			\n			\n				\n			\n			\n				\n			\n			\n				\n			\n			\n				\n			\n			\n				\n			\n			\n				\n			\n			\n				\n			\n			\n				\n			\n			\n				\n			\n			\n		\n\n  \n 
URL:https://fresnoauctioncompany.com/event/5-27-23/
LOCATION:CA
CATEGORIES:Estate Auction
ATTACH;FMTTYPE=image/jpeg:https://fresnoauctioncompany.com/wp-content/uploads/2023/05/20230518_110917.jpg
END:VEVENT
END:VCALENDAR