BEGIN:VCALENDAR
VERSION:2.0
PRODID:-//Fresno Estates &amp; Auction Company - ECPv6.15.18//NONSGML v1.0//EN
CALSCALE:GREGORIAN
METHOD:PUBLISH
X-WR-CALNAME:Fresno Estates &amp; Auction Company
X-ORIGINAL-URL:https://fresnoauctioncompany.com
X-WR-CALDESC:Events for Fresno Estates &amp; Auction Company
REFRESH-INTERVAL;VALUE=DURATION:PT1H
X-Robots-Tag:noindex
X-PUBLISHED-TTL:PT1H
BEGIN:VTIMEZONE
TZID:America/Los_Angeles
BEGIN:DAYLIGHT
TZOFFSETFROM:-0800
TZOFFSETTO:-0700
TZNAME:PDT
DTSTART:20220313T100000
END:DAYLIGHT
BEGIN:STANDARD
TZOFFSETFROM:-0700
TZOFFSETTO:-0800
TZNAME:PST
DTSTART:20221106T090000
END:STANDARD
BEGIN:DAYLIGHT
TZOFFSETFROM:-0800
TZOFFSETTO:-0700
TZNAME:PDT
DTSTART:20230312T100000
END:DAYLIGHT
BEGIN:STANDARD
TZOFFSETFROM:-0700
TZOFFSETTO:-0800
TZNAME:PST
DTSTART:20231105T090000
END:STANDARD
BEGIN:DAYLIGHT
TZOFFSETFROM:-0800
TZOFFSETTO:-0700
TZNAME:PDT
DTSTART:20240310T100000
END:DAYLIGHT
BEGIN:STANDARD
TZOFFSETFROM:-0700
TZOFFSETTO:-0800
TZNAME:PST
DTSTART:20241103T090000
END:STANDARD
END:VTIMEZONE
BEGIN:VEVENT
DTSTART;TZID=America/Los_Angeles:20230204T080000
DTEND;TZID=America/Los_Angeles:20230204T170000
DTSTAMP:20260421T161642
CREATED:20230110T163434Z
LAST-MODIFIED:20230204T020453Z
UID:536-1675497600-1675530000@fresnoauctioncompany.com
SUMMARY:2-4-23 By Order of the Fresno County Public Guardian--(#2 of 2) Fresno Estate Auction - The Estate of  Dolores Braze 10am
DESCRIPTION:4920 N. Sequoia Drive. apt 103 Fresno\, CA 93705\nBehind Pardini’s  – South Shaw near Van Ness \nBy Order of the Fresno County Public Guardian–(#2 of 2)\nFresno Estate Auction #2- The Estate of  Dolores Braze\nSaturday 2-4-23 at 10am\nwith preview beginning at 8am. \nCLICK HERE for scrollable/expandable Google photo link \nA Cuarto de Febrero Fiesta Auction Featuring;\nLOOK at the NEW PICTURES for\nTomorrow’s car &\nThe Chevy TRAX has been pulled from the auction by the public guardian for repairs.  We will offer it at a later time\n2017 Ford Focus\, clean low miles\,\nHuge Collection of Vintage and colorful collectible Fiesta kitchenware\,\nBauer Ring Ware\,\nH L Co Harliquin\,\nTaylor Smith Taylor Vistosa and more.\nRare signed and  numbered serigraphs by LeRoy Neiman\, full sheets\,\nVintage 1960s and 1970s Rock and Roll and Soul albums\,\nantique handmade Carpenter’s Box full of tools\,/\nTubs of Holiday decorations of all kinds\,\nlots of new toilet paper and cleaning products of all kinds\,\nyard and hand tools\,\nwork bench and much much more. \n\n  \n  \n  \n  \n  \n  \n  \n  \n  \n  \n  \n  \n  \n  \n  \n  \n  \n  \n  \n  \n  \n  \n  \n  \n  \n  \n  \n  \n  \n  \n  \n  \n  \n  \n  \n  \n  \n  \n  \n  \n  \n  \n  \n  \n  \n  \n  \n  \n  \n  \n  \n  \n  \n  \n  \n  \n  \n  \n  \n  \n  \n  \n  \nDetails to be posted soon
URL:https://fresnoauctioncompany.com/event/2-4-23/
CATEGORIES:Estate Auction
END:VEVENT
BEGIN:VEVENT
DTSTART;TZID=America/Los_Angeles:20230128T080000
DTEND;TZID=America/Los_Angeles:20230128T170000
DTSTAMP:20260421T161642
CREATED:20230110T163112Z
LAST-MODIFIED:20230126T062802Z
UID:534-1674892800-1674925200@fresnoauctioncompany.com
SUMMARY:1-28-23 Kingsburg Auction 10am - with home motorcycle shop tools & machinery
DESCRIPTION:2665 Ave 400\, Kingsburg\, CA 93631\nSat. 1-28-23 Estate Auction\nPreview from 8am-10am. Auction Starts at 10am\nClick on photo for full description\, gallery & scrollable/expandable Google photos link \nThis Auction includes:  open full description for scrollable/expandable Google photos \nClick here for scrollable/expandable Google photos \n\nMoroso Pro Air compressor\,\nUniversal sandblasting cabinet\,\nCraftsman 10 inch radial arm saw\n12 ton shop press\nstreet signs Ashland\ncraftsman universal bench grinders\,\nlarge panes of glass on cart\,\nantique drill press with vice\,\ndrill press\,\nlarge shop welding table\,\nheavy duty vice\,\nwhite case sewing machine\,\ncoolers\,\ndrip line\,\nsawhorses\,\nhatchet\,\ntoe straps\,\nlife vests\,\ngas tanks\,\nhandmade knives\,\nlawnmowers\,\nRototillers\,\nmotorcycle stands\,\nwheelbarrels\,\ndog crates\,\nhousehold equipment\,\nhousehold furnishings\,\nfire pillar\,\nmosaic table\,\npool toys and squirt guns\,\ntow chains\,\nhalf ton chain hoist\,\nhandtools of all kinds\,\ncraftsman combination wrenches\,\naftermarket seats and steering wheels\,\nfour jacks\,\njackstands\,\nsilver plate\,\niron prybars\,\nvintage insulators\,\nporcelain sink\,\nstainless steel sink\,\nantique firearm parts\,\nantique horse tack\,\npower supplies\,\nheavy duty cables\,\nRyobi router\,\nBosch tablesaw\,\nutility carts\,\narmy shovels\,\nfish tape\,\nDremel tools\,\npipe benders\,\nCrosley vintage radio\,\nantique black cat stove\,\nFresno state and raider clothing\,\nsweaters\,\nbeanies\,\ncar parts\,\nspeaker systems\,\nlicense plates\,\nmallets\,\npics\,\nradios\,\npurses\,\nmini fridge\,\nfull-size fridge\,\nparts washer\,\nfishing gear\,\nengine stand\,\nlevels\,\noxyacetylene torch and tips\,\ntrickle charger\,\nlarge pipe bender\nhydraulic\,\nmultiple canisters for compressed gas\,\nyard tools\,\nballasts\,\nlights\,\nextension cords\,\npaint\,\nhandmade hammers\,\nimpact sockets\,\nsquares\,\nshop lights\,\npneumatic nail guns\,\nram set\,\ntoe straps\,\nengine mounts\,\nmultiple A-frame ladders\,\nweed torch\,\nOlympic weight bars\,\neasy up tent\,\nracing fuel jugs\,\nsolar panels\,\ncommercial dehumidifier\,\ncommercial blower\,\nmultiple chainsaws\,\ncraftsman scroll saw\,\nwelding clamps\,\nheat guns\,\nangle grinders\,\nMilwaukee angle drill\,\nMilwaukee saws all\,\nsnap on air impacts with sockets and case\,\nsnap on rethreading set\,\nUS general seal press\,\nWorm Drive Skil saw\,\nMakita craftsman Ryobi rigid Milwaukee handtools and power tools and pneumatic tools\,\nsurveyors kit\,\nsprinkler parts\,\nAlco recessed lighting\,\nsealant\,\nair compressors\,\nengines\,\ntires\,\nstock iron pipes\,\nstock wood\,\nplastic and metal recyclables\,\nscrap wire\,\nrigid shop vac\,\nDewalt angle grinder\,\nmetal shrinker stretcher\,\ngolf clubs\,\nnails nuts bolts and screws\,\ntorches\,\naftermarket performance brand stickers\,\nhandcart\,\nburger for Junior\,\nhigh lift bar jack\,\nDewalt 3400 psi pressure washer\,\nextension ladder\,\nramp\,\nT posts\,\nLED lights\,\nstock wood\,\ncrucible and metal\,\nSwifty 3.1 kayak\,\nBali 8SS kayak\,\nstreet signs\,\nplastic drums\,\nsquare chemical containers\,\ndent puller set\,\nmy link safe\,\nsmall organizers and contents\,\ncrankshaft stand\,\nbolt cutters of various sizes\,\nmallets\,\nhammers\,\nsaws\,\ncombination wrenches\,\npry bars\,\nbreaker bars\,\ncrescent wrenches\,\nAllen wrenches\,\nscrewdrivers\,\nKenwood stereo system\,\nshop shelving\,\nwelding rod\,\nwelding equipment\,\nwelding gauges\,\ntruck sockets and ratchets\,\nDevilbiss oil spray gun\,\npaint sprayers\,\nSioux pneumatic impact\,\nIR impacts\,\nSnap-On air ratchet\,\nball peen hammers\,\ncarpentry tools\,\nbuffer polishers pneumatic polishers\,\nmultiple stacking shop tool boxes\,\nchain binders and much much more!\nCall Stve 559-930-7218 or Steven A at 559-355-4162 for address and more details\n\n\n		\n		\n			\n				\n			\n			\n		\n\nGallery below or click here for scrollable Google photos
URL:https://fresnoauctioncompany.com/event/1-28-23/
CATEGORIES:Estate Auction
ATTACH;FMTTYPE=image/jpeg:https://fresnoauctioncompany.com/wp-content/uploads/2023/01/IMG_4534.jpg
END:VEVENT
BEGIN:VEVENT
DTSTART;TZID=America/Los_Angeles:20230121T080000
DTEND;TZID=America/Los_Angeles:20230121T170000
DTSTAMP:20260421T161642
CREATED:20230110T162423Z
LAST-MODIFIED:20230124T031742Z
UID:529-1674288000-1674320400@fresnoauctioncompany.com
SUMMARY:1-21-23 By Order of the Fresno County Public Guardian- Fresno Estate Auction #1 at 10am with vintage concert Tees\, vintage LPs\, and much more!
DESCRIPTION:By Order of the Fresno County Public Guardian–\nFresno Estate Auction 10am\n4920 N. Sequoia Drive. apt 103 Fresno\, CA 93705\nSaturday JANUARY 21\, 2023 at 10am\nwith preview beginning at 8am.. \nThe following will be auctioned;\nvintage fox fur coat in excellent condition\,\nstacks of rare late ’60s and early 70s rock and roll record albums\,\nJerry Garcia and Rolling Stones ties\,\nConcert t-shirts and nearly 100 logo t- shirts depicting beer\,\nrock and roll and sports\,\nvintage Hawaiian shirts\,\niPad\,\niPhone\,\nRattan glass top dining table and chairs\,\nRattan coffee and end tables\,\nrefrigerator freezer\,\nlots of organizers full of craft supplies\,\nmatching Whirlpool washer and dryer\,\nmaple TV trays\,\nlarge sheep’s pelt blanket\,\nDenon stereo system\,\nlots of quality kitchenware\,\nquality small appliances\,\nvintage matchbook collection\,\nvintage collectibles\,\nCorona beer memorabilia\,\n’70s Dragon themed pottery\,\nvintage Christmas lights\,\ncostume jewelry\,\nHello Kitty items\,\nquality purses including several Dooney & Bourke\,\nquality women’s clothing\,\nfour drawer file cabinets\,\nfour quality wooden stools\,\nportable clothing wardrobes\,\npatio chairs\,\nvintage beer schooners\,\nantique crystal glassware\,\nlots of new usable items including toilet paper\, paper towels\, cleaning supplies\,\nnew cookware\,\nmetal storage shelving\,\nfolding wood shelves\,\nstep stools of all kinds\,\nGarden items\,\nGreen Glass bankers lamp\,\nCollectibles of all kinds\,\nand much much more.\n5Gate opens at 7:30 Saturday doors open at 8:00 limited parking inside\,\ncondo is very close to Street easy walking distance.
URL:https://fresnoauctioncompany.com/event/1-21-23/
CATEGORIES:Estate Auction
END:VEVENT
BEGIN:VEVENT
DTSTART;VALUE=DATE:20230114
DTEND;VALUE=DATE:20230115
DTSTAMP:20260421T161642
CREATED:20230110T162911Z
LAST-MODIFIED:20230110T164756Z
UID:532-1673654400-1673740799@fresnoauctioncompany.com
SUMMARY:1-14-23 NO AUCTION - too wet for set up! Yikes
DESCRIPTION:
URL:https://fresnoauctioncompany.com/event/1-14-23/
CATEGORIES:Estate Auction
ATTACH;FMTTYPE=image/jpeg:https://fresnoauctioncompany.com/wp-content/uploads/2023/01/FAC-logo-Bcards-scaled.jpg
END:VEVENT
BEGIN:VEVENT
DTSTART;TZID=America/Los_Angeles:20230107T080000
DTEND;TZID=America/Los_Angeles:20230107T170000
DTSTAMP:20260421T161642
CREATED:20221229T041721Z
LAST-MODIFIED:20230106T154003Z
UID:307-1673078400-1673110800@fresnoauctioncompany.com
SUMMARY:1-7-23 Fresno Estate Auction -with 2008 Pontiac G6 GT\, 20' Container\, Antiques\, collectibles &  More!
DESCRIPTION:Fresno Estate Auction\nSaturday January 7\, 2023 at 10am\n1222 N. Fancher Ave. Fresno\, CA 93727\nPreview beginning at 8am! \nThis Auction: \n\n2008 Pontiac G6 GT\,\n20 ft storage container\,\nhand and power tools of all kinds\,\nweed eaters\,\nleaf blowers\,\npedestal grinder\,\nvintage Craftsman drill press\,\nantique iron-wheeled Vineyard wagon\,\nladders\,\nyard tools\,\nsmall portable stick welder\,\nsanders\,\nvintage antique railroad desk\nvintage Railroad locks\,\nhat badges\,\nlawn mowers\,\nfancy iron Garden chairs\,\nfront load stack washer and dryer\,\ntwo refrigerator freezers\,\nantique oak wall phone\,\nVintage collectible Roy Rogers Guitar\nantique train station waiting room chairs\,\nantique 3 stack lawyers bookcase\,\nantique round oak table with four chairs\,\nquality king size bedroom set\,\nflat screen tv\,\nelectric organ\,\nantique quarter sawn Oak lamp tables\,\nlift chair\,\nclothing\,\nChina cabinet\,\nvintage glass of all kinds\,\nlarge set of Fostoria American pattern glassware\,\nand much more
URL:https://fresnoauctioncompany.com/event/1-7-23/
CATEGORIES:Estate Auction
ATTACH;FMTTYPE=image/jpeg:https://fresnoauctioncompany.com/wp-content/uploads/2022/12/20230103_151636.jpg
END:VEVENT
END:VCALENDAR