BEGIN:VCALENDAR
VERSION:2.0
PRODID:-//Fresno Estates &amp; Auction Company - ECPv6.15.18//NONSGML v1.0//EN
CALSCALE:GREGORIAN
METHOD:PUBLISH
X-WR-CALNAME:Fresno Estates &amp; Auction Company
X-ORIGINAL-URL:https://fresnoauctioncompany.com
X-WR-CALDESC:Events for Fresno Estates &amp; Auction Company
REFRESH-INTERVAL;VALUE=DURATION:PT1H
X-Robots-Tag:noindex
X-PUBLISHED-TTL:PT1H
BEGIN:VTIMEZONE
TZID:America/Los_Angeles
BEGIN:DAYLIGHT
TZOFFSETFROM:-0800
TZOFFSETTO:-0700
TZNAME:PDT
DTSTART:20240310T100000
END:DAYLIGHT
BEGIN:STANDARD
TZOFFSETFROM:-0700
TZOFFSETTO:-0800
TZNAME:PST
DTSTART:20241103T090000
END:STANDARD
BEGIN:DAYLIGHT
TZOFFSETFROM:-0800
TZOFFSETTO:-0700
TZNAME:PDT
DTSTART:20250309T100000
END:DAYLIGHT
BEGIN:STANDARD
TZOFFSETFROM:-0700
TZOFFSETTO:-0800
TZNAME:PST
DTSTART:20251102T090000
END:STANDARD
BEGIN:DAYLIGHT
TZOFFSETFROM:-0800
TZOFFSETTO:-0700
TZNAME:PDT
DTSTART:20260308T100000
END:DAYLIGHT
BEGIN:STANDARD
TZOFFSETFROM:-0700
TZOFFSETTO:-0800
TZNAME:PST
DTSTART:20261101T090000
END:STANDARD
END:VTIMEZONE
BEGIN:VEVENT
DTSTART;TZID=America/Los_Angeles:20251031T090000
DTEND;TZID=America/Los_Angeles:20251102T150000
DTSTAMP:20260421T190436
CREATED:20251030T185610Z
LAST-MODIFIED:20251030T190453Z
UID:27841-1761901200-1762095600@fresnoauctioncompany.com
SUMMARY:10-31\,11-1\,11-2 Three Day Tag Sale with Antiques\, Compressor and More!
DESCRIPTION:When: This Friday Saturday and Sunday 10-31\, 11-1 & 11-2-25\,\nfrom 9am until 3pm all three days. \nWhere: Downtown at 650 Fulton St. Fresno\, CA  93721\,\nNorth of Caesar Chavez and West of Van Ness \nClick here for scrollable and expandable Google Photos \nThis huge sale to include;\nwith great yard art\,\nold picking ladders\,\nlockers of all kinds\,\nwrought iron fence panels\,\nantique champion 400 forge blower\,\nmid-century water feature\,\nReznor hanging shop heater\,\nvintage file cabinets\,\nvintage metal barrels\,\nvintage workbenches and shelving\,\nantique cupolas from an old hatchery\,\nsheets of plywood of various sizes and OSB board\,\nsets of tires and wheels\,\npatio heaters\,\nold china & crystal\,\ngarden pots\,\nvintage shelving & cabinets\,\nan actual stoplight from  the County of Fresno\,\nladders of all kinds\,\nwood picking ladders\,\ncarved antique mantle\,\nHans Sumpf pavers\,\nmid-century rock planters\,\ncement farm sink\,\nRefrigerators and other appliances\,\nvintage pattern cabinet\,\nmulti drawer microfiche cabinet\,\nrolling carts\,\nQuincy industrial compressor\,\ngolf course pea gravel spreader\nand much\, much more.\nDon’t miss this great sale!!!
URL:https://fresnoauctioncompany.com/event/103111111225/
LOCATION:Fresno Auction Company\, 650 Fulton Street\, Fresno\, CA\, 93721\, United States
CATEGORIES:Estate Tag Sale,Special Event
ATTACH;FMTTYPE=image/jpeg:https://fresnoauctioncompany.com/wp-content/uploads/2025/10/IMG_5523-scaled.jpg
END:VEVENT
END:VCALENDAR