BEGIN:VCALENDAR
VERSION:2.0
PRODID:-//Fresno Estates &amp; Auction Company - ECPv6.15.18//NONSGML v1.0//EN
CALSCALE:GREGORIAN
METHOD:PUBLISH
X-ORIGINAL-URL:https://fresnoauctioncompany.com
X-WR-CALDESC:Events for Fresno Estates &amp; Auction Company
REFRESH-INTERVAL;VALUE=DURATION:PT1H
X-Robots-Tag:noindex
X-PUBLISHED-TTL:PT1H
BEGIN:VTIMEZONE
TZID:America/Los_Angeles
BEGIN:DAYLIGHT
TZOFFSETFROM:-0800
TZOFFSETTO:-0700
TZNAME:PDT
DTSTART:20240310T100000
END:DAYLIGHT
BEGIN:STANDARD
TZOFFSETFROM:-0700
TZOFFSETTO:-0800
TZNAME:PST
DTSTART:20241103T090000
END:STANDARD
BEGIN:DAYLIGHT
TZOFFSETFROM:-0800
TZOFFSETTO:-0700
TZNAME:PDT
DTSTART:20250309T100000
END:DAYLIGHT
BEGIN:STANDARD
TZOFFSETFROM:-0700
TZOFFSETTO:-0800
TZNAME:PST
DTSTART:20251102T090000
END:STANDARD
BEGIN:DAYLIGHT
TZOFFSETFROM:-0800
TZOFFSETTO:-0700
TZNAME:PDT
DTSTART:20260308T100000
END:DAYLIGHT
BEGIN:STANDARD
TZOFFSETFROM:-0700
TZOFFSETTO:-0800
TZNAME:PST
DTSTART:20261101T090000
END:STANDARD
END:VTIMEZONE
BEGIN:VEVENT
DTSTART;TZID=America/Los_Angeles:20250418T080000
DTEND;TZID=America/Los_Angeles:20250418T170000
DTSTAMP:20260422T185155
CREATED:20250417T070519Z
LAST-MODIFIED:20250417T092431Z
UID:22829-1744963200-1744995600@fresnoauctioncompany.com
SUMMARY:Hans Sumpf/ Stan Bitters Pottery and Collectibles!
DESCRIPTION:Where: 656 W. Stuart Ave. Clovis\, CA 93612\nNorth of Bullard between Willow and HW168 \nWhen: FRIDAY April 18\, 2025\nPreview from 8 to 10am \nClick here for the expandable and scrollable Google Photos \n\nBeautiful Hans Sumpf/Stan Bitters Thumbprint pots and garden stools\nMargret Hudson large Owl and small birds\nHans Sumpf/Stan Bitters clay Garden hose rollers\,\nStan bitters birdfeeder\nStan Bitters flower wall art\ndozens of great ceramic pieces\nDanish made Skovmand & Anderson dining table with 4 chairs and a leaf\nantique wheelbarrow\,\ncast-iron hose roller\nhanging iron swing\nceramic frogs\,\nceramic and stone pagodas\nantique wine grape crusher\nsmall fountain\niron birdbath\nsawhorses\nchainsaws craftsman\nwalking golf cart\nMiscellaneous home decor for Christmas and holidays\naluminum step ladder\,\nelectric edger\,\nlawn seeder\ncharcoal\,\nJeep jerry can\,\nmodern wheelbarrow\nsandbags\,\ntrash cans\,\nwooden picking ladder\,\nart metal gate\,\nvintage bulldog memorabilia\,\nantique mobile oil gas can\nporcelain enamel cookware\,\nephemera + advertising pieces\,\nantique games\,\ncharcoal portable barbecue\ngolf tour bag\,\nmiscellaneous garage tools and products\n6 foot step ladder\nfour drawer file\n12 unit locker system\,\nquality usable wood\nhand tools\,\nantique camping gear\,\nHand saws\,\nsockets\nnails\ncar ramps\,\nantique military gear\,\ngolf equipment\,\ntacklebox reels\,\nyard tools\,\ncroquet set vintage\ngolf bag ice cooler\,\nwasher and dryer\nhanging macramé ceramic plants\,\npots and pans\nPlate sterling set\ngrape glassware\,\nantique Coleman camping thermos and lunch set\nrattan and wool lounge chair\nantique luggage\,\nantique video camera handheld\nantique typewriter\,\nvintage corner chair\,\nvintage Coleman\,\nsleeping bags\,\nantique transit with legs\,\nblack widow folding slingshot\nOreck XL vacuum\nHoover vacuum carpet cleaner\nvintage ties\,\nvintage golf clubs\,\nHoward Miller wall clock\nHandmade 100% wool floral tapestry\nFresno High letterman‘s letters\,\nantique cuckoo clock\,\nsinger sewing machine table with modern Domestic sewing machine\,\nclothes\,\nbooks\,\nvintage single roll top secretary\,\nwicker and wood chairs and baskets\,\nelite gourmet countertop French door convection toaster oven\,\ndecorations for Christmas\,\nart deco\, eyeball mirror\nstained glass displays\nAnd much more!
URL:https://fresnoauctioncompany.com/event/4-18-25/
CATEGORIES:Estate Auction,Special Event
ATTACH;FMTTYPE=image/jpeg:https://fresnoauctioncompany.com/wp-content/uploads/2025/04/IMG_9104-scaled.jpg
END:VEVENT
END:VCALENDAR