BEGIN:VCALENDAR
VERSION:2.0
PRODID:-//Fresno Estates &amp; Auction Company - ECPv6.15.18//NONSGML v1.0//EN
CALSCALE:GREGORIAN
METHOD:PUBLISH
X-ORIGINAL-URL:https://fresnoauctioncompany.com
X-WR-CALDESC:Events for Fresno Estates &amp; Auction Company
REFRESH-INTERVAL;VALUE=DURATION:PT1H
X-Robots-Tag:noindex
X-PUBLISHED-TTL:PT1H
BEGIN:VTIMEZONE
TZID:America/Los_Angeles
BEGIN:DAYLIGHT
TZOFFSETFROM:-0800
TZOFFSETTO:-0700
TZNAME:PDT
DTSTART:20240310T100000
END:DAYLIGHT
BEGIN:STANDARD
TZOFFSETFROM:-0700
TZOFFSETTO:-0800
TZNAME:PST
DTSTART:20241103T090000
END:STANDARD
BEGIN:DAYLIGHT
TZOFFSETFROM:-0800
TZOFFSETTO:-0700
TZNAME:PDT
DTSTART:20250309T100000
END:DAYLIGHT
BEGIN:STANDARD
TZOFFSETFROM:-0700
TZOFFSETTO:-0800
TZNAME:PST
DTSTART:20251102T090000
END:STANDARD
BEGIN:DAYLIGHT
TZOFFSETFROM:-0800
TZOFFSETTO:-0700
TZNAME:PDT
DTSTART:20260308T100000
END:DAYLIGHT
BEGIN:STANDARD
TZOFFSETFROM:-0700
TZOFFSETTO:-0800
TZNAME:PST
DTSTART:20261101T090000
END:STANDARD
BEGIN:DAYLIGHT
TZOFFSETFROM:-0800
TZOFFSETTO:-0700
TZNAME:PDT
DTSTART:20270314T100000
END:DAYLIGHT
BEGIN:STANDARD
TZOFFSETFROM:-0700
TZOFFSETTO:-0800
TZNAME:PST
DTSTART:20271107T090000
END:STANDARD
END:VTIMEZONE
BEGIN:VEVENT
DTSTART;TZID=America/Los_Angeles:20250928T090000
DTEND;TZID=America/Los_Angeles:20250928T150000
DTSTAMP:20260424T080500
CREATED:20250923T040601Z
LAST-MODIFIED:20250925T230251Z
UID:27029-1759050000-1759071600@fresnoauctioncompany.com
SUMMARY:9-27 & 28-25 Two Day Van Ness Extension Estate Sale with Vintage Coke Machine\, Rare Jaguar Sign\, Vintage Concert  Collectibles and More!
DESCRIPTION:Where: 6695 N. Van Ness Ave Fresno CA 93711\nSouth of Herndon & between Herndon and Sierra. Follow the signs \nWhen: Saturday & Sunday  September 27 & 28\, 2025\n9 to 3 pm Daily. Doors open at 9am \nClick Here for Scrollable and Expandable Photos! \n\nThis Estate Sale to include:\nRare 1950s double-sided Jaguar dealer sign in near mint condition\,\noriginal 1940’s professionally restored coca cola vending machine\,\nrare vintage concert posters from Fresno\, including Steve Miller Band\, Fleetwood Mac\, Big Brother and The Holding Company with Janice Joplin and more.\nCollection of great albums from the 60’s\, 70’s and 80’s\, in excellent condition\,\nvintage posters\, including Farrah Fawcett\, Cheryl Tiges\, Alice Cooper\, The Runaways and more\,\n1920s dinning room table with 8 chairs and matching sideboard\,\nantique Victorian hall tree\,\nhuge set of Noritake china service for twelve with multiple serving pieces and matching stemware\,\ncostume jewelry\,\ndie cast toy cars\,\ncast iron banks\,\ngarage shelving\,\nyard tools\,\nupright garage refrigerator\,\nupright freezer\,\nbutterfly leaf game table and four chairs\, 4 matching bar stools\,\nA frame ladders\,\nbeds\,\nlinens\,\nchests of drawers\,\nleather recliner\,\nTV’s\,\nexercise equipment of all kinds\,\nLarge TV armoire\,\nChristmas decorations\,\ngarage shelving\,\nkitchenware of all types\,\npyrex\,\nstoneware dish set\,\nbooks\,\ncollectibles\,\nantique English time clock\,\nfour drawer file cabinet\,\nbooks\,\nusable items and much\, much more.\nDon’t miss this great sale!!!
URL:https://fresnoauctioncompany.com/event/9-27-28-25-2/
LOCATION:2 day Van Ness Estate Sale\, 6695 N. Van Ness Ave\, FRESNO\, CA\, 93711\, United States
CATEGORIES:Estate Tag Sale
ATTACH;FMTTYPE=image/jpeg:https://fresnoauctioncompany.com/wp-content/uploads/2025/09/20250922_190554-scaled.jpg
END:VEVENT
BEGIN:VEVENT
DTSTART;TZID=America/Los_Angeles:20251031T090000
DTEND;TZID=America/Los_Angeles:20251102T150000
DTSTAMP:20260424T080500
CREATED:20251030T185610Z
LAST-MODIFIED:20251030T190453Z
UID:27841-1761901200-1762095600@fresnoauctioncompany.com
SUMMARY:10-31\,11-1\,11-2 Three Day Tag Sale with Antiques\, Compressor and More!
DESCRIPTION:When: This Friday Saturday and Sunday 10-31\, 11-1 & 11-2-25\,\nfrom 9am until 3pm all three days. \nWhere: Downtown at 650 Fulton St. Fresno\, CA  93721\,\nNorth of Caesar Chavez and West of Van Ness \nClick here for scrollable and expandable Google Photos \nThis huge sale to include;\nwith great yard art\,\nold picking ladders\,\nlockers of all kinds\,\nwrought iron fence panels\,\nantique champion 400 forge blower\,\nmid-century water feature\,\nReznor hanging shop heater\,\nvintage file cabinets\,\nvintage metal barrels\,\nvintage workbenches and shelving\,\nantique cupolas from an old hatchery\,\nsheets of plywood of various sizes and OSB board\,\nsets of tires and wheels\,\npatio heaters\,\nold china & crystal\,\ngarden pots\,\nvintage shelving & cabinets\,\nan actual stoplight from  the County of Fresno\,\nladders of all kinds\,\nwood picking ladders\,\ncarved antique mantle\,\nHans Sumpf pavers\,\nmid-century rock planters\,\ncement farm sink\,\nRefrigerators and other appliances\,\nvintage pattern cabinet\,\nmulti drawer microfiche cabinet\,\nrolling carts\,\nQuincy industrial compressor\,\ngolf course pea gravel spreader\nand much\, much more.\nDon’t miss this great sale!!!
URL:https://fresnoauctioncompany.com/event/103111111225/
LOCATION:Fresno Auction Company\, 650 Fulton Street\, Fresno\, CA\, 93721\, United States
CATEGORIES:Estate Tag Sale,Special Event
ATTACH;FMTTYPE=image/jpeg:https://fresnoauctioncompany.com/wp-content/uploads/2025/10/IMG_5523-scaled.jpg
END:VEVENT
BEGIN:VEVENT
DTSTART;TZID=America/Los_Angeles:20251115T090000
DTEND;TZID=America/Los_Angeles:20251116T150000
DTSTAMP:20260424T080500
CREATED:20251111T180103Z
LAST-MODIFIED:20251113T171254Z
UID:28099-1763197200-1763305200@fresnoauctioncompany.com
SUMMARY:2-Day Fort Washington Estate Tag Sale!
DESCRIPTION:Where: 355 E Everglade Ave. Fresno\, Ca 93720\nSouth of Sheppard\, East of Friant. Follow the signs. \nWhen: Saturday & Sunday  November 15 & 16\, 2025\n9 to 3 pm Daily. Doors open at 9am \nClick Here for Scrollable Google photos  \nThis Tag Sale to include; \nBeautiful Mid Century Modern Drexel dining table with six chairs\, two leaves and matching pads\,\nkitchen table with six matching expanded metal wrought iron chairs and two leaves\,\nvintage set of Wallace Sterling Silver service for twelve with multiple serving pieces\,\npair of Mid Century Modern Sterling candlesticks by Myers\,\nKenmore refrigerator freezer\,\nKenmore Commercial frost free upright freezer\,\nSouthwestern blankets and wall art\nvintage hand hammered aluminum lazy Susan\,\nKeurig coffee maker\,\nsmall kitchen appliances\,\nset of stainless flatware\,\nwine and water glasses\ncostume jewelry\,\nLenox vase\,\nmatching sofa and loveseat\,\nset of home collection dish set\,\noriental entry rug\,\nmatching coffee and end tables\,\nupholstered side chairs\,\nvintage floor lamp\, artwork\,\nBrown Jordan glass top patio table with four chairs\,\nTwo sets folding chairs\,\nexpanded metal patio table\,\nlive and artificial plants\,\nwind chime\,\nlarge antique style beveled mirror\,\nlarge beautiful set of Minton china service for 12\,\nquality lead crystal and cut glass vases\,\nbowls and miscellaneous\,\nbeautiful handmade wall hangings\,\nquality upholstered wing back and armchairs\,\nformal living room sofa\,\nartwork of all kinds\,\nquality solid oak nine drawer console dresser with matching beveled mirror\,\nquality king size bed with Memory Foam Tempuredic mattress\,\n3 cushion hide a bed sofa\,\nBeautiful oak writing desk\,\ncomputer table\,\nbookcase\,\nlarge vintage Caswell Runyon Company cedar chest\,\nqueen size bed with Sealy Posturpedic Super Premium Grandeur mattress and foundation\,
URL:https://fresnoauctioncompany.com/event/11-1516-25/
LOCATION:355 E Everglade Ave\, 355 E Everglade Ave\, Fresno\, CA\, 93720\, United States
CATEGORIES:Estate Tag Sale
ATTACH;FMTTYPE=image/jpeg:https://fresnoauctioncompany.com/wp-content/uploads/2025/11/IMG_6194.jpg
END:VEVENT
BEGIN:VEVENT
DTSTART;TZID=America/Los_Angeles:20251213T080000
DTEND;TZID=America/Los_Angeles:20251214T170000
DTSTAMP:20260424T080500
CREATED:20251126T090515Z
LAST-MODIFIED:20251212T002014Z
UID:28611-1765612800-1765731600@fresnoauctioncompany.com
SUMMARY:12/13&14 Crystal Geodes\, Hans Sumpf\, and Margaret Hudson Pottery
DESCRIPTION:Where: 5431 W Bedford Ave. Fresno\, CA 93722\nCross Streets of Milburn and Herndon Ave. \nWhen: Saturday and Sunday December 13th/14th\, 2025 at 9am\nThe Estate Sale will start at 9am \nClick Here For Scrollable and Expandable Photos \nThis Estate Sale to include: \n\nHans Sumpf/Stan Bitters molded thumbprint pots\nHans Sumpf/Stan Bitters large scratch pots\nHans Sumpf/Stan Bitters pathway stones\nMargaret Hudson pottery sculptures of varying sizes as large as 2.5ft tall\nLe Creuset Porcelain Enamel cookware in round\, square\, and specialty shapes.\nAmethyst\, Quartz\, Selenite\, and other mineral geodes and polished stones\nGemstone obelisks and orbs\nPurple Barnacle display\nVibrant original art pieces\nThomas Kinkade paintings with COA\nMetal animal silhouettes and sculptures from multiple artists\nFenton glass cats and dozens of other glass art pieces\nMetal flower arrangements\nRolling elephant table\nArt Deco mirror\nLive edge coat racks\nHoward Miller grandfather clock\nBeautiful Breakfast table and 4 chairs\nLight dish cabinet with soft close drawers\nKitchen utensils and glass ware of all kinds\nCuisinart Coffee Machine\nRadio Flyer Wagon\nGarden Sun art pieces\nPatio furniture\nAmish made Queen size bedroom set with 2 nightstands\, dresser w/ mirror\, Captains bedframe\, 6 compartment highboy\, and a bed seat.\nMetal wall art\nClothes and accessories\nMini fridges\nBooks\nVacuums\nHoliday decorations\nSlow cooker\nYogurt maker\nNinja Blender\nPanini Press\nDehydrator\nAroma rice cooker\nColeman double camp chair\nhand tools\nshop stool\nelliptical machine\nMiracle Gro and garden supplies\nplastic organizers\ngarage rack shelving\nOffice furniture\nand much much more!\n\n 
URL:https://fresnoauctioncompany.com/event/12-13-25/
CATEGORIES:Estate Tag Sale
ATTACH;FMTTYPE=image/jpeg:https://fresnoauctioncompany.com/wp-content/uploads/2025/11/IMG_7258-scaled.jpg
END:VEVENT
BEGIN:VEVENT
DTSTART;TZID=America/Los_Angeles:20251220T090000
DTEND;TZID=America/Los_Angeles:20251221T150000
DTSTAMP:20260424T080500
CREATED:20251215T231216Z
LAST-MODIFIED:20251218T050938Z
UID:29022-1766221200-1766329200@fresnoauctioncompany.com
SUMMARY:12/20&21 Antique\, Collectible\, MCM Furniture Tag Sale!
DESCRIPTION:Where: 2057 E Front St. Selma\, CA 93662\nCross Streets Second and Front St. in Selma \nWhen: Saturday and Sunday December 20th/21st\, 2025 at 9am\nThe Estate Sale will start at 9am \nClick here for Scrollable and Expandable Google Photos! \nThis tag sale to include; \n\nVintage and pristine Broyhill Emphasis Bedroom set with 6pcs\nKenmore 60’s BBQ cart\nVintage Aluminum cannister set\n50’s Ford automotive grill\nSunning MCM curio cabinet\n1800’s marble top cabinet with ornate hand carvings\n1900’s antique whicker patio set\n1900’s Antique painting and frame\nAntique rice\, sugar\, cotton seed\, potato\, and flour bags\nBeautiful MCM green vinyl couch\nHandmade decorative rugs\nOrnate antique end tables\nJewelry cabinets\nPhilco CD/Vinyl record player\nQuality white whicker and blue outdoor patio furniture set\nPatchwork hide collage blanket\nGreen/Yellow AH FireKing milk glass coffee cups\nSpindle leg marble claw foot end table\nAntique branded clothes hangers\nLamps and plant stands\nCast iron Dutch ovens\nCast iron frying pans and pancake pans\nAntique pottery\nWestinghouse Phase Meter\nSoundmirror Magnetic Recorder\nSony Reel to Reel machines\nVintage brushed aluminum lamp\nAntique walking lawn tractor sprinkler\nAntique SmithLens car light lenses\nVintage aluminum meal containers\nVintage Toyco toy trains\nWooden soda/drink boxes\nHundreds of 78 and 45 vinyl records\nVintage candle holders\nMultiple clocks and clock housings\nMilitary flasks\nVintage comic book Lunchboxes (some w/ thermos)\nGas cans\nSpitoons\nVintage games and books\nAntique kitchen appliances\nWollensak portable projector\nAntique camel saddle stand\nBaking items and irons\nSunbeam mixers\nBeautiful landscape pictures\nVintage art installations\nCedar chests\nCorner curio cabinet\nAntique floor to ceiling lamp\nBeveled edge mirror\nAntique Pioneer/Kenwood audio equipment\nGorgeous woven whicker dining chairs\nAir Stream portable air tank\nDining table with 6 chairs and two leaves\nand much much more!
URL:https://fresnoauctioncompany.com/event/12-2021-25/
LOCATION:2057 E Front St.\, 2057 E Front St.\, Selma\, CA\, 93662\, United States
CATEGORIES:Estate Tag Sale
ATTACH;FMTTYPE=image/jpeg:https://fresnoauctioncompany.com/wp-content/uploads/2025/12/IMG_7453-scaled.jpg
END:VEVENT
BEGIN:VEVENT
DTSTART;VALUE=DATE:20260103
DTEND;VALUE=DATE:20260105
DTSTAMP:20260424T080500
CREATED:20251230T012006Z
LAST-MODIFIED:20251230T184947Z
UID:29154-1767398400-1767571199@fresnoauctioncompany.com
SUMMARY:1/3 & 1/4 Selma Antique Tag Sale!
DESCRIPTION:Where: 2057 E Front St. Selma\, CA 93662\nCross Streets Second and Front St. in Selma \nWhen: Saturday and Sunday January 3 & 4 at 10am\nSaturday the tag sale will start at 10am and end at 3pm \nSunday the tag sale will start at 10am and end at 1pm. \nClick here for Scrollable and Expandable Google Photos! \nThis tag sale to include; \n\nHundreds of small table items from the 40’s through the ’00’s\nVintage and pristine Broyhill Emphasis Bedroom set with 6pcs\nKenmore 60’s BBQ cart\nVintage Aluminum cannister set\n50’s Ford automotive grill\nSunning MCM curio cabinet\n1800’s marble top cabinet with ornate hand carvings\n1900’s antique whicker patio set\n1900’s Antique painting and frame\nAntique rice\, sugar\, cotton seed\, potato\, and flour bags\nBeautiful MCM green vinyl couch\nHandmade decorative rugs\nOrnate antique end tables\nJewelry cabinets\nPhilco CD/Vinyl record player\nQuality white whicker and blue outdoor patio furniture set\nPatchwork hide collage blanket\nGreen/Yellow AH FireKing milk glass coffee cups\nSpindle leg marble claw foot end table\nAntique branded clothes hangers\nLamps and plant stands\nCast iron Dutch ovens\nCast iron frying pans and pancake pans\nAntique pottery\nWestinghouse Phase Meter\nSoundmirror Magnetic Recorder\nSony Reel to Reel machines\nVintage brushed aluminum lamp\nAntique walking lawn tractor sprinkler\nAntique SmithLens car light lenses\nVintage aluminum meal containers\nVintage Toyco toy trains\nWooden soda/drink boxes\nHundreds of 78 and 45 vinyl records\nVintage candle holders\nMultiple clocks and clock housings\nMilitary flasks\nVintage comic book Lunchboxes (some w/ thermos)\nGas cans\nSpitoons\nVintage games and books\nAntique kitchen appliances\nWollensak portable projector\nAntique camel saddle stand\nBaking items and irons\nSunbeam mixers\nBeautiful landscape pictures\nVintage art installations\nCedar chests\nCorner curio cabinet\nAntique floor to ceiling lamp\nBeveled edge mirror\nAntique Pioneer/Kenwood audio equipment\nGorgeous woven whicker dining chairs\nAir Stream portable air tank\nDining table with 6 chairs and two leaves\nand much much more!
URL:https://fresnoauctioncompany.com/event/1-3-1-4-26/
LOCATION:2057 E Front St.\, 2057 E Front St.\, Selma\, CA\, 93662\, United States
CATEGORIES:Estate Tag Sale
ATTACH;FMTTYPE=image/jpeg:https://fresnoauctioncompany.com/wp-content/uploads/2025/12/IMG_7390-scaled.jpg
END:VEVENT
BEGIN:VEVENT
DTSTART;TZID=America/Los_Angeles:20260327T090000
DTEND;TZID=America/Los_Angeles:20260327T150000
DTSTAMP:20260424T080500
CREATED:20260309T222709Z
LAST-MODIFIED:20260327T021109Z
UID:30661-1774602000-1774623600@fresnoauctioncompany.com
SUMMARY:ONE DAY Clovis Estate Tag Sale with Neon\, Quality Vintage Fabric\, and Fine Antiques!
DESCRIPTION:Where: 2545 Finchwood Ave. Clovis\, CA 93611\nEast of Armstrong\, North of Barstow. \nWhen: Friday March 27\, 2026 at 9am\nWe will only be holding the sale for one day! Doors open at 9am and close when the crowd stops coming or 3pm whichever is first. \nClick here for Scrollable and Expandable Google photos! \nThis Estate Tag Sale is to include: \nVintage Neon Signs\nMid Century Modern China Cabinet\nVintage Acoustic guitars\nSouvenir pillow cases\nVintage Philco predicta TV\nVintage RCA floor model radio\nVintage Mission style grandfather clock\nAntique paintings\nCedar Chest\nLuggage\nAntique floor lamps\n4 panel asian screen\nsigns\nvintage metal Tonka Toys\nAntique Oak wall phone\nvintage clothes\nVintage Hollywood regency wall light and table light\n1940’s overstuffed chair and sofa\nAntiques and collectibles\nbooks and games\nhousehold items\nand much much more!
URL:https://fresnoauctioncompany.com/event/march-20-22/
LOCATION:2545 Finchwood Ave\, 2545 Finchwood Ave.\, Clovis\, CA\, 93611\, United States
CATEGORIES:Estate Tag Sale
ATTACH;FMTTYPE=image/jpeg:https://fresnoauctioncompany.com/wp-content/uploads/2026/03/IMG_0234-2-scaled.jpg
END:VEVENT
END:VCALENDAR