BEGIN:VCALENDAR
VERSION:2.0
PRODID:-//Fresno Estates &amp; Auction Company - ECPv6.15.18//NONSGML v1.0//EN
CALSCALE:GREGORIAN
METHOD:PUBLISH
X-ORIGINAL-URL:https://fresnoauctioncompany.com
X-WR-CALDESC:Events for Fresno Estates &amp; Auction Company
REFRESH-INTERVAL;VALUE=DURATION:PT1H
X-Robots-Tag:noindex
X-PUBLISHED-TTL:PT1H
BEGIN:VTIMEZONE
TZID:America/Los_Angeles
BEGIN:DAYLIGHT
TZOFFSETFROM:-0800
TZOFFSETTO:-0700
TZNAME:PDT
DTSTART:20240310T100000
END:DAYLIGHT
BEGIN:STANDARD
TZOFFSETFROM:-0700
TZOFFSETTO:-0800
TZNAME:PST
DTSTART:20241103T090000
END:STANDARD
BEGIN:DAYLIGHT
TZOFFSETFROM:-0800
TZOFFSETTO:-0700
TZNAME:PDT
DTSTART:20250309T100000
END:DAYLIGHT
BEGIN:STANDARD
TZOFFSETFROM:-0700
TZOFFSETTO:-0800
TZNAME:PST
DTSTART:20251102T090000
END:STANDARD
BEGIN:DAYLIGHT
TZOFFSETFROM:-0800
TZOFFSETTO:-0700
TZNAME:PDT
DTSTART:20260308T100000
END:DAYLIGHT
BEGIN:STANDARD
TZOFFSETFROM:-0700
TZOFFSETTO:-0800
TZNAME:PST
DTSTART:20261101T090000
END:STANDARD
END:VTIMEZONE
BEGIN:VEVENT
DTSTART;TZID=America/Los_Angeles:20250622T100000
DTEND;TZID=America/Los_Angeles:20250622T100000
DTSTAMP:20260424T114959
CREATED:20250622T011459Z
LAST-MODIFIED:20250622T013836Z
UID:24894-1750586400-1750586400@fresnoauctioncompany.com
SUMMARY:JUST IN! 50% & More OFF Quality Madera Estate LIQUIDATION Tag SALE *ALL MUST GO*June 22 (Possible 23&24 as needed)
DESCRIPTION:Where:12 Via Cerioni\, Madera CA 93637\nComplete Liquidation Estate Sale Details:\n*Our Personalized Gate key code is #0516\nNOTE: Personalized Gate CODE VALID ONLY DURING POSTED HOURS OF THE ESTATE SALE\n*Ample street parking available\n*Please help us respect neighbors. Please do not park or block driveways \nWhen: June 22 (23 & 24 if needed)\, 2025 \nSunday from 10am-4pm\nIf Needed\nMonday from 12pm-6pm\nTuesday from 12pm-6pm  \nYou read that right… ALL Items 50% or MORE off. The contents of home MUST be cleared! \nThis Auction Includes: UPDATED Photos & Description BELOW  \n\n loveseat with matching ottoman\,\nfancy oak armoire\, custom end tables with paw feet\,\ndecorative pillows of all kinds\,\nAntique curio cabinet\,\niron and brass bed\,\n Asian style mirror\,\nwood frame mirror\,\nfancy writing desk\,\nantique style floral design side chair\,\noil on canvas painting of boy in fancy frame\,\nlamps and lighting\,\nantique carnival glass\,\ndecorator items of all kinds\,\nsofa\,\ndiamond pattern armchair\,\ndesigner clothes\,\nshoes\,\nbelts\,\npurses and accessories.\nTablecloths and linens\,\nChristmas and holiday items\,\npotted plants\,\ncement planters with plants\,\narea rugs\,\nand much more high quality items.
URL:https://fresnoauctioncompany.com/event/just-in-50-more-off-quality-madera-estate-liquidation-tag-sale-all-must-gojune-22-possible-2324-as-needed/
LOCATION:CA
CATEGORIES:Estate Tag Sale
END:VEVENT
END:VCALENDAR