BEGIN:VCALENDAR
VERSION:2.0
PRODID:-//Fresno Estates &amp; Auction Company - ECPv6.15.18//NONSGML v1.0//EN
CALSCALE:GREGORIAN
METHOD:PUBLISH
X-WR-CALNAME:Fresno Estates &amp; Auction Company
X-ORIGINAL-URL:https://fresnoauctioncompany.com
X-WR-CALDESC:Events for Fresno Estates &amp; Auction Company
REFRESH-INTERVAL;VALUE=DURATION:PT1H
X-Robots-Tag:noindex
X-PUBLISHED-TTL:PT1H
BEGIN:VTIMEZONE
TZID:America/Los_Angeles
BEGIN:DAYLIGHT
TZOFFSETFROM:-0800
TZOFFSETTO:-0700
TZNAME:PDT
DTSTART:20240310T100000
END:DAYLIGHT
BEGIN:STANDARD
TZOFFSETFROM:-0700
TZOFFSETTO:-0800
TZNAME:PST
DTSTART:20241103T090000
END:STANDARD
BEGIN:DAYLIGHT
TZOFFSETFROM:-0800
TZOFFSETTO:-0700
TZNAME:PDT
DTSTART:20250309T100000
END:DAYLIGHT
BEGIN:STANDARD
TZOFFSETFROM:-0700
TZOFFSETTO:-0800
TZNAME:PST
DTSTART:20251102T090000
END:STANDARD
BEGIN:DAYLIGHT
TZOFFSETFROM:-0800
TZOFFSETTO:-0700
TZNAME:PDT
DTSTART:20260308T100000
END:DAYLIGHT
BEGIN:STANDARD
TZOFFSETFROM:-0700
TZOFFSETTO:-0800
TZNAME:PST
DTSTART:20261101T090000
END:STANDARD
END:VTIMEZONE
BEGIN:VEVENT
DTSTART;TZID=America/Los_Angeles:20250316T110000
DTEND;TZID=America/Los_Angeles:20250318T160000
DTSTAMP:20260424T210238
CREATED:20250313T192956Z
LAST-MODIFIED:20250314T033749Z
UID:22347-1742122800-1742313600@fresnoauctioncompany.com
SUMMARY:50% Off! Flash Tag Sale! 3/16 SUNDAY!
DESCRIPTION:Where: 648 Broadway St. Fresno\, CA 93721\nNorth of Ventura\, West of Van Ness! \nWhen: Friday 3/14 + Sunday 3/16 @ 11am!\nWe are open from 11am to 4pm \nThis flash tag sale is a 50% off special event with furniture\, records\, electronics\, memorabilia\, antiques\, vintage clothes.
URL:https://fresnoauctioncompany.com/event/3-16-25/
LOCATION:Broadway Warehouse\, 648 Broadway Street\, Fresno\, CA\, 93721\, United States
CATEGORIES:Estate Tag Sale,Special Event
END:VEVENT
BEGIN:VEVENT
DTSTART;TZID=America/Los_Angeles:20250322T090000
DTEND;TZID=America/Los_Angeles:20250322T150000
DTSTAMP:20260424T210238
CREATED:20250319T031104Z
LAST-MODIFIED:20250319T033450Z
UID:22429-1742634000-1742655600@fresnoauctioncompany.com
SUMMARY:2 Day Estate Kerman Sale - The Estate of Dorothy Lutz - Beloved Teacher and an Honored Kerman Legend
DESCRIPTION:Where: 14241 N. Kearney Blvd.\, Kerman\, CA 93630\nSouthEast Corner of Kearney and 16th Street \nWhen: Saturday & Sunday \n9 to 3 pm Daily. Doors open at 9am \nClick here for the expandable and scrollable Google Photos \nThis estate sale (Not an Auction) features the Estate of Dorothy Lutz\, longtime Kerman resident and Beloved High School teacher. (Fun Fact= She taught my class of 48′ father\, my sister and I – class of 77′ &b 79) Her legacy spanned over 100 yrs!  A one-of-a-kind gem of a lady. \nFeatured items include: \n\nvintage glass wear\nvintage Silver-plate tea set\nvintage Figurines\nSan Francisco “Sliding In” bobble head\nVintage Dinner wear and China\nClassic Rock LP\nVintage Woodstock Album\nBooks\nLeather Sofas\nQuality Oak Formal Dinning table with 8 chairs\, 2 leaves & Custom pads\nOak Curio Cabinet\nFloral Ethan Allen Love seat\nAntique Mahogany China cabinet\nAntique Mahogany Duncan Phyfe style entry table\nQuality Fancy oak writing table\nGlass coffee table\nside chairs\nWooden Bar cart\nclocks\nlamps\ncookware\nGold plated and silver plated flatware\ncorner cabinets\nStatues\nsilk florals arrangements\nVintage twin bed\, head & foot board  and night stand\nAntique porcelain tea sets\nVintage and painted plates and decorator plates\nPorcelain doll\nBedroom Corner Dresser and desk center\nArea rug\nRecliner\nLined wood chest\nSigned Artwork\nMany Pots and Plants\nYard Art\nBird houses\n2 matching patio sets\nand More!\nPlease join us!
URL:https://fresnoauctioncompany.com/event/2-day-estate-kerman-sale-the-estate-of-dorothy-lutz-beloved-teacher-and-an-honored-kerman-legend/
LOCATION:mrs lutz\, 14241 N. Kearney Blvd.\, Kerman\, CA\, 93630\, United States
CATEGORIES:Estate Tag Sale
ATTACH;FMTTYPE=image/jpeg:https://fresnoauctioncompany.com/wp-content/uploads/2025/03/Screenshot_20250318_185532_Gallery.jpg
END:VEVENT
END:VCALENDAR