BEGIN:VCALENDAR
VERSION:2.0
PRODID:-//Fresno Estates &amp; Auction Company - ECPv6.15.18//NONSGML v1.0//EN
CALSCALE:GREGORIAN
METHOD:PUBLISH
X-WR-CALNAME:Fresno Estates &amp; Auction Company
X-ORIGINAL-URL:https://fresnoauctioncompany.com
X-WR-CALDESC:Events for Fresno Estates &amp; Auction Company
REFRESH-INTERVAL;VALUE=DURATION:PT1H
X-Robots-Tag:noindex
X-PUBLISHED-TTL:PT1H
BEGIN:VTIMEZONE
TZID:America/Los_Angeles
BEGIN:DAYLIGHT
TZOFFSETFROM:-0800
TZOFFSETTO:-0700
TZNAME:PDT
DTSTART:20250309T100000
END:DAYLIGHT
BEGIN:STANDARD
TZOFFSETFROM:-0700
TZOFFSETTO:-0800
TZNAME:PST
DTSTART:20251102T090000
END:STANDARD
BEGIN:DAYLIGHT
TZOFFSETFROM:-0800
TZOFFSETTO:-0700
TZNAME:PDT
DTSTART:20260308T100000
END:DAYLIGHT
BEGIN:STANDARD
TZOFFSETFROM:-0700
TZOFFSETTO:-0800
TZNAME:PST
DTSTART:20261101T090000
END:STANDARD
BEGIN:DAYLIGHT
TZOFFSETFROM:-0800
TZOFFSETTO:-0700
TZNAME:PDT
DTSTART:20270314T100000
END:DAYLIGHT
BEGIN:STANDARD
TZOFFSETFROM:-0700
TZOFFSETTO:-0800
TZNAME:PST
DTSTART:20271107T090000
END:STANDARD
END:VTIMEZONE
BEGIN:VEVENT
DTSTART;TZID=America/Los_Angeles:20260425T080000
DTEND;TZID=America/Los_Angeles:20260505T170000
DTSTAMP:20260423T000451
CREATED:20260304T170007Z
LAST-MODIFIED:20260423T031157Z
UID:30287-1777104000-1778000400@fresnoauctioncompany.com
SUMMARY:April 25 Coca Cola & Collectibles Auction 10am
DESCRIPTION:Where: 648 Broadway St. Fresno Ca\, 93721\nCross Streets of Mono and Broadway \nWhen: Saturday\, April 25\, 2026 at 10am\nPreview starting at 8am. Auction starts at 10am \nClick Here For Scrollable and Expandable Photos \nThis Auction to include:\nCoca Cola Collectibles\nVintage metal Buddy L Coca-Cola truck\,\nRetro graphic barware\nVintage records\ncollectible porcelain and metal signs\,\nvintage Tom’s salted peanut jar\,\n1966 Mustang parts\,\nvintage wooden Pepsi\,\nCoke and other soda crates from Fresno\,\nvintage radios\,\nvintage and collectible Coke trays\,\nantique wall phone\,\n50’s Mallard duck TV lamp\,\nvintage dolls\,\nvintage McDonald’s collectibles\,\nantique coffee grinder\,\n50’s car hop tray\,\nvintage wood & embossed metal Pepsi carrier with bottles\,\ncollectible bottles in carriers and collectible soda cans\,\nvintage cameras\,\nantique Denver Colorado crock\,\nvintage records\,\nstereo items\,\nvintage neon tube beer signs\,\nbeer mirrors\,\ncollectible new neon lamp signs\,\ngames and puzzles\,\nand much much more.
URL:https://fresnoauctioncompany.com/event/4-25/
LOCATION:648 Broadway\, 648 Broadway Street\, FRESNO\, CA\, 93721\, United States
CATEGORIES:Estate Auction
ATTACH;FMTTYPE=image/jpeg:https://fresnoauctioncompany.com/wp-content/uploads/2026/03/IMG_0551-scaled.jpg
END:VEVENT
END:VCALENDAR