BEGIN:VCALENDAR
VERSION:2.0
PRODID:-//Fresno Estates &amp; Auction Company - ECPv6.15.18//NONSGML v1.0//EN
CALSCALE:GREGORIAN
METHOD:PUBLISH
X-ORIGINAL-URL:https://fresnoauctioncompany.com
X-WR-CALDESC:Events for Fresno Estates &amp; Auction Company
REFRESH-INTERVAL;VALUE=DURATION:PT1H
X-Robots-Tag:noindex
X-PUBLISHED-TTL:PT1H
BEGIN:VTIMEZONE
TZID:America/Los_Angeles
BEGIN:DAYLIGHT
TZOFFSETFROM:-0800
TZOFFSETTO:-0700
TZNAME:PDT
DTSTART:20240310T100000
END:DAYLIGHT
BEGIN:STANDARD
TZOFFSETFROM:-0700
TZOFFSETTO:-0800
TZNAME:PST
DTSTART:20241103T090000
END:STANDARD
BEGIN:DAYLIGHT
TZOFFSETFROM:-0800
TZOFFSETTO:-0700
TZNAME:PDT
DTSTART:20250309T100000
END:DAYLIGHT
BEGIN:STANDARD
TZOFFSETFROM:-0700
TZOFFSETTO:-0800
TZNAME:PST
DTSTART:20251102T090000
END:STANDARD
BEGIN:DAYLIGHT
TZOFFSETFROM:-0800
TZOFFSETTO:-0700
TZNAME:PDT
DTSTART:20260308T100000
END:DAYLIGHT
BEGIN:STANDARD
TZOFFSETFROM:-0700
TZOFFSETTO:-0800
TZNAME:PST
DTSTART:20261101T090000
END:STANDARD
END:VTIMEZONE
BEGIN:VEVENT
DTSTART;TZID=America/Los_Angeles:20250920T080000
DTEND;TZID=America/Los_Angeles:20250920T170000
DTSTAMP:20260423T153343
CREATED:20250917T164108Z
LAST-MODIFIED:20251008T013125Z
UID:26829-1758355200-1758387600@fresnoauctioncompany.com
SUMMARY:9/20/25 Madera Estate Auction with Rare Singer Featherweights\, Antique Advertising\, and Tons of Sewing Notions!
DESCRIPTION:Where: 2352 Frederick Way 93637\nWest of 99 and South of Cleveland. Follow the signs \nWhen: Saturday September 20\, 2025 at 10am\nPreview starting at 8am. Auction starts at 10am \nClick Here For Scrollable and Expandable Photos \nThis auction to include: \n\nGorgeous antique mantle clocks\nMultiple Singer Featherweight sewing machines\nMisc. Singer accessories\nMiniature Singer sewing machines\nPurses\nWallets\nHandbags\nGlassware\nHandmade Dolls\nAntique Dolls\nsewing patterns\nthimbles\nSewing notions\nhundreds of buttons\nhundreds of spools of thread\nand much much more
URL:https://fresnoauctioncompany.com/event/9-20-25/
LOCATION:Madera Estate Tag Sale\, 2352 Frederick Way\,\, Madera\, CA\, 93637\, United States
CATEGORIES:Estate Auction,Estate Tag Sale
ATTACH;FMTTYPE=image/jpeg:https://fresnoauctioncompany.com/wp-content/uploads/2025/09/IMG_4143-1-scaled.jpg
END:VEVENT
END:VCALENDAR