BEGIN:VCALENDAR
VERSION:2.0
PRODID:-//Fresno Estates &amp; Auction Company - ECPv6.15.18//NONSGML v1.0//EN
CALSCALE:GREGORIAN
METHOD:PUBLISH
X-WR-CALNAME:Fresno Estates &amp; Auction Company
X-ORIGINAL-URL:https://fresnoauctioncompany.com
X-WR-CALDESC:Events for Fresno Estates &amp; Auction Company
REFRESH-INTERVAL;VALUE=DURATION:PT1H
X-Robots-Tag:noindex
X-PUBLISHED-TTL:PT1H
BEGIN:VTIMEZONE
TZID:America/Los_Angeles
BEGIN:DAYLIGHT
TZOFFSETFROM:-0800
TZOFFSETTO:-0700
TZNAME:PDT
DTSTART:20240310T100000
END:DAYLIGHT
BEGIN:STANDARD
TZOFFSETFROM:-0700
TZOFFSETTO:-0800
TZNAME:PST
DTSTART:20241103T090000
END:STANDARD
BEGIN:DAYLIGHT
TZOFFSETFROM:-0800
TZOFFSETTO:-0700
TZNAME:PDT
DTSTART:20250309T100000
END:DAYLIGHT
BEGIN:STANDARD
TZOFFSETFROM:-0700
TZOFFSETTO:-0800
TZNAME:PST
DTSTART:20251102T090000
END:STANDARD
BEGIN:DAYLIGHT
TZOFFSETFROM:-0800
TZOFFSETTO:-0700
TZNAME:PDT
DTSTART:20260308T100000
END:DAYLIGHT
BEGIN:STANDARD
TZOFFSETFROM:-0700
TZOFFSETTO:-0800
TZNAME:PST
DTSTART:20261101T090000
END:STANDARD
END:VTIMEZONE
BEGIN:VEVENT
DTSTART;TZID=America/Los_Angeles:20250907T080000
DTEND;TZID=America/Los_Angeles:20250907T170000
DTSTAMP:20260423T151550
CREATED:20250827T013019Z
LAST-MODIFIED:20250904T174301Z
UID:26175-1757232000-1757264400@fresnoauctioncompany.com
SUMMARY:9-7-25 Sheriff's Recovered Property SUNDAY AUCTION with Designer Purses\, Furs\, Shoes\, and More!
DESCRIPTION:Where: 648 Broadway St.  Fresno\, CA 93721\nNorth of Cesar Chavez\, West of Van Ness \nWhen: SUNDAY September 7\, 2025 at 10AM\nPreview at 8AM\, Auction starts at 10AM! \nClick Here For Scrollable and Expandable Google Photos \nDISCLAIMER: The designer purses and clothes will not be on-site until the day of the auction. They are all Sheriff’s Recovered Property and you are at your own discretion to verify their authenticity. We do not guarantee the authenticity of these name brand designer pieces. We will give you all the information we have on each item. \nThis auction to include: \n\nHermès Garden Party Handbag\nLouis Vuitton Graffiti Pochette\nLouis Vuitton briefcase\nPrada Nylon bag\nDooney & Bourke 1975 canvas bag\nPierre Cardin backpack\nDozens of purses\, clutches\, hand bags\,\nCountless bags of costume jewelry\nFine furs\nLaptops\nMonitors\nServer switchboard\nJewelry cases\nGlassware\nSilver plate service wear\nThomas Kinkade train cars\nSports equipment and more
URL:https://fresnoauctioncompany.com/event/9-7-25/
LOCATION:648 Broadway\, 648 Broadway Street\, FRESNO\, CA\, 93721\, United States
CATEGORIES:Estate Auction
ATTACH;FMTTYPE=image/jpeg:https://fresnoauctioncompany.com/wp-content/uploads/2025/08/IMG_3378-1-scaled.jpg
END:VEVENT
END:VCALENDAR