BEGIN:VCALENDAR
VERSION:2.0
PRODID:-//Fresno Estates &amp; Auction Company - ECPv6.15.18//NONSGML v1.0//EN
CALSCALE:GREGORIAN
METHOD:PUBLISH
X-ORIGINAL-URL:https://fresnoauctioncompany.com
X-WR-CALDESC:Events for Fresno Estates &amp; Auction Company
REFRESH-INTERVAL;VALUE=DURATION:PT1H
X-Robots-Tag:noindex
X-PUBLISHED-TTL:PT1H
BEGIN:VTIMEZONE
TZID:America/Los_Angeles
BEGIN:DAYLIGHT
TZOFFSETFROM:-0800
TZOFFSETTO:-0700
TZNAME:PDT
DTSTART:20240310T100000
END:DAYLIGHT
BEGIN:STANDARD
TZOFFSETFROM:-0700
TZOFFSETTO:-0800
TZNAME:PST
DTSTART:20241103T090000
END:STANDARD
BEGIN:DAYLIGHT
TZOFFSETFROM:-0800
TZOFFSETTO:-0700
TZNAME:PDT
DTSTART:20250309T100000
END:DAYLIGHT
BEGIN:STANDARD
TZOFFSETFROM:-0700
TZOFFSETTO:-0800
TZNAME:PST
DTSTART:20251102T090000
END:STANDARD
BEGIN:DAYLIGHT
TZOFFSETFROM:-0800
TZOFFSETTO:-0700
TZNAME:PDT
DTSTART:20260308T100000
END:DAYLIGHT
BEGIN:STANDARD
TZOFFSETFROM:-0700
TZOFFSETTO:-0800
TZNAME:PST
DTSTART:20261101T090000
END:STANDARD
END:VTIMEZONE
BEGIN:VEVENT
DTSTART;TZID=America/Los_Angeles:20250614T080000
DTEND;TZID=America/Los_Angeles:20250614T170000
DTSTAMP:20260423T200459
CREATED:20250604T042057Z
LAST-MODIFIED:20250608T222813Z
UID:24291-1749888000-1749920400@fresnoauctioncompany.com
SUMMARY:6-14-25 Farm Estate Auction with Farm Equipment
DESCRIPTION:Where: 8530 W Kearney Blvd\, Fresno CA 93706. \nNorthwest corner of Kearney Blvd. & Monroe Ave. \nWhen: June 14\, 2025 at 10AM\nPreview begins at 8AM \nFor Scrollable Expandable Google Photos – CLICK HERE \n\nThis auction Features:\nFerguson 35 tractor\,\nheavy duty tandem axle equipment trailer\,\nhydraulic assist terrace blade with drag\,\nantique vineyard wagon\,\nantique Moline horse drawn plow\,\nheavy duty Indusco tandem disc with drag\,\n3pt bezzerides\,\nditch blade\,\nvarious A-frames and tool bars\,\nforklift forks\,\nterrace blade\,\n3pt box scraper\,\nseveral engine stands\,\nantiques and collectibles\,\nvintage barbershop settee\,\nShop fan\,\nheavy duty press\,\ndecorative yard art\,\nvintage benches\,\nround cement patio set\,\nComplete small block chevy engine\,\nvintage car parts\,\nantique gas pump nozzles\,\nantique visible gas pump parts\,\nwrought iron fencing and window guards\,\nvintage vehicle and truck wheels\,\n20 inch custom universal wheels and tires\,\nCorvette rear end\,\n67-72 Chevy truck parts\,\nlater model Chevy tailgates\,\npneumatic stapler\npneumatic Banks round head framing nailer\ntow chains of various lengths\nboat motor and down riggers\nyard tools\,\nhand and pneumatic grease and lube dispensers\,\nlike new well gearhead\,\npallets of brick\,\nt-posts\,\nloadlocks\,\nJazzy electric power chair\,\nlarge iron parrot cage\,\nmiscellaneous household furnishings\,\nvintage portable military shower\,\nand much much more.\n\nDetails & Photos questions? Call or Text Steve 559-930-7218 or Steven 559-355-4162 for more info.
URL:https://fresnoauctioncompany.com/event/6-14-25/
LOCATION:CA
CATEGORIES:Estate Auction
ATTACH;FMTTYPE=image/jpeg:https://fresnoauctioncompany.com/wp-content/uploads/2025/06/qtq80-Jb03Qj-scaled.jpeg
END:VEVENT
END:VCALENDAR