BEGIN:VCALENDAR
VERSION:2.0
PRODID:-//Fresno Estates &amp; Auction Company - ECPv6.15.18//NONSGML v1.0//EN
CALSCALE:GREGORIAN
METHOD:PUBLISH
X-WR-CALNAME:Fresno Estates &amp; Auction Company
X-ORIGINAL-URL:https://fresnoauctioncompany.com
X-WR-CALDESC:Events for Fresno Estates &amp; Auction Company
REFRESH-INTERVAL;VALUE=DURATION:PT1H
X-Robots-Tag:noindex
X-PUBLISHED-TTL:PT1H
BEGIN:VTIMEZONE
TZID:America/Los_Angeles
BEGIN:DAYLIGHT
TZOFFSETFROM:-0800
TZOFFSETTO:-0700
TZNAME:PDT
DTSTART:20240310T100000
END:DAYLIGHT
BEGIN:STANDARD
TZOFFSETFROM:-0700
TZOFFSETTO:-0800
TZNAME:PST
DTSTART:20241103T090000
END:STANDARD
BEGIN:DAYLIGHT
TZOFFSETFROM:-0800
TZOFFSETTO:-0700
TZNAME:PDT
DTSTART:20250309T100000
END:DAYLIGHT
BEGIN:STANDARD
TZOFFSETFROM:-0700
TZOFFSETTO:-0800
TZNAME:PST
DTSTART:20251102T090000
END:STANDARD
BEGIN:DAYLIGHT
TZOFFSETFROM:-0800
TZOFFSETTO:-0700
TZNAME:PDT
DTSTART:20260308T100000
END:DAYLIGHT
BEGIN:STANDARD
TZOFFSETFROM:-0700
TZOFFSETTO:-0800
TZNAME:PST
DTSTART:20261101T090000
END:STANDARD
END:VTIMEZONE
BEGIN:VEVENT
DTSTART;TZID=America/Los_Angeles:20250510T080000
DTEND;TZID=America/Los_Angeles:20250510T170000
DTSTAMP:20260423T214023
CREATED:20250508T033119Z
LAST-MODIFIED:20250508T153640Z
UID:23498-1746864000-1746896400@fresnoauctioncompany.com
SUMMARY:5/10/25 - Small Kerman Farm Auction with Implements\, Tools & Toolboxes\, 2 Post Lift\, 6 Wheel Gator and More!
DESCRIPTION:Where: 570 S. Lassen Kerman\, CA 93630\nwest of Kerman CA\, south of Jensen on Lassen Avenue. \nWhen: Saturday (5/10) @ 10am\nPreview from 8am-10am \nClick here for LINK  for the expandable and scrollable Google Photos \nThis Auction includes:\nJohn Deere 6×4 Gator\nQuincy 60 Gal Air Compressor\nTwo Post Lift\nHarley Davidson gun safe\nHarley Davidson Tire top table w/ 4 Outlaw Pinup stools\n3pt spring tooth cultivator\n3pt box scraper\nSand Blasting Cabinet\nMillermaic wire-feed welder\nThermatic plasma cutter\nLarge Snap-On Rolling tool cabinet\nCraftsman top tool box\nParts Washer\nEngine hoists\nEngine stands\nComplete socket sets\nCraftsman wrenches\nEdelbrock Intake Manifold and other car performance parts\nLarge nuts and bolts organizers\nSunoco racing fuel jug\nHarley Davidson shop trash barrels\nGarden decor\nHome decor\nKitchen supplies\nLarge outdoor boiling pot and jet burner\nchest coolers\nTwo refrigerators\nShop freezer\nLarge SmartTV\nTempur-pedic bed\nVintage Clothes\nand much more!
URL:https://fresnoauctioncompany.com/event/5-10-25/
LOCATION:CA
CATEGORIES:Estate Auction
ATTACH;FMTTYPE=image/jpeg:https://fresnoauctioncompany.com/wp-content/uploads/2025/05/IMG_9629-scaled.jpg
END:VEVENT
END:VCALENDAR