BEGIN:VCALENDAR
VERSION:2.0
PRODID:-//Fresno Estates &amp; Auction Company - ECPv6.15.18//NONSGML v1.0//EN
CALSCALE:GREGORIAN
METHOD:PUBLISH
X-ORIGINAL-URL:https://fresnoauctioncompany.com
X-WR-CALDESC:Events for Fresno Estates &amp; Auction Company
REFRESH-INTERVAL;VALUE=DURATION:PT1H
X-Robots-Tag:noindex
X-PUBLISHED-TTL:PT1H
BEGIN:VTIMEZONE
TZID:America/Los_Angeles
BEGIN:DAYLIGHT
TZOFFSETFROM:-0800
TZOFFSETTO:-0700
TZNAME:PDT
DTSTART:20240310T100000
END:DAYLIGHT
BEGIN:STANDARD
TZOFFSETFROM:-0700
TZOFFSETTO:-0800
TZNAME:PST
DTSTART:20241103T090000
END:STANDARD
BEGIN:DAYLIGHT
TZOFFSETFROM:-0800
TZOFFSETTO:-0700
TZNAME:PDT
DTSTART:20250309T100000
END:DAYLIGHT
BEGIN:STANDARD
TZOFFSETFROM:-0700
TZOFFSETTO:-0800
TZNAME:PST
DTSTART:20251102T090000
END:STANDARD
BEGIN:DAYLIGHT
TZOFFSETFROM:-0800
TZOFFSETTO:-0700
TZNAME:PDT
DTSTART:20260308T100000
END:DAYLIGHT
BEGIN:STANDARD
TZOFFSETFROM:-0700
TZOFFSETTO:-0800
TZNAME:PST
DTSTART:20261101T090000
END:STANDARD
END:VTIMEZONE
BEGIN:VEVENT
DTSTART;TZID=America/Los_Angeles:20250125T080000
DTEND;TZID=America/Los_Angeles:20250125T170000
DTSTAMP:20260424T054443
CREATED:20250113T155621Z
LAST-MODIFIED:20250123T060143Z
UID:21330-1737792000-1737824400@fresnoauctioncompany.com
SUMMARY:1-25-25 By Order of the Fresno County Public Guardian Estate Auction 10am
DESCRIPTION:Where: 5657 N. Colonial Ave. Fresno CA\, 93704\nEast of Palm\, South of Bullard \nWhen: Saturday\, January 25\, 2025 \nAuction will begin at 10:00a.m. with a preview beginning at 8:00a.m. \nClick Here to enjoy scrollable Google Preview Photos! \nThis auction to include; \n1981 Cadillac coupe Deville with 47\,500 Miles\n2003 Suzuki Vitara\,\nWinchester gun safe\,\nBighorn gun safe\,\nFortress handgun safe\,\nhotel and advertising ashtrays\,\nflatscreen TVs\,\nradio flyer collectible wagons\,\nwildlife decor\,\nsilver plate flatware sets\,\n2 sleep number beds\,\nvintage clothes\,\nradio equipment\,\ncameras\,\nbinoculars\,\nelectrical components\,\nMexican sombreros\,\nCoors light and Sapporo advertising kegs\,\nCB radios\,\nboots\,\nkitchen appliances\nKenmore washer and dryer\,\nrefrigerator\,\nfreezer\,\ncanned goods\,\ncraft equipment\, vases\,\npicture frames\,\ndecorative cups and shot glasses\,\nmarble top entryway bench with mirror\,\nvintage pipes\,\npower tools\,\nPhilipe Richard 21 piece nonstick aluminum cookware set\,\nvintage lamps\,\nHP printer and laptop\,\nantique figurines\,\nLloyds phonograph and receiver system\,\nvintage pottery\,\nCrossman pump master 760 BB rifle\,\nroad champs diecast model cars\,\nWalther PPKS BB gun\,\nToro hedge trimmer and blower\,\nDewalt job site radio\,\nYamaha Clavinova piano\,\nvintage pin cushion back chair\,\nbeautiful forest green patio set with glass top\,\nlarge air purifier\,\nhand tools\,\ncar jack\,\nAutoharp\,\nguitar\,\nelectric wheelchairs\,\nEureka vacuum\,\njob ladder\,\nsawhorses\, cinderblocks\,\nelectric recliners\,\nlarge bags of vintage clothes\,\nantique pottery and garden decor\,\nyard tools\,\npressure washer\,\nRemington model 1893 for parts\,\ncarpet cleaners\,\nfishing poles\nand much more!
URL:https://fresnoauctioncompany.com/event/1-25-25/
LOCATION:CA
CATEGORIES:Estate Auction
ATTACH;FMTTYPE=image/jpeg:https://fresnoauctioncompany.com/wp-content/uploads/2025/01/IMG_6463.jpg
END:VEVENT
END:VCALENDAR