BEGIN:VCALENDAR
VERSION:2.0
PRODID:-//Fresno Estates &amp; Auction Company - ECPv6.15.18//NONSGML v1.0//EN
CALSCALE:GREGORIAN
METHOD:PUBLISH
X-WR-CALNAME:Fresno Estates &amp; Auction Company
X-ORIGINAL-URL:https://fresnoauctioncompany.com
X-WR-CALDESC:Events for Fresno Estates &amp; Auction Company
REFRESH-INTERVAL;VALUE=DURATION:PT1H
X-Robots-Tag:noindex
X-PUBLISHED-TTL:PT1H
BEGIN:VTIMEZONE
TZID:America/Los_Angeles
BEGIN:DAYLIGHT
TZOFFSETFROM:-0800
TZOFFSETTO:-0700
TZNAME:PDT
DTSTART:20250309T100000
END:DAYLIGHT
BEGIN:STANDARD
TZOFFSETFROM:-0700
TZOFFSETTO:-0800
TZNAME:PST
DTSTART:20251102T090000
END:STANDARD
BEGIN:DAYLIGHT
TZOFFSETFROM:-0800
TZOFFSETTO:-0700
TZNAME:PDT
DTSTART:20260308T100000
END:DAYLIGHT
BEGIN:STANDARD
TZOFFSETFROM:-0700
TZOFFSETTO:-0800
TZNAME:PST
DTSTART:20261101T090000
END:STANDARD
BEGIN:DAYLIGHT
TZOFFSETFROM:-0800
TZOFFSETTO:-0700
TZNAME:PDT
DTSTART:20270314T100000
END:DAYLIGHT
BEGIN:STANDARD
TZOFFSETFROM:-0700
TZOFFSETTO:-0800
TZNAME:PST
DTSTART:20271107T090000
END:STANDARD
END:VTIMEZONE
BEGIN:VEVENT
DTSTART;TZID=America/Los_Angeles:20260207T080000
DTEND;TZID=America/Los_Angeles:20260207T170000
DTSTAMP:20260423T013457
CREATED:20260202T211713Z
LAST-MODIFIED:20260205T210127Z
UID:29570-1770451200-1770483600@fresnoauctioncompany.com
SUMMARY:17' Toyota Camry SE - 4k mil\, 89' Toyota Camry Station wagon- 80kmil\, Star Wars\, Vintage Clothes\, and Furniture Estate Auction !
DESCRIPTION:Where: 187 W Quincy Ave. Fresno\, CA 93711\nWest of Hwy 41 & on Quincy South of Audubon \nWhen: Saturday\, February 7\, 2026 10am\nAuction will begin at 10:00a.m. with a preview beginning at 8:00a.m. \nClick Here to enjoy scrollable Google Preview Photos! \nThis Auction to include;\n2017 Toyota Camry SE with 4k miles.\nSought After 1989 Toyota Camry  5 door Station Wagon 80K miles\nStar Wars collectible items of all kinds including figurines\, comic books\, and games\nDarth Vader voice changing helmet\nStar Wars Imperial Shuttle model\nconnected 90’s couch and love seat\nhundreds of CD’s and vinyl LPs\nMatador and Clovis Rodeo posters\nKurt Cobain posters\nvintage over coats\, tops\, bottoms\, hats and more\nmultiple sets of glassware and cutlery\nschool supplies\ndisplay cabinets\nhousehold supplies\nceramic tea sets\, dishes\, bowls\, and decor\nroom and car cleaning vacuums\nbooks\nartwork\nsingle room furnishings\namber glass and corning ware\nroasting pans\nslow cookers\nfondue sets\nblenders\ntoasters\nknife sets\npre seasoned wok\ncontainer sets\nspices\nbaking goods\nglass food storage containers\nKenmore top freezer refrigerator\nStanley Mobile Work Center\ncleaning supplies\nbeautiful 8-‘s bedroom set with multiple pieces\ndining room table and 6 chairs\nCrosley Cruiser 3 spd portable turn table\nmetal and glass garden rack\nCrosley Rochester 5 in 1 entertainment center\nmultiple record players and stereos\nfloral and blue enamel overlay pot set\noffice chairs\nGentleman’s chair\nlarge mirror\nmulti shelf dresser cabinet\nKenmore washer and electric dryer\nornate end table\nwood mixing bowl set\nvarious perfumes\nmakeup\ngames\nlinens\npillows\nblankets\nZenith CRT TV\nseashells\nPixie sewing machine\nornate laundry basket\nSentry Safe lock box\nVicks diffuser and humidifier\nnail polish\nbags of linens and clothes\ndog toys\nchildren’s toys\n10ft A-Frame ladder\ngarden supplies and tools\nAnd Much Much More!
URL:https://fresnoauctioncompany.com/event/2-7-2026/
LOCATION:CA
CATEGORIES:Estate Auction
ATTACH;FMTTYPE=image/jpeg:https://fresnoauctioncompany.com/wp-content/uploads/2026/02/IMG_8968-1-scaled.jpg
END:VEVENT
END:VCALENDAR