BEGIN:VCALENDAR
VERSION:2.0
PRODID:-//Fresno Estates &amp; Auction Company - ECPv6.15.18//NONSGML v1.0//EN
CALSCALE:GREGORIAN
METHOD:PUBLISH
X-WR-CALNAME:Fresno Estates &amp; Auction Company
X-ORIGINAL-URL:https://fresnoauctioncompany.com
X-WR-CALDESC:Events for Fresno Estates &amp; Auction Company
REFRESH-INTERVAL;VALUE=DURATION:PT1H
X-Robots-Tag:noindex
X-PUBLISHED-TTL:PT1H
BEGIN:VTIMEZONE
TZID:America/Los_Angeles
BEGIN:DAYLIGHT
TZOFFSETFROM:-0800
TZOFFSETTO:-0700
TZNAME:PDT
DTSTART:20240310T100000
END:DAYLIGHT
BEGIN:STANDARD
TZOFFSETFROM:-0700
TZOFFSETTO:-0800
TZNAME:PST
DTSTART:20241103T090000
END:STANDARD
BEGIN:DAYLIGHT
TZOFFSETFROM:-0800
TZOFFSETTO:-0700
TZNAME:PDT
DTSTART:20250309T100000
END:DAYLIGHT
BEGIN:STANDARD
TZOFFSETFROM:-0700
TZOFFSETTO:-0800
TZNAME:PST
DTSTART:20251102T090000
END:STANDARD
BEGIN:DAYLIGHT
TZOFFSETFROM:-0800
TZOFFSETTO:-0700
TZNAME:PDT
DTSTART:20260308T100000
END:DAYLIGHT
BEGIN:STANDARD
TZOFFSETFROM:-0700
TZOFFSETTO:-0800
TZNAME:PST
DTSTART:20261101T090000
END:STANDARD
END:VTIMEZONE
BEGIN:VEVENT
DTSTART;TZID=America/Los_Angeles:20251206T080000
DTEND;TZID=America/Los_Angeles:20251206T170000
DTSTAMP:20260423T041720
CREATED:20251126T090318Z
LAST-MODIFIED:20251203T072114Z
UID:28609-1765008000-1765040400@fresnoauctioncompany.com
SUMMARY:12/6 Heavy Equipment Auction!
DESCRIPTION:Where: 4585 N Hayes Ave. Fresno\, CA 93723\nCross Streets of Shaw and Hayes Ave. \nWhen: Saturday December 6th\, 2025 at 10am\nPreview starting at 8am. Auction starts at 10am \nClick Here For Scrollable and Expandable Photos \nThis auction to include: \n\nKioti DS3510 Tractor w/ 372 Hrs\nNorTrac NB3500 w/ 361 Hrs\n’22 Subaru AWD Impreza w/ 5\,028 Mi\n’04 Chevy Avalanche w/ 259\,157 Mi\n’96 Ford SCCCD Ambulance w/ 251\,574 Mi\nCushman Diesel XD1600 SxS with tilt bed and 154 Hrs\nTandem axel utility trailer\nTandem axel cyclone fenced trailer with tool boxes\nTandem axel vehicle trailer\nNorTrac hydraulic backhoe attachment\nBush Hog hydraulic 3Pt Blade\nPriefert Small Animal squeeze and chute\nCountyline 3Pt adjustable rock rake implement\nHobart Stickmate LX235 welder\nHobart Handler 140 wire feed welder\nHobart Air Force 250ci plasma cutter w/ air compressor\nNorstar T200 welder\nHonda EM1800 generator\nNorthStar by Honda GX160 small engine\nDuroMax XP4400 EH generator\nBlack & Decker 1900 PSI electric pressure washer\nHeavy duty shop table\nAgri-Machinery wood chipper\nIndustrial drop lights\nElectric Circular saw\nTile saw\nBarbed wire spools\nJack stands\n16 Ton Hydraulic log splitter\nDuraMax 4850 EH generator\nCraftsman wire weed trimmer\nPropane tanks\nTable saw and radial arm saw\nEquipment ramps\nOutBack Power systems charge controller\nTrailer/Implement pins\nTap/Dye sets\nMultiple Socket wrench sets\nDeWalt tools\nImpact socket sets\nWire crimping tools\nWelding helmets\, sticks\, and braising rods\nShop towels\nWeller soldering irons\nCommercial trucking ratchet straps\nHex key sets\nDrill bit indexes\nHole saw bit sets\nGrease fittings\nDigital micrometers\nPipe wrenches\nMultiple full/ complete bit sets\nPittsburg 2 ton load leveler\nDigital soldering iron\nEverStart battery booster\nWorkPro dremel tool\nJohn Deere tractor seats\nMisc auto parts\n1hp Shallow well pump\nLay Flat hose\nJumper cables\nConcrete roto hammer drill bits\nChicago electric cutoff saw\nWelding wire and sticks\n6″ tool grinder\nHomelite hedge trimmer\nSmall animal traps\nPowermate 2000Wt inverter\nBattery testers\nChain saws and pole saws\nBattery float charger\nwrenches\, screwdrivers\, and hand tools\nPittsburgh 25 pc multiple combination wrench sets\nGreenworks 21″ electric lawn mower\nmultiple small engine generators and compressors\nSchumacher battery tender/charger\nMultiple 12000 lb winches\nCentral Pneumatic Porta Power\nCentral Machinery 8″ drill press\nMisc wire and conduit.\nComealongs and chain binders\nBlue flame gas space heater\nHeavy duty electric fence energizer and wire\nindustrial air compressor\nCement mixer\nRolling hoist frame\nSmall utility cart\nMotorcycle trailer\nToy wagon\nOxyacetylene tanks\, tip\, and hoses\nIndustrial air mover\nRomex wire and much much more!
URL:https://fresnoauctioncompany.com/event/12-6-25/
LOCATION:4585 N Hayes Ave.\, 4585 N Hayes\, Fresno\, CA\, 93723\, United States
CATEGORIES:Estate Auction,Liquidation Auction
ATTACH;FMTTYPE=image/jpeg:https://fresnoauctioncompany.com/wp-content/uploads/2025/11/IMG_6881-scaled.jpg
END:VEVENT
END:VCALENDAR