BEGIN:VCALENDAR
VERSION:2.0
PRODID:-//Fresno Estates &amp; Auction Company - ECPv6.15.18//NONSGML v1.0//EN
CALSCALE:GREGORIAN
METHOD:PUBLISH
X-WR-CALNAME:Fresno Estates &amp; Auction Company
X-ORIGINAL-URL:https://fresnoauctioncompany.com
X-WR-CALDESC:Events for Fresno Estates &amp; Auction Company
REFRESH-INTERVAL;VALUE=DURATION:PT1H
X-Robots-Tag:noindex
X-PUBLISHED-TTL:PT1H
BEGIN:VTIMEZONE
TZID:America/Los_Angeles
BEGIN:DAYLIGHT
TZOFFSETFROM:-0800
TZOFFSETTO:-0700
TZNAME:PDT
DTSTART:20240310T100000
END:DAYLIGHT
BEGIN:STANDARD
TZOFFSETFROM:-0700
TZOFFSETTO:-0800
TZNAME:PST
DTSTART:20241103T090000
END:STANDARD
BEGIN:DAYLIGHT
TZOFFSETFROM:-0800
TZOFFSETTO:-0700
TZNAME:PDT
DTSTART:20250309T100000
END:DAYLIGHT
BEGIN:STANDARD
TZOFFSETFROM:-0700
TZOFFSETTO:-0800
TZNAME:PST
DTSTART:20251102T090000
END:STANDARD
BEGIN:DAYLIGHT
TZOFFSETFROM:-0800
TZOFFSETTO:-0700
TZNAME:PDT
DTSTART:20260308T100000
END:DAYLIGHT
BEGIN:STANDARD
TZOFFSETFROM:-0700
TZOFFSETTO:-0800
TZNAME:PST
DTSTART:20261101T090000
END:STANDARD
END:VTIMEZONE
BEGIN:VEVENT
DTSTART;TZID=America/Los_Angeles:20251004T080000
DTEND;TZID=America/Los_Angeles:20251004T160000
DTSTAMP:20260423T102958
CREATED:20250930T232322Z
LAST-MODIFIED:20251001T032133Z
UID:27266-1759564800-1759593600@fresnoauctioncompany.com
SUMMARY:10-4-25 Workboot Emporium Auction w/ Carhartt\, Levi's\, Converse\, and more! 10am
DESCRIPTION:Where: 3081 E McKinley Ave\, Fresno\, CA 93703\nNorthwest Corner of McKinley & First \nWhen: Saturday\, October 4\, 2025 at 10AM\nPreview at 8AM\, Auction starts at 10AM! \nClick here for scrollable expandable photos!\nThis Auction to Include: \nWe have boxes and BOXES of NEW old stock waiting for your bid!\nFeel free to contact/text Steven at 559-355-4162 for insight on the product available. \n\nLevi’s promotional sweaters\,\nproduction\,\nsweaters\,\nzips shoes\,\ncustom color Converse\,\ncustom color Nike shoes\,\nfine leather jackets\,\nCarhartt\, rugged wear\, thorogood\, wolverine boots\,\nMidCentury modern airplane figure\,\nwestern pearl snap shirts\,\nLakers leather jacket\,\nNYYankees baseball jacket\,\nsaddlebags\,\nantique riding helmets\,\nantique fencing helmets\,\nhome decor throw blankets\,\ndark wash and light wash 501 Levi Jeans\,\nuniform pants\,\nLa Ana USA made western shirts\,\nRuko knife cabinet\,\nquality furniture\,\narmoire\,\nmirror and desk\,\ntypewriter\,\nindigenous African artifacts\nSmall knife collection\,\nMossy Oak Camo shirts of varying sizes\,\nDickies work wear shorts\,\nWalls orange hi-vis\,\nWrangler Shadow Canyon jeans\,\nCarhartt Long Sleeve Work Shirts and Jackets\,\nDickies coveralls\,\ngloves\,\nshoelaces\,\nshoe displayed and promotional advertising pieces.\nAnd much much more.\n\n  \n 
URL:https://fresnoauctioncompany.com/event/10-4-25/
LOCATION:Workboot Emporium\, 3081 E McKinley Avenue\, Fresno\, CA\, 93703\, United States
CATEGORIES:Estate Auction
ATTACH;FMTTYPE=image/jpeg:https://fresnoauctioncompany.com/wp-content/uploads/2025/09/IMG_4510-1-scaled.jpg
END:VEVENT
BEGIN:VEVENT
DTSTART;TZID=America/Los_Angeles:20251011T080000
DTEND;TZID=America/Los_Angeles:20251011T170000
DTSTAMP:20260423T102958
CREATED:20251008T011130Z
LAST-MODIFIED:20251008T013311Z
UID:27418-1760169600-1760202000@fresnoauctioncompany.com
SUMMARY:10-11-25 Tools\, Antiques\, and Quilts Auction in Madera!
DESCRIPTION:Where: 2352 Frederick Way 93637\nWest of 99 and South of Cleveland. Follow the signs \nWhen: Saturday October 11\, 2025 at 10am\nPreview starting at 8am. Auction starts at 10am \nClick Here For Scrollable and Expandable Photos \nThis auction to include: \n\nMultiple Gorgeous antique wall clocks\nSinger sewing machine accessories\nSinger advertising material\nHeritage gun safe\nBeautiful antique grandfather clock\nChisels\nWood restoration chemicals and products\nNuts\, Bolts\, Washers\, and small repair items\nMultiple antique hand saws\nDrill bit indexes\nRatchet sets\nHand Power tools\nSkill Circular saw\nSoldering guns\, nails and solder\nBuffing wheels\nPorter Cable work light\nGun cleaning kits\nWrenches\, screwdrivers\, and small hand held tools\nPalm sanders\nAntique planes\nMachinist box\nTap and dye sets\nDremel tool\nExtension cords\nHeat gun\nDoor Knob hole guide drill\nSawzalls from multiple companies like Milwaukee\, Ryobi and Bosch\nPower hand planers and joiners\nBar and pipe clamps\nGarmin touch screen GPS\nMargret Hudson Bears\, Quails\, Doves and more\nFishing reels and rods\nBeautiful wood furniture\nVintage fly fishing/outdoor sportsman hats\nGarden Plants\nGarden Decor\nLarge lots of fabric\nHandmade quilts\, blankets\, and swaths\nVintage stuffed bears\nOrnate china sets of multiple patterns\nAntique books\nWallets\, Purses\, and Clothing\nHandmade dolls\nand Much Much More!
URL:https://fresnoauctioncompany.com/event/10-11-25/
LOCATION:2352 Fredrick Way\, 2352 Frederick Way\, Madera\, CA\, 93736\, United States
CATEGORIES:Estate Auction
ATTACH;FMTTYPE=image/jpeg:https://fresnoauctioncompany.com/wp-content/uploads/2025/10/IMG_4884-scaled.jpg
END:VEVENT
BEGIN:VEVENT
DTSTART;TZID=America/Los_Angeles:20251018T080000
DTEND;TZID=America/Los_Angeles:20251018T170000
DTSTAMP:20260423T102958
CREATED:20251014T222105Z
LAST-MODIFIED:20251017T184043Z
UID:27596-1760774400-1760806800@fresnoauctioncompany.com
SUMMARY:10/18/25 Vintage Wrangler\, Ben Davis\, Carhartt\, and Workwear Auction!
DESCRIPTION:Where: 3081 E McKinley Ave\, Fresno\, CA 93703\nNorthwest Corner of McKinley & First \nWhen: Saturday\, October 18\, 2025 at 10AM\nPreview at 8AM\, Auction starts at 10AM! \nClick here for expandable and scrollable photos! \nThis auction to include; \nThe rack shelving to clear the building will be sold at 1pm\nShelving measurements are  8ft wide x 36″ deep x 10ft tall for the large blue shelves\nand 6.5ft wide x 2ft deep x 6ft tall for the smaller silver shelves\nThe high bidder for the first lot of each can take one or all of the shelves at the same cost. \nHundreds of boxes\, each with a rough count between 6 and 15 of each item.\nVintage Wrangler button and pearl-snap shirts\nVintage Wrangler 13MWZ Cowboy Cut jeans\nVintage Wrangler Firewash jeans\nWrangler Khakis and Workwear\nWrangler Rugged wear jeans\nCarhartt relaxed fit work jeans\nBen Davis Loose Fit jeans\nAttrak Jeans\nTrack Jeans\nMexican Cowboy chinos\nDozens of pairs of Uggs\nSneakers and shoes of all kinds\nWinter fleece vests\nWalls hooded work jackets\nU.S. Military issue camouflage hooded field jackets\nTreebark camo overalls\, and tee shirts\nRealTree heated hunting gear\nHooded nylon and cotton jackets\nLarge Canvas and Nylon bag\nSport Coats\nVintage belt buckles\nRare Adidas x NBA LA Lakers Superstar sneakers\nHundreds of Addison\, Cofra\, Thorogood\, Carhartt\, Works\, and Wolverine Workboots\nDozens of boot insoles\nClassic Levi’s 501 Ads\nLegend Bob Marley poster\nTrucker hats\nOutfront\, CBS\, and Stop-N-Shop Liquor signs\n1960’s Harmony Stella Parlor Acoustic Guitar\n1960’s Harmony H1213 Acoustic Guitar\nWolverine\, Wigwam\, Worx\, and Durashock advertising store displays\nAntique Adlake “Non-Sweating” Railroad Lamp\nAntique Forrest Green enamel shop lights\nand Much More!
URL:https://fresnoauctioncompany.com/event/10-18-25/
LOCATION:Workboot Emporium\, 3081 E McKinley Avenue\, Fresno\, CA\, 93703\, United States
CATEGORIES:Estate Auction,Liquidation Auction
ATTACH;FMTTYPE=image/jpeg:https://fresnoauctioncompany.com/wp-content/uploads/2025/10/IMG_5077-scaled.jpg
END:VEVENT
END:VCALENDAR