BEGIN:VCALENDAR
VERSION:2.0
PRODID:-//Fresno Estates &amp; Auction Company - ECPv6.15.18//NONSGML v1.0//EN
CALSCALE:GREGORIAN
METHOD:PUBLISH
X-ORIGINAL-URL:https://fresnoauctioncompany.com
X-WR-CALDESC:Events for Fresno Estates &amp; Auction Company
REFRESH-INTERVAL;VALUE=DURATION:PT1H
X-Robots-Tag:noindex
X-PUBLISHED-TTL:PT1H
BEGIN:VTIMEZONE
TZID:America/Los_Angeles
BEGIN:DAYLIGHT
TZOFFSETFROM:-0800
TZOFFSETTO:-0700
TZNAME:PDT
DTSTART:20240310T100000
END:DAYLIGHT
BEGIN:STANDARD
TZOFFSETFROM:-0700
TZOFFSETTO:-0800
TZNAME:PST
DTSTART:20241103T090000
END:STANDARD
BEGIN:DAYLIGHT
TZOFFSETFROM:-0800
TZOFFSETTO:-0700
TZNAME:PDT
DTSTART:20250309T100000
END:DAYLIGHT
BEGIN:STANDARD
TZOFFSETFROM:-0700
TZOFFSETTO:-0800
TZNAME:PST
DTSTART:20251102T090000
END:STANDARD
BEGIN:DAYLIGHT
TZOFFSETFROM:-0800
TZOFFSETTO:-0700
TZNAME:PDT
DTSTART:20260308T100000
END:DAYLIGHT
BEGIN:STANDARD
TZOFFSETFROM:-0700
TZOFFSETTO:-0800
TZNAME:PST
DTSTART:20261101T090000
END:STANDARD
END:VTIMEZONE
BEGIN:VEVENT
DTSTART;TZID=America/Los_Angeles:20250301T100000
DTEND;TZID=America/Los_Angeles:20250301T170000
DTSTAMP:20260423T233754
CREATED:20250226T160542Z
LAST-MODIFIED:20250226T171503Z
UID:22028-1740823200-1740848400@fresnoauctioncompany.com
SUMMARY:3-1-25 Sheriff's Recovered Property Auction!
DESCRIPTION:Where: 648 Broadway St. Fresno\, CA 93721\nNorth of Ventura\, West of Van Ness! \nWhen: Saturday\, March 1st\, 2025 @ 10am!\nPreview begins at 8am! \nClick Here to enjoy scrollable Google Preview Photos! \nWritten description coming soon!
URL:https://fresnoauctioncompany.com/event/3-1-25/
LOCATION:Broadway Warehouse\, 648 Broadway Street\, Fresno\, CA\, 93721\, United States
CATEGORIES:Estate Auction
ATTACH;FMTTYPE=image/jpeg:https://fresnoauctioncompany.com/wp-content/uploads/2025/02/IMG_7276-scaled.jpg
END:VEVENT
BEGIN:VEVENT
DTSTART;TZID=America/Los_Angeles:20250308T100000
DTEND;TZID=America/Los_Angeles:20250308T170000
DTSTAMP:20260423T233754
CREATED:20250226T160816Z
LAST-MODIFIED:20250305T052639Z
UID:22098-1741428000-1741453200@fresnoauctioncompany.com
SUMMARY:3-8-25 Coca-Cola Memorabilia Auction!
DESCRIPTION:Where: 648 Broadway St. Fresno\, CA 93721 \nWhen: Saturday\, March 8\, 2025 @ 10am! \nPreview begins at 8am! \nClick Here to enjoy scrollable Google Preview Photos! \nThis Auction Features: \n\nAntique 1930’s Coca-Cola advertising poster\nAntique 1930’s Coca-Cola serving tray\nCoca-Cola fantasy serving trays\nCoca-Cola tip trays\n4/6/8 packs of antique Coca-Cola bottles\nHires\, 7-Up\, Dr.Pepper\, and other soda advertising ephemera\nNational Geographic magazines\nAntique tile top table\nBeach Cruiser bike\nroadbike\nmountain bike\nMathew’s 70lb draw hunting bow\nSundolphin Kayak\nElectric Scooter\nand much much more!
URL:https://fresnoauctioncompany.com/event/3-8-25/
LOCATION:Broadway Warehouse\, 648 Broadway Street\, Fresno\, CA\, 93721\, United States
CATEGORIES:Estate Auction
ATTACH;FMTTYPE=image/jpeg:https://fresnoauctioncompany.com/wp-content/uploads/2025/02/IMG_7658-1-rotated.jpg
END:VEVENT
BEGIN:VEVENT
DTSTART;TZID=America/Los_Angeles:20250315T100000
DTEND;TZID=America/Los_Angeles:20250315T170000
DTSTAMP:20260423T233754
CREATED:20250226T170029Z
LAST-MODIFIED:20250314T053448Z
UID:22100-1742032800-1742058000@fresnoauctioncompany.com
SUMMARY:3-15-25 Reedley Farm Auction
DESCRIPTION:Where: 10635 S. Pederson\, Reedley CA\nWest on Pederson\, between Dinuba and Floral \nWhen: Saturday\, March 15\, 2025 @ 10am!\nPreview begins at 8am! \nClick Here to enjoy scrollable Google Preview Photos! \nMassey Ferguson 135 diesel tractor\nangle iron\nquality stock metal; aluminum\, steel\, and iron\nKinkelder sulfur pto mistsprayer\npicket fencing\nvineyard posts\ntractor tires; front and back brand new\nColumbian vice\nfruit patch Inc. picking boxes\npipe metal shop table\,\nNorton multi oilstone blade sharpener\npicking box labels\n50 gallon barrels\,\npropane fuel\,\npicking box dollie\npicking ladder\,\nbush hog tandem offset disc\nuniversal spring tooth\, cultivator\,\nbush hog pto mower\nSpeeco three point box scraper\nmultiple three point tool bars over 12 feet solid steel\nDomries three point plow\nVineyard wagons\,\nIndusco hydraulic plow\,\nripper shanks\,\nspring tooth teeth\,\ntractor weights\,\ncar trailer\,\nrhino scraper\,\nfour wire wheels\,\nantique Fresno iron wheel vineyard wagon\,\ntwo diesel tanks\,\nMassey Harris horsedrawn sythe\,\ncraftsman toolbox\,\ncraftsman shop\, vacuum\,\nmiscellaneous auto parts\,\nheavy and light duty chains\ncraftsman fender covers\nlevels\,\nHand tools\nUS marked shovel\nwrenches\nsockets\nelectrical connectors\nshears\ncome along\nchain binders\,\nNapa air compressor\nspray tech portable paint machine\nbottle\, jacks\nvintage camping gear\, Coleman lantern\nethanol stove\,\nfuses and tape\nPalmer Hydro gauge\nextension cords\ntubes of grease\ncraftsman 20 inch chainsaw\,\nhappy time\, sled\, antique\ntrailer lights\,\nporcelain hand soap dispensers\nporcelain danger high voltage sign\,\nZanbro advertising signs\n50s California license plates\,\ntrailer axle\,\nmiscellaneous automotive and tractor fluids\,\naluminum billet pieces\,\nCamel branded darts\,\ncraftsman hand tools\,\nratchet straps\,\nmultiple solid pipes\,\ndig bars\,\ncrow bars\,\ncar jacks\,\nnuts and bolts\,\nassorted organizers\,\ntrailer hitches\,\nsaws\,\nsledgehammers\,\ntrailer pins\nfarm equipment pins\,\nmultiple tool bars\,\njack stands\,\nbench grinders\,\nantique automotive lights\,\npesticides\, and herbicides\,\nhydraulic oil\,\nantique lockers\,\nthree brand new tractor tires\nrailroad car mover tools
URL:https://fresnoauctioncompany.com/event/3-15-25/
LOCATION:CA
CATEGORIES:Estate Auction
END:VEVENT
BEGIN:VEVENT
DTSTART;TZID=America/Los_Angeles:20250329T100000
DTEND;TZID=America/Los_Angeles:20250329T170000
DTSTAMP:20260423T233754
CREATED:20250326T153629Z
LAST-MODIFIED:20250329T000100Z
UID:22545-1743242400-1743267600@fresnoauctioncompany.com
SUMMARY:Fantastic Figurine Auction with  Collectibles and SO Much More!  
DESCRIPTION:Where: 1705 W. SANTA ANA AVE. FRESNO CA 93705\nSouth of Shaw and N. Van Ness Blvd. intersection. Follow the sign \nWhen: Saturday\, March 29\, 2025\nPreview from 8 to 10am \nClick here for the expandable and scrollable Google Photos \n\nThis Estate Auction features:\nHuge collection of collector quality decorated metal clown sculpture figurines on marble bases by Ron Lee\,\nItalian made dining set with 6 chairs\,\nblack granite base and glass beveled top\,\nItalian made black lacquer china cabinet\,\nhalf round metal and glass top entry table\,\nsigned oil paintings\,\nhuge collection of collector plates\,\nhuge collection of die cast Chevron cars\,\nlarger scale die cast cars\nHot Wheels and matchbox cars\,\nmodel kits\,\nseveral R.C. csrs Bachmann and Athearn trains and sets\, L\nLionel American freedom train\,\nmarble collection\,\ncollectibles of all kinds\,\nmid-century modern brass oak and glass curio shelves\,\nBroyhill oak chest on chest tall gentleman’s dresser\,\nmid-century modern console dresser with mirror\,\noffice furniture\,\nquality desk\,\noak side table\,\nswivel padded office chair\,\nvintage style hall tree\,\nTV’s\, exercise bike\,\nWhirlpool 22 cubic ft. stainless steel side by side refrigerator freezer\,\nvintage wind chimes\,\nhuge selection of ceramic and terracotta flower pots\,\nmetal baker’s racks\,\nlarge newer ice chest\,\nset of Lenox Cretan China\,\nFitz and Floyd cookie jars\,\nAsian collectibles\,\ncollectible Asian vases\,\ndecorated pots\,\nsatsuma\,\ncollectible Fenton glass\,\nMurano glass clowns\,\nAsian buddha\,\nseveral quality framed mirrors\,\nartwork of all types\,\nsilver plate\,\ncollectible silver plate patterns\,\npartial set International Spring Glory sterling flatware\,\nRegent Sheffield English knife sets\,\nFenton milk glass\,\nQuality Ekornes mid-century modern recliner and foot stool\,\nmid-century modern beveled glass sound wave wall mirror\,\ntools of all kinds\,\nCraftsman rollaway toolbox\,\npressure washer\,\nlots of yard tools\,\nsolar panels\,\npond and fountain supplies\,\nusable products and supplies\,\nlots of good miscellaneous items\nand much\, much more.\n\nPlease Join US! Don’t miss this great auction! \n\n		\n		\n			\n				\n			\n			\n				\n			\n			\n				\n			\n			\n				\n			\n			\n				\n			\n			\n				\n			\n			\n				\n			\n			\n				\n			\n			\n				\n			\n			\n				\n			\n			\n				\n			\n			\n				\n			\n			\n				\n			\n			\n				\n			\n			\n				\n			\n			\n				\n			\n			\n				\n			\n			\n				\n			\n			\n				\n			\n			\n				\n			\n			\n				\n			\n			\n				\n			\n			\n				\n			\n			\n				\n			\n			\n				\n			\n			\n				\n			\n			\n				\n			\n			\n				\n			\n			\n				\n			\n			\n				\n			\n			\n				\n			\n			\n				\n			\n			\n				\n			\n			\n				\n			\n			\n				\n			\n			\n				\n			\n			\n				\n			\n			\n				\n			\n			\n				\n			\n			\n				\n			\n			\n				\n			\n			\n				\n			\n			\n				\n			\n			\n				\n			\n			\n				\n			\n			\n				\n			\n			\n				\n			\n			\n				\n			\n			\n				\n			\n			\n				\n			\n			\n				\n			\n			\n				\n			\n			\n				\n			\n			\n				\n			\n			\n				\n			\n			\n				\n			\n			\n				\n			\n			\n				\n			\n			\n				\n			\n			\n				\n			\n			\n				\n			\n			\n				\n			\n			\n				\n			\n			\n				\n			\n			\n				\n			\n			\n				\n			\n			\n				\n			\n			\n				\n			\n			\n				\n			\n			\n				\n			\n			\n				\n			\n			\n				\n			\n			\n				\n			\n			\n				\n			\n			\n				\n			\n			\n				\n			\n			\n				\n			\n			\n				\n			\n			\n				\n			\n			\n				\n			\n			\n				\n			\n			\n				\n			\n			\n				\n			\n			\n				\n			\n			\n				\n			\n			\n				\n			\n			\n				\n			\n			\n				\n			\n			\n				\n			\n			\n				\n			\n			\n				\n			\n			\n				\n			\n			\n				\n			\n			\n				\n			\n			\n				\n			\n			\n				\n			\n			\n				\n			\n			\n				\n			\n			\n				\n			\n			\n				\n			\n			\n				\n			\n			\n				\n			\n			\n				\n			\n			\n				\n			\n			\n				\n			\n			\n				\n			\n			\n				\n			\n			\n				\n			\n			\n				\n			\n			\n				\n			\n			\n				\n			\n			\n				\n			\n			\n				\n			\n			\n				\n			\n			\n				\n			\n			\n				\n			\n			\n				\n			\n			\n				\n			\n			\n				\n			\n			\n				\n			\n			\n				\n			\n			\n				\n			\n			\n				\n			\n			\n				\n			\n			\n				\n			\n			\n				\n			\n			\n				\n			\n			\n				\n			\n			\n				\n			\n			\n				\n			\n			\n				\n			\n			\n				\n			\n			\n				\n			\n			\n				\n			\n			\n				\n			\n			\n				\n			\n			\n				\n			\n			\n				\n			\n			\n				\n			\n			\n				\n			\n			\n				\n			\n			\n				\n			\n			\n				\n			\n			\n				\n			\n			\n				\n			\n			\n				\n			\n			\n				\n			\n			\n				\n			\n			\n				\n			\n			\n				\n			\n			\n				\n			\n			\n				\n			\n			\n				\n			\n			\n				\n			\n			\n				\n			\n			\n				\n			\n			\n				\n			\n			\n				\n			\n			\n				\n			\n			\n				\n			\n			\n				\n			\n			\n				\n			\n			\n				\n			\n			\n				\n			\n			\n				\n			\n			\n				\n			\n			\n				\n			\n			\n				\n			\n			\n				\n			\n			\n				\n			\n			\n				\n			\n			\n				\n			\n			\n				\n			\n			\n				\n			\n			\n				\n			\n			\n				\n			\n			\n				\n			\n			\n				\n			\n			\n				\n			\n			\n				\n			\n			\n				\n			\n			\n				\n			\n			\n				\n			\n			\n				\n			\n			\n				\n			\n			\n				\n			\n			\n				\n			\n			\n				\n			\n			\n				\n			\n			\n				\n			\n			\n				\n			\n			\n		\n\n 
URL:https://fresnoauctioncompany.com/event/3-29-25/
LOCATION:figurine\, Fresno\, CA\, 93705\, United States
CATEGORIES:Estate Auction
ATTACH;FMTTYPE=image/jpeg:https://fresnoauctioncompany.com/wp-content/uploads/2025/03/IMG_8341-scaled.jpg
END:VEVENT
END:VCALENDAR