BEGIN:VCALENDAR
VERSION:2.0
PRODID:-//Fresno Estates &amp; Auction Company - ECPv6.15.18//NONSGML v1.0//EN
CALSCALE:GREGORIAN
METHOD:PUBLISH
X-WR-CALNAME:Fresno Estates &amp; Auction Company
X-ORIGINAL-URL:https://fresnoauctioncompany.com
X-WR-CALDESC:Events for Fresno Estates &amp; Auction Company
REFRESH-INTERVAL;VALUE=DURATION:PT1H
X-Robots-Tag:noindex
X-PUBLISHED-TTL:PT1H
BEGIN:VTIMEZONE
TZID:America/Los_Angeles
BEGIN:DAYLIGHT
TZOFFSETFROM:-0800
TZOFFSETTO:-0700
TZNAME:PDT
DTSTART:20250309T100000
END:DAYLIGHT
BEGIN:STANDARD
TZOFFSETFROM:-0700
TZOFFSETTO:-0800
TZNAME:PST
DTSTART:20251102T090000
END:STANDARD
BEGIN:DAYLIGHT
TZOFFSETFROM:-0800
TZOFFSETTO:-0700
TZNAME:PDT
DTSTART:20260308T100000
END:DAYLIGHT
BEGIN:STANDARD
TZOFFSETFROM:-0700
TZOFFSETTO:-0800
TZNAME:PST
DTSTART:20261101T090000
END:STANDARD
BEGIN:DAYLIGHT
TZOFFSETFROM:-0800
TZOFFSETTO:-0700
TZNAME:PDT
DTSTART:20270314T100000
END:DAYLIGHT
BEGIN:STANDARD
TZOFFSETFROM:-0700
TZOFFSETTO:-0800
TZNAME:PST
DTSTART:20271107T090000
END:STANDARD
END:VTIMEZONE
BEGIN:VEVENT
DTSTART;TZID=America/Los_Angeles:20260419T080000
DTEND;TZID=America/Los_Angeles:20260419T170000
DTSTAMP:20260421T012852
CREATED:20260415T172612Z
LAST-MODIFIED:20260416T010240Z
UID:31766-1776585600-1776618000@fresnoauctioncompany.com
SUMMARY:4-19-26 Oakhurst Estate Auction with Machine Shop\, 05' Dodge PU\, Full Quilters Sewing Room and So Much More!
DESCRIPTION:Where: 51300 Courtney lane\, Oakhurst\, CA 93644\nGo through Oakhurst and Follow the signs. (Ps: DO NOT Turn off Road 426 on to Courtney. Follow signs) \nWhen: SUNDAY\, April 19\, 2026 at 10am\nPreview starting at 8am. Auction starts at 10am \nClick Here For Scroll-able and Expandable Photos \nThis auction includes:\nVehicles:\n2005 Ford F350 SuperDuty Powerstroke Dually with 8ft bed and 271K miles\nFord 9N Tractor\nDual Axel Flatbed utility trailer \nSewing room:\nDozens of boxes of fabric\nPatterns\nComplete quilting/sewing room\nSewing notions\nQuilting patterns\nSeamstress books\nBernina sewing machine\nSinger sewing machine\nPfaff sewing machine\nQuilting mats\nAntique dress forms\nQuilting and sewing batting\nHome furnishings and kitchen ware \nMachine Shop and Tools:\nFord 939 3pt PTO mower\n3pt 2 gang disc implement\nFerguson 3pt moon blade implement\nSearchmont Project vehicle\nLots of Ford Model T parts\nRockwell drill press\nThe English Wheel metal fabricator\nSmall shop lathe\nLarge Clausing lathe with multiple chucks\nHaberle model H350 industrial cold saw\nHusky industrial mill with digital readout\nMillermatic 200 welder\nMiller matic 35s welder\nMiller Dialarc HF-P\nKelco Blast Cabinet\nDoAll Industrial bandsaw\nHorizontal bandsaw\nCraftsman router and bits\nIndustrial storage cabinets\nAviation dials\nMultiple rolling tool boxes\nShop seating and creeper\nDrop lights\nTable saws\nModel T rear warning and “Stop” lights\nModel T engine blocks\nPunch sets\nHand held sanders\nAir compressors\nEngine hoists\nPropane tanks\nJohn Deere children’s ATV\nGas powered wood chipper\nLarge rasps and files\nMultiple tools for repair and maintenance of Ford Model T and A vehicles\nWilton Vice\nAluminum A-frame extension ladder\nChop saw\nShop vacs\nPower tools\nHand tools\nSockets\nWrenches\nHammers\nSaws\nSmall shop scaffolding\n2hp demolition hammer\nClam-back patio slider\nand MORE!
URL:https://fresnoauctioncompany.com/event/4-19-26/
LOCATION:CA
CATEGORIES:Estate Auction
ATTACH;FMTTYPE=image/jpeg:https://fresnoauctioncompany.com/wp-content/uploads/2026/04/IMG_1850-scaled.jpg
END:VEVENT
END:VCALENDAR