BEGIN:VCALENDAR
VERSION:2.0
PRODID:-//Fresno Estates &amp; Auction Company - ECPv6.15.18//NONSGML v1.0//EN
CALSCALE:GREGORIAN
METHOD:PUBLISH
X-WR-CALNAME:Fresno Estates &amp; Auction Company
X-ORIGINAL-URL:https://fresnoauctioncompany.com
X-WR-CALDESC:Events for Fresno Estates &amp; Auction Company
REFRESH-INTERVAL;VALUE=DURATION:PT1H
X-Robots-Tag:noindex
X-PUBLISHED-TTL:PT1H
BEGIN:VTIMEZONE
TZID:America/Los_Angeles
BEGIN:DAYLIGHT
TZOFFSETFROM:-0800
TZOFFSETTO:-0700
TZNAME:PDT
DTSTART:20240310T100000
END:DAYLIGHT
BEGIN:STANDARD
TZOFFSETFROM:-0700
TZOFFSETTO:-0800
TZNAME:PST
DTSTART:20241103T090000
END:STANDARD
BEGIN:DAYLIGHT
TZOFFSETFROM:-0800
TZOFFSETTO:-0700
TZNAME:PDT
DTSTART:20250309T100000
END:DAYLIGHT
BEGIN:STANDARD
TZOFFSETFROM:-0700
TZOFFSETTO:-0800
TZNAME:PST
DTSTART:20251102T090000
END:STANDARD
BEGIN:DAYLIGHT
TZOFFSETFROM:-0800
TZOFFSETTO:-0700
TZNAME:PDT
DTSTART:20260308T100000
END:DAYLIGHT
BEGIN:STANDARD
TZOFFSETFROM:-0700
TZOFFSETTO:-0800
TZNAME:PST
DTSTART:20261101T090000
END:STANDARD
END:VTIMEZONE
BEGIN:VEVENT
DTSTART;TZID=America/Los_Angeles:20250906T080000
DTEND;TZID=America/Los_Angeles:20250906T170000
DTSTAMP:20260424T181914
CREATED:20250821T193727Z
LAST-MODIFIED:20250904T174653Z
UID:26163-1757145600-1757178000@fresnoauctioncompany.com
SUMMARY:9-6-25 Workboot Emporium Deadstock USA Made Workwear Ben Davis\, Carhartt\, Dickies Auction 10am
DESCRIPTION:Where: 3081 E McKinley Ave\, Fresno\, CA 93703\nNorthwest Corner of McKinley & First \nWhen: September 6\, 2025 at 10AM\nPreview begins at 8AM Auction begins at 10am \nClick Here – For Scrollable and Expandable Photos ! \nThis auction is the first of 2 packed auctions. We have boxes and BOXES of NEW old stock waiting for your bid!\nFeel free to contact/text Steven at 559-355-4162 for insight on the product available\nPhotos represent a sampling of items available for this big Auction\nBelow are model names/numbers for Carhartt\, Dickies\, And more. \nTo view specific item # photos and details\nSimply Google the individual numbers to pull up information\nJ130 BRN BLK GRN\nJ13 BLK BRN GRN\nRN14806\nVO1\nVO2\nV26\nC26\nR01\nCO4 BLK and more\nRO2 BRN and BLK Bib Overalls.\nR08 DNM\nR28 BRN Carpenter Bibs\nB07 DNM Suspender pants\nS96 MOS\nK122\n3W800 all colors\nC55\nKids overalls\nR33\nR38\nJ141\n4879 \nPLUS:\nWinchester and Centurion safes\nRuko knife center with product\nMaple bedroom set\nMarble top hall table\nVintage vinyl lounge chair\nVintage display signs and shelf’s\nBen Davis Coveralls\nAntique chests\nSt. Louis Cash Register\nRiggs Workwear shirts and sweaters\nCarhartt flannels and socks of various model numbers\nVintage house servant prop\nMultiple work/leisure socks\nMerino\, Filson work socks\nCarhartt black and brown bibs\nDickies T’s and Beanies\nPennzoil barrel trashcan\nDickies Coveralls\nHi-Vis vests and t shirts and MUCH MORE! \n\n		\n		\n			\n				\n			\n			\n				\n			\n			\n				\n			\n			\n				\n			\n			\n				\n			\n			\n				\n			\n			\n				\n			\n			\n				\n			\n			\n				\n			\n			\n				\n			\n			\n				\n			\n			\n				\n			\n			\n				\n			\n			\n				\n			\n			\n				\n			\n			\n				\n			\n			\n				\n			\n			\n				\n			\n			\n				\n			\n			\n				\n			\n			\n				\n			\n			\n				\n			\n			\n				\n			\n			\n				\n			\n			\n				\n			\n			\n				\n			\n			\n				\n			\n			\n				\n			\n			\n				\n			\n			\n				\n			\n			\n				\n			\n			\n				\n			\n			\n				\n			\n			\n				\n			\n			\n				\n			\n			\n				\n			\n			\n				\n			\n			\n				\n			\n			\n				\n			\n			\n				\n			\n			\n				\n			\n			\n				\n			\n			\n				\n			\n			\n				\n			\n			\n				\n			\n			\n				\n			\n			\n				\n			\n			\n				\n			\n			\n				\n			\n			\n				\n			\n			\n				\n			\n			\n				\n			\n			\n				\n			\n			\n				\n			\n			\n				\n			\n			\n				\n			\n			\n				\n			\n			\n				\n			\n			\n				\n			\n			\n				\n			\n			\n				\n			\n			\n				\n			\n			\n				\n			\n			\n				\n			\n			\n				\n			\n			\n				\n			\n			\n				\n			\n			\n				\n			\n			\n				\n			\n			\n				\n			\n			\n				\n			\n			\n				\n			\n			\n				\n			\n			\n				\n			\n			\n				\n			\n			\n				\n			\n			\n				\n			\n			\n				\n			\n			\n				\n			\n			\n				\n			\n			\n				\n			\n			\n				\n			\n			\n				\n			\n			\n				\n			\n			\n				\n			\n			\n				\n			\n			\n				\n			\n			\n				\n			\n			\n				\n			\n			\n				\n			\n			\n				\n			\n			\n				\n			\n			\n				\n			\n			\n				\n			\n			\n				\n			\n			\n				\n			\n			\n				\n			\n			\n				\n			\n			\n				\n			\n			\n				\n			\n			\n				\n			\n			\n				\n			\n			\n				\n			\n			\n				\n			\n			\n				\n			\n			\n				\n			\n			\n				\n			\n			\n				\n			\n			\n				\n			\n			\n				\n			\n			\n				\n			\n			\n				\n			\n			\n				\n			\n			\n				\n			\n			\n				\n			\n			\n				\n			\n			\n				\n			\n			\n				\n			\n			\n				\n			\n			\n				\n			\n			\n				\n			\n			\n				\n			\n			\n				\n			\n			\n				\n			\n			\n				\n			\n			\n				\n			\n			\n				\n			\n			\n				\n			\n			\n				\n			\n		\n\n 
URL:https://fresnoauctioncompany.com/event/deadstock-usa-made-workwear-ben-davis-carhartt-dickies-auctions/
LOCATION:Workboot Emporium\, 3081 E McKinley Avenue\, Fresno\, CA\, 93703\, United States
CATEGORIES:Liquidation Auction
ATTACH;FMTTYPE=image/jpeg:https://fresnoauctioncompany.com/wp-content/uploads/2025/08/IMG_1950-scaled.jpg
END:VEVENT
END:VCALENDAR