BEGIN:VCALENDAR
VERSION:2.0
PRODID:-//Fresno Estates &amp; Auction Company - ECPv6.15.18//NONSGML v1.0//EN
CALSCALE:GREGORIAN
METHOD:PUBLISH
X-ORIGINAL-URL:https://fresnoauctioncompany.com
X-WR-CALDESC:Events for Fresno Estates &amp; Auction Company
REFRESH-INTERVAL;VALUE=DURATION:PT1H
X-Robots-Tag:noindex
X-PUBLISHED-TTL:PT1H
BEGIN:VTIMEZONE
TZID:America/Los_Angeles
BEGIN:DAYLIGHT
TZOFFSETFROM:-0800
TZOFFSETTO:-0700
TZNAME:PDT
DTSTART:20230312T100000
END:DAYLIGHT
BEGIN:STANDARD
TZOFFSETFROM:-0700
TZOFFSETTO:-0800
TZNAME:PST
DTSTART:20231105T090000
END:STANDARD
BEGIN:DAYLIGHT
TZOFFSETFROM:-0800
TZOFFSETTO:-0700
TZNAME:PDT
DTSTART:20240310T100000
END:DAYLIGHT
BEGIN:STANDARD
TZOFFSETFROM:-0700
TZOFFSETTO:-0800
TZNAME:PST
DTSTART:20241103T090000
END:STANDARD
BEGIN:DAYLIGHT
TZOFFSETFROM:-0800
TZOFFSETTO:-0700
TZNAME:PDT
DTSTART:20250309T100000
END:DAYLIGHT
BEGIN:STANDARD
TZOFFSETFROM:-0700
TZOFFSETTO:-0800
TZNAME:PST
DTSTART:20251102T090000
END:STANDARD
END:VTIMEZONE
BEGIN:VEVENT
DTSTART;TZID=America/Los_Angeles:20240713T080000
DTEND;TZID=America/Los_Angeles:20240713T170000
DTSTAMP:20260424T145337
CREATED:20240704T223744Z
LAST-MODIFIED:20240709T010539Z
UID:17934-1720857600-1720890000@fresnoauctioncompany.com
SUMMARY:7-13-24 99 Cent Only Store Liquidation Auction with Fixtures and Shelving (No Product) 10am
DESCRIPTION:Where: 6036 N. First Avenue Fresno\, CA 93710\nOn First at Bullard Ave.\nWhen: Saturday\, July 13\, 2024 10am\nAuction will begin at 10:00 a.m. with a preview beginning at 8:00 am \nPlease feel free to contact Steve at 559-930-7218 for more info and details! \nClick HERE for Google Expandable & Searchable photos \nThis Saturday 7-13-24. We will be liquidating\, by auction\, the entire contents of the 99Cent Only store\, located at Bullard and First Streets in  Fresno\, CA. \nThe auction consists of fixtures only and includes;\n\n\nBaletech model V60 cardboard baler that makes 60″×30″×45″ bales\,\n2 door ice merchandiser\,\n3 door safe with keys\,\nTrue single door display refrigerator\,\n5 door reach in display freezer\,\n8 door reach in display refrigerator\,\nApproximately 750 linear feet of 48 inch double side gondola metal shelving\,\nApproximately 250 Linear feet of 48 inch wall gondola shelving\,\nproduce merchandisers\,\ndisplay riser tables\,\nbanana riser table and other display racks\,\nproduce bags and stands\,\npallet sign holders\,\nsign holders\,\nutility cart\,\nU boat rolling carts\,\nshopping carts and 2 cart corrals\,\nproduce scales\,\nSelf-contained self-serve open air coolers\,\nComplete checkout counters with belt\,\nNCR scanners/scales\, printers\, etc\,\nportable generator\,\ncases of paper hand towels\,\ncases of produce bags\,\ncases of trash can liners\,\npallet of pegboard hooks\,\npallet of price tags\,\n3 bales of cardboard\, and more.\n\nEverything must go!  Don’t miss this auction!
URL:https://fresnoauctioncompany.com/event/7-13-24/
LOCATION:CA
CATEGORIES:Estate Auction
ATTACH;FMTTYPE=image/jpeg:https://fresnoauctioncompany.com/wp-content/uploads/2024/07/20240704_154511.jpg
END:VEVENT
END:VCALENDAR