BEGIN:VCALENDAR
VERSION:2.0
PRODID:-//Fresno Estates &amp; Auction Company - ECPv6.15.18//NONSGML v1.0//EN
CALSCALE:GREGORIAN
METHOD:PUBLISH
X-ORIGINAL-URL:https://fresnoauctioncompany.com
X-WR-CALDESC:Events for Fresno Estates &amp; Auction Company
REFRESH-INTERVAL;VALUE=DURATION:PT1H
X-Robots-Tag:noindex
X-PUBLISHED-TTL:PT1H
BEGIN:VTIMEZONE
TZID:America/Los_Angeles
BEGIN:DAYLIGHT
TZOFFSETFROM:-0800
TZOFFSETTO:-0700
TZNAME:PDT
DTSTART:20230312T100000
END:DAYLIGHT
BEGIN:STANDARD
TZOFFSETFROM:-0700
TZOFFSETTO:-0800
TZNAME:PST
DTSTART:20231105T090000
END:STANDARD
BEGIN:DAYLIGHT
TZOFFSETFROM:-0800
TZOFFSETTO:-0700
TZNAME:PDT
DTSTART:20240310T100000
END:DAYLIGHT
BEGIN:STANDARD
TZOFFSETFROM:-0700
TZOFFSETTO:-0800
TZNAME:PST
DTSTART:20241103T090000
END:STANDARD
BEGIN:DAYLIGHT
TZOFFSETFROM:-0800
TZOFFSETTO:-0700
TZNAME:PDT
DTSTART:20250309T100000
END:DAYLIGHT
BEGIN:STANDARD
TZOFFSETFROM:-0700
TZOFFSETTO:-0800
TZNAME:PST
DTSTART:20251102T090000
END:STANDARD
END:VTIMEZONE
BEGIN:VEVENT
DTSTART;TZID=America/Los_Angeles:20240629T080000
DTEND;TZID=America/Los_Angeles:20240629T170000
DTSTAMP:20260424T154701
CREATED:20240626T024052Z
LAST-MODIFIED:20240626T033504Z
UID:17847-1719648000-1719680400@fresnoauctioncompany.com
SUMMARY:6-29-24 Clovis Estate Auction - Fresno County Public Guardian Estates 10am With Toyota Tundra\, 63 IH Cub tractor and More
DESCRIPTION:Where: 1185 N. Temperance Ave. Clovis CA 93611\nOn Temperance\, just South of Nees ave.\, on East side of road\nWhen: Saturday\, June 29\, 2024 10am\nAuction will begin at 10:00 a.m. with a preview beginning at 8:00 a.m \nPlease feel free to contact Steve at 559-930-7218 for more info and details! \nThe items up for Auction include; \n\n2001 Toyota Tundra SR5 with low mileage\n2000 Dodge Durango SUV\nVintage 1963 Cub tractor with spring tooth\nGE Washer/dryer\nAntique furniture\nAntique clock\nJuno by Janome Serger Model 3434\nElna Super sewing machine\nMahogany sewing armoire\nIce chest\nMedical Equipment\nExercise equipment\nMisc. Furniture\nBlack GE side by side Refrigerator Freezer with Ice and water in the door\nVintage Stereo Equipment\nVintage bedroom set\nAntique Oak barber chair\nNikon d300 Digital camera and accessories\nCostume jewelry\nXB radio equipment\nArtwork\nsofa\nMisc. Household and More\n\n\n		\n		\n			\n				\n			\n			\n				\n			\n			\n				\n			\n			\n				\n			\n			\n				\n			\n			\n				\n			\n			\n				\n			\n			\n				\n			\n			\n				\n			\n			\n				\n			\n			\n				\n			\n			\n				\n			\n			\n				\n			\n			\n				\n			\n			\n				\n			\n			\n				\n			\n			\n				\n			\n			\n				\n			\n			\n				\n			\n			\n				\n			\n			\n				\n			\n			\n				\n			\n			\n				\n			\n			\n				\n			\n			\n				\n			\n			\n				\n			\n			\n				\n			\n			\n				\n			\n			\n				\n			\n			\n				\n			\n			\n				\n			\n			\n				\n			\n			\n				\n			\n			\n				\n			\n			\n				\n			\n			\n				\n			\n			\n				\n			\n			\n				\n			\n			\n				\n			\n			\n				\n			\n			\n				\n			\n			\n				\n			\n			\n				\n			\n			\n				\n			\n			\n				\n			\n			\n				\n			\n			\n				\n			\n			\n				\n			\n			\n				\n			\n			\n				\n			\n			\n				\n			\n			\n				\n			\n			\n				\n			\n			\n				\n			\n			\n				\n			\n			\n				\n			\n			\n				\n			\n			\n				\n			\n			\n				\n			\n			\n				\n			\n			\n				\n			\n			\n				\n			\n			\n				\n			\n			\n				\n			\n			\n				\n			\n			\n				\n			\n			\n				\n			\n			\n				\n			\n			\n				\n			\n			\n				\n			\n			\n				\n			\n			\n				\n			\n			\n				\n			\n			\n		\n\n 
URL:https://fresnoauctioncompany.com/event/6-29-24/
LOCATION:CA
CATEGORIES:Estate Auction
ATTACH;FMTTYPE=image/jpeg:https://fresnoauctioncompany.com/wp-content/uploads/2024/06/20240625_110102-1-scaled.jpg
END:VEVENT
END:VCALENDAR