BEGIN:VCALENDAR
VERSION:2.0
PRODID:-//Fresno Estates &amp; Auction Company - ECPv6.15.18//NONSGML v1.0//EN
CALSCALE:GREGORIAN
METHOD:PUBLISH
X-WR-CALNAME:Fresno Estates &amp; Auction Company
X-ORIGINAL-URL:https://fresnoauctioncompany.com
X-WR-CALDESC:Events for Fresno Estates &amp; Auction Company
REFRESH-INTERVAL;VALUE=DURATION:PT1H
X-Robots-Tag:noindex
X-PUBLISHED-TTL:PT1H
BEGIN:VTIMEZONE
TZID:America/Los_Angeles
BEGIN:DAYLIGHT
TZOFFSETFROM:-0800
TZOFFSETTO:-0700
TZNAME:PDT
DTSTART:20230312T100000
END:DAYLIGHT
BEGIN:STANDARD
TZOFFSETFROM:-0700
TZOFFSETTO:-0800
TZNAME:PST
DTSTART:20231105T090000
END:STANDARD
BEGIN:DAYLIGHT
TZOFFSETFROM:-0800
TZOFFSETTO:-0700
TZNAME:PDT
DTSTART:20240310T100000
END:DAYLIGHT
BEGIN:STANDARD
TZOFFSETFROM:-0700
TZOFFSETTO:-0800
TZNAME:PST
DTSTART:20241103T090000
END:STANDARD
BEGIN:DAYLIGHT
TZOFFSETFROM:-0800
TZOFFSETTO:-0700
TZNAME:PDT
DTSTART:20250309T100000
END:DAYLIGHT
BEGIN:STANDARD
TZOFFSETFROM:-0700
TZOFFSETTO:-0800
TZNAME:PST
DTSTART:20251102T090000
END:STANDARD
END:VTIMEZONE
BEGIN:VEVENT
DTSTART;TZID=America/Los_Angeles:20240504T090000
DTEND;TZID=America/Los_Angeles:20240504T170000
DTSTAMP:20260422T025319
CREATED:20240501T060425Z
LAST-MODIFIED:20240501T062424Z
UID:16268-1714813200-1714842000@fresnoauctioncompany.com
SUMMARY:May 4\, 2024 PLEASE Join us for the 46th Annual Fresno Basque Festival- OPEN to the PUBLIC! All are welcome
DESCRIPTION:Please Join us for\nThe 46th Annual Fresno Basque Festival on May 4th\nFabulous Traditional Food\, drink\, dance performances and Family Fun!\nOpen to the Public – FREE ADMISSION -Everyone is welcome\nLocation: Campos Bros Farms!\n15516 S Walnut Ave\, Caruthers\, CA 93609Gates Open 9:00 am\nCatholic Mass 10:00 amBig Lamb BBQ served with ALL the fixings from 12:30 pm to 2:00 pm\nAdults $30 & Kids 7-11 $15\nShop at the Basque Venders and for you enjoyment\,\nFresno Basque Club Dance performance and Pelota with begin following Lunch\nChorizo Sandwiches 4:00 pm\nMusic provided Amerikanuak Band with dancing for all
URL:https://fresnoauctioncompany.com/event/may-4-2024-please-join-us-for-the-46th-annual-basque-picnic-open-to-the-public-all-are-welcome/
LOCATION:Campos Bros Farms\, 15516 S Walnut Ave\, CA 93609\, Caruthers\, CA\, 93609\, United States
CATEGORIES:Special Event
ATTACH;FMTTYPE=image/jpeg:https://fresnoauctioncompany.com/wp-content/uploads/2024/04/438159928_815617413934347_5490082127361635761_n.jpg
END:VEVENT
END:VCALENDAR