BEGIN:VCALENDAR
VERSION:2.0
PRODID:-//Fresno Estates &amp; Auction Company - ECPv6.15.18//NONSGML v1.0//EN
CALSCALE:GREGORIAN
METHOD:PUBLISH
X-ORIGINAL-URL:https://fresnoauctioncompany.com
X-WR-CALDESC:Events for Fresno Estates &amp; Auction Company
REFRESH-INTERVAL;VALUE=DURATION:PT1H
X-Robots-Tag:noindex
X-PUBLISHED-TTL:PT1H
BEGIN:VTIMEZONE
TZID:America/Los_Angeles
BEGIN:DAYLIGHT
TZOFFSETFROM:-0800
TZOFFSETTO:-0700
TZNAME:PDT
DTSTART:20230312T100000
END:DAYLIGHT
BEGIN:STANDARD
TZOFFSETFROM:-0700
TZOFFSETTO:-0800
TZNAME:PST
DTSTART:20231105T090000
END:STANDARD
BEGIN:DAYLIGHT
TZOFFSETFROM:-0800
TZOFFSETTO:-0700
TZNAME:PDT
DTSTART:20240310T100000
END:DAYLIGHT
BEGIN:STANDARD
TZOFFSETFROM:-0700
TZOFFSETTO:-0800
TZNAME:PST
DTSTART:20241103T090000
END:STANDARD
BEGIN:DAYLIGHT
TZOFFSETFROM:-0800
TZOFFSETTO:-0700
TZNAME:PDT
DTSTART:20250309T100000
END:DAYLIGHT
BEGIN:STANDARD
TZOFFSETFROM:-0700
TZOFFSETTO:-0800
TZNAME:PST
DTSTART:20251102T090000
END:STANDARD
END:VTIMEZONE
BEGIN:VEVENT
DTSTART;TZID=America/Los_Angeles:20240420T080000
DTEND;TZID=America/Los_Angeles:20240420T170000
DTSTAMP:20260424T012050
CREATED:20240403T041449Z
LAST-MODIFIED:20240416T174337Z
UID:15504-1713600000-1713632400@fresnoauctioncompany.com
SUMMARY:4-20-24 Salazar's Bar & Grill -Kingsburg Liquidation Auction 10am
DESCRIPTION:Where: 345 Sierra St\, Kingsburg\, CA 93631\nHwy 99 South to exit 112 Sierra St then follow the signs \nWhen: Saturday\, April 20\, 2024\nAuction will begin at 10:00 a.m. with a preview beginning at 8:00 a.m \nClick here for google picture link \nOn Saturday April 20th\, 2024. we will be conducting an auction to liquidate the furniture\, fixtures and kitchen equipment of Salazar’s Grill & Bar in Kingsburg\, California. We will not be selling any liquor or alcoholic products and the Salazar’s Grill & Bar neon signs on the building are not for sale. \nItems include: \n\nPOS system with Epson printers\,\nMontague Grizzly 6 burner range\,\nTrue 60 inch refrigerated sandwich prep table\,\n2 Duke Aerohot 4 well portable Steam tables\,\nHoshizaki ice machine\,\nThunderbird model ARM-02  20 quart mixer\,\nSteam ‘N’ Hold\,\n6 ft Salamander cheese melter\,\nTrue single door display refrigerator\,\nTrue under counter two-door refrigerator\,\nseveral True keg coolers\,\nCuli Tex two basket deep fryer\,\n3 compartment sink\,\nvarious size stainless work tables\,\nstainless single tub sink with drainboard\,\nseveral stainless hand wash sinks\,\nvarious size stainless shelves\,\nTrue under counter display bottle refrigerators\,\nthree compartment bar sink with double drainboards\,\nthree section drop safe\,\ncomplete Johnson Wax Professional dishwasher with corner line including hand sprayer\,\n2 stainless bar ice bins with speed wells\,\ncommercial bar mixer\,\nAmana commercial microwave\,\nKitchenAid commercial mixer\,\nTrue bottle chiller\,\nrolling Metro racks\,\nantibacterial Metro racks\,\nseveral large hot and hold catering Cambros\,\nCambro portable catering bar\,\nlots of stainless chafing pans with inserts\,\nlarge selection of pots\,\nChef’s knives\,\nmolcajetes\,\nutensils\,\npans\,\nsaute pans\,\nsteam table inserts of all sizes\,\nglassware\,\nbar glasses\,\nplates and bowls\,\nsmall wares of all kinds\,\nfancy Mexican mirrors\,\nquality Mexican artwork\,\nlots of quality Mexican themed fixtures and decor\,\nquality bar stools\,\ntables and chairs\,\nwooden stacking High chairs\,\nfabulous Christmas decorations\,\nbeer signs\,\nbeer trays\,\noutside pull down shades\,\nhostess station\,\npair of swinging kitchen doors\,\npan racks\,\nutensil racks\,\nseveral large screen working TVs\,\nsigns\,\nbanners\,\nstring lights\,\npotted plants\,\nlots of usable soap\, toilet paper and paper towel dispensers\,\nand much much more.\nDon’t miss this Great Iconic Restaurant Liquidation Auction!!
URL:https://fresnoauctioncompany.com/event/4-20-24/
LOCATION:salazar\, 345 Sierra St\, Kingsburg\, CA\, 93631\, United States
CATEGORIES:Estate Auction
ATTACH;FMTTYPE=image/jpeg:https://fresnoauctioncompany.com/wp-content/uploads/2024/04/Screenshot_20240401_120139_Google.jpg
END:VEVENT
END:VCALENDAR