BEGIN:VCALENDAR
VERSION:2.0
PRODID:-//Fresno Estates &amp; Auction Company - ECPv6.15.18//NONSGML v1.0//EN
CALSCALE:GREGORIAN
METHOD:PUBLISH
X-ORIGINAL-URL:https://fresnoauctioncompany.com
X-WR-CALDESC:Events for Fresno Estates &amp; Auction Company
REFRESH-INTERVAL;VALUE=DURATION:PT1H
X-Robots-Tag:noindex
X-PUBLISHED-TTL:PT1H
BEGIN:VTIMEZONE
TZID:America/Los_Angeles
BEGIN:DAYLIGHT
TZOFFSETFROM:-0800
TZOFFSETTO:-0700
TZNAME:PDT
DTSTART:20230312T100000
END:DAYLIGHT
BEGIN:STANDARD
TZOFFSETFROM:-0700
TZOFFSETTO:-0800
TZNAME:PST
DTSTART:20231105T090000
END:STANDARD
BEGIN:DAYLIGHT
TZOFFSETFROM:-0800
TZOFFSETTO:-0700
TZNAME:PDT
DTSTART:20240310T100000
END:DAYLIGHT
BEGIN:STANDARD
TZOFFSETFROM:-0700
TZOFFSETTO:-0800
TZNAME:PST
DTSTART:20241103T090000
END:STANDARD
BEGIN:DAYLIGHT
TZOFFSETFROM:-0800
TZOFFSETTO:-0700
TZNAME:PDT
DTSTART:20250309T100000
END:DAYLIGHT
BEGIN:STANDARD
TZOFFSETFROM:-0700
TZOFFSETTO:-0800
TZNAME:PST
DTSTART:20251102T090000
END:STANDARD
END:VTIMEZONE
BEGIN:VEVENT
DTSTART;TZID=America/Los_Angeles:20240413T080000
DTEND;TZID=America/Los_Angeles:20240413T170000
DTSTAMP:20260424T012036
CREATED:20240407T013711Z
LAST-MODIFIED:20240410T002235Z
UID:15743-1712995200-1713027600@fresnoauctioncompany.com
SUMMARY:4-13-2024 Madera Ranchos Estate Auction 10am with Heavy Equipment\, Tools\, Home and Garden Items!
DESCRIPTION:Where: 12609 Gleason Drive Madera California 93636\nHwy 41 North to Ave. 12 then follow the signs \nWhen: Saturday\, April 13\, 2024\nAuction will begin at 10:00 a.m. with a preview beginning at 8:00 a.m \nClick here for google picture link \n\nThis auction features several pieces of good quality construction and farm equipment\, lots of tools\, firearms\, quality furniture and much more.\n\nItems include:\n\n\nCase Model 580 Super L diesel backhoe with 4 in 1 clamshell bucket and Extend  A Hoe\, 4500 hours\,\nCaterpillar Model V80D heavy duty 8000 lb rough terrain diesel forklift\,\n1994 Bobcat diesel model 743b\,\nK & S heavy duty 7000 lb tandem axel tilt bed equipment trailer\,\noffset hydraulic wheel disc\, needs work\,\ntandem drag disc\,\nKobalt 60 gallon upright air compressor\,\nseveral portable gas air compressors\,\nTitan Industries portable gas air compressor\,\nFirman 8\,000 watt portable gas generator\,\nDeWalt portable gas generator\,\nMiller Thunderbolt 225 welder\,\nDeWalt chop saw\,\noxy acetylene set\,\nreel and rotary mowers\,\ngas backpack blower\,\n27 multispeed drill press\,\nJet portable horizontal metal cutting bandsaw\,\nmetal band strapping machine\,\n90 amp wire feed welder\,\nDeWalt portable bandsaw\,\nlarge selection of quality power tools by DeWalt\, Makita\, Milwaukee\, and Skil\,\nBlaze King Iron wood stove\,\nnew 20 ft wood beams\,\nHusqvarna model 350 chainsaw\,\nlots of hand and power tools\,\nlots of Romex wire\,\nrolls of smaller wire\,\nusable items and products\,\npool table\,\nquality patio furniture\,\nyard art\,\nantique cast iron covered cauldron\,\nDutch ovens\,\nbird bath\,\n4 firearms;\n-Uberti SAA revolver in.\n-45 Long Colt with extra .45 ACP cylinder\,\n-High Point model G9 semi-auto in 9mm Luger\,\n-Remington 870 Express Magnum slide action 12 GA shotgun\,\n-World War II era Turkish Ankara  sporterized bolt action rifle in .8mm\, Q\nQuality Furniture\,\nElectric heater TV stand cabinet\,\nantique haltree\,\nnewer full size and queen beds\,\nquality overstuffed sofa and two chairs\,\nvintage record collection\,\nCoors neon beer sign\,\nset of Ben Hogan irons\,\nquality curio cabinet\,\nCedar chest\,\nartwork\,\nquality elliptical exercise machine\,\nfuton daybed\,\nbookshelves\,\nlots of miscellaneous curios\,\ndecorator items\,\nand much much more.
URL:https://fresnoauctioncompany.com/event/4-13-2024/
LOCATION:CA
CATEGORIES:Estate Auction
ATTACH;FMTTYPE=image/jpeg:https://fresnoauctioncompany.com/wp-content/uploads/2024/04/20240401_102606-1-scaled.jpg
END:VEVENT
END:VCALENDAR