BEGIN:VCALENDAR
VERSION:2.0
PRODID:-//Fresno Estates &amp; Auction Company - ECPv6.15.18//NONSGML v1.0//EN
CALSCALE:GREGORIAN
METHOD:PUBLISH
X-WR-CALNAME:Fresno Estates &amp; Auction Company
X-ORIGINAL-URL:https://fresnoauctioncompany.com
X-WR-CALDESC:Events for Fresno Estates &amp; Auction Company
REFRESH-INTERVAL;VALUE=DURATION:PT1H
X-Robots-Tag:noindex
X-PUBLISHED-TTL:PT1H
BEGIN:VTIMEZONE
TZID:America/Los_Angeles
BEGIN:DAYLIGHT
TZOFFSETFROM:-0800
TZOFFSETTO:-0700
TZNAME:PDT
DTSTART:20230312T100000
END:DAYLIGHT
BEGIN:STANDARD
TZOFFSETFROM:-0700
TZOFFSETTO:-0800
TZNAME:PST
DTSTART:20231105T090000
END:STANDARD
BEGIN:DAYLIGHT
TZOFFSETFROM:-0800
TZOFFSETTO:-0700
TZNAME:PDT
DTSTART:20240310T100000
END:DAYLIGHT
BEGIN:STANDARD
TZOFFSETFROM:-0700
TZOFFSETTO:-0800
TZNAME:PST
DTSTART:20241103T090000
END:STANDARD
BEGIN:DAYLIGHT
TZOFFSETFROM:-0800
TZOFFSETTO:-0700
TZNAME:PDT
DTSTART:20250309T100000
END:DAYLIGHT
BEGIN:STANDARD
TZOFFSETFROM:-0700
TZOFFSETTO:-0800
TZNAME:PST
DTSTART:20251102T090000
END:STANDARD
END:VTIMEZONE
BEGIN:VEVENT
DTSTART;TZID=America/Los_Angeles:20240323T080000
DTEND;TZID=America/Los_Angeles:20240323T170000
DTSTAMP:20260421T234343
CREATED:20240317T140454Z
LAST-MODIFIED:20240319T030945Z
UID:15246-1711180800-1711213200@fresnoauctioncompany.com
SUMMARY:3-23-24 Estate Auction photo preview !
DESCRIPTION:Where: 545 Jordan Avenue Clovis\, California 93611\nThe home is west of Clovis Avenue and  south of Nees Avenue at the corner of DeWitt and Jordan Avenues.\n\nWhen: Saturday\, March 23\, 2024\nAuction will begin at 10:00 a.m. with a preview beginning at 8:00 a.m.\n\n\nClick HERE  for scrollable and expandable google photos \n\n\n\nThis HUGE Auction Features:  \n\nQuality Furniture\,\nappliances\,\nquality cookware\,\ntools\nlarge lots of glassware\,\nsewing items\,\ncollectible Fenton and Carnival glass\,\ndecorative items quality clothing and more.\nBeautiful Ethan Allen Buffet server cabinet\,\nquality rectangular Oak dining table with three extensions matching pads and six chairs by Bent & Brothers\,\nOak lighted curved side curio cabinet\,\nOak oval coffee table with drawers\,\nmatching end tables and entry table\,\nVictorian Eastlake rectangular lamp table\,\nbeautiful antique pressed back wood arm chair rockers with pressed leather seats\,\n1930s mahogany pie crust two tier lamp table\,\nquality Stiffel table lamps\,\n1930s carved inlay top coffee table and matching half round end tables\,\nquality sofa and two loveseats\,\nquality upholstered side chairs\,\nLG 48 in flat panel tv\,\nCafe brand twin chill French door bottom freezer refrigerator\,\nnew Cutco knife set\,\nquality pots and pans\,\nPyrex and Tupperware\,\nnewer Electrolux front load matching washer dryer with bottom cabinets\,\nnew Ethan Allen Cal King bed\,\n1940s mahogany Duncan Phyfe style bedroom set with full size bed\,\ntall chest\,\nnightstand and vanity\,\n1940s mahogany Duncan Phyfe China cabinet\,\n1930s tall chest with matching vanity\,\nOak S- curve roll top desk with cane back office chair\,\noak file cabinets\,\nwell made early dovetail six drawer gentleman’s chest\,\ncostume jewelry\,\nhuge collection of dolls and collectible plush toys\,\nMadame Alexander\, Ginny\, Vogue\, and many others\,\nhuge collection of Fenton glass baskets\,\nall different\,\nhuge collection of Fenton glass vases\, all different\,\nCarnival Glass by Fenton and others\,\nseveral different hand blown quality glass vases\,\nOak lawyers bookcases\,\nhuge sewing/craft room\, stuffed with books\, sewing notions\, sewing items\, scissors\, etc.\nElna Air Electronic model SU sewing machine\,\nElna Stella Air Electronic sewing machine\,\nRex model 708-2 blind stitch portable industrial sewing machine with case\,\nbeautiful 17 drawer L-shaped sewing table\,\nboxes and boxes of fabric\,\nboxes of patterns\,\nquality decorative items of all kinds\,\nCraftsman tools and toolbox\,\nquality fishing gear\,\nfour drawer file cabinets\,\nrolling Metro racks\,\nladders\,\nvinyl garage storage cabinets\,\nusable items of all kinds\,\ncollectibles of all kinds\, books of all kinds\,\nboxes of religious books\,\nand much much more.\nDon’t miss this great auction!!
URL:https://fresnoauctioncompany.com/event/3-23-24/
LOCATION:CA
CATEGORIES:Estate Auction
ATTACH;FMTTYPE=image/jpeg:https://fresnoauctioncompany.com/wp-content/uploads/2024/03/20240311_104642-scaled.jpg
END:VEVENT
END:VCALENDAR