BEGIN:VCALENDAR
VERSION:2.0
PRODID:-//Fresno Estates &amp; Auction Company - ECPv6.15.18//NONSGML v1.0//EN
CALSCALE:GREGORIAN
METHOD:PUBLISH
X-ORIGINAL-URL:https://fresnoauctioncompany.com
X-WR-CALDESC:Events for Fresno Estates &amp; Auction Company
REFRESH-INTERVAL;VALUE=DURATION:PT1H
X-Robots-Tag:noindex
X-PUBLISHED-TTL:PT1H
BEGIN:VTIMEZONE
TZID:America/Los_Angeles
BEGIN:DAYLIGHT
TZOFFSETFROM:-0800
TZOFFSETTO:-0700
TZNAME:PDT
DTSTART:20230312T100000
END:DAYLIGHT
BEGIN:STANDARD
TZOFFSETFROM:-0700
TZOFFSETTO:-0800
TZNAME:PST
DTSTART:20231105T090000
END:STANDARD
BEGIN:DAYLIGHT
TZOFFSETFROM:-0800
TZOFFSETTO:-0700
TZNAME:PDT
DTSTART:20240310T100000
END:DAYLIGHT
BEGIN:STANDARD
TZOFFSETFROM:-0700
TZOFFSETTO:-0800
TZNAME:PST
DTSTART:20241103T090000
END:STANDARD
BEGIN:DAYLIGHT
TZOFFSETFROM:-0800
TZOFFSETTO:-0700
TZNAME:PDT
DTSTART:20250309T100000
END:DAYLIGHT
BEGIN:STANDARD
TZOFFSETFROM:-0700
TZOFFSETTO:-0800
TZNAME:PST
DTSTART:20251102T090000
END:STANDARD
END:VTIMEZONE
BEGIN:VEVENT
DTSTART;TZID=America/Los_Angeles:20240224T080000
DTEND;TZID=America/Los_Angeles:20240224T170000
DTSTAMP:20260421T215738
CREATED:20240219T165812Z
LAST-MODIFIED:20240221T004647Z
UID:14729-1708761600-1708794000@fresnoauctioncompany.com
SUMMARY:2-24-24 Fresno Auction with Infinite FX35\, Ford Focus\, Collectibles Galore and so much MORE!
DESCRIPTION:Where: 2436 East Harvard Avenue Fresno\, CA 93703\n The home is located Two blocks North of Clinton and  West of Fresno Street.\n\nWhen: Saturday February 24\, 2024\nAuction will begin at 10:00 a.m. with a preview beginning at 8:00 a.m.\n\n\nClick HERE  for scrollable and expandable google photos \n\n\n\nThis unique filled auction includes:\n\n2009 Infinite FX35 – One Owner\n2017Ford Focus SE – low mileage a\nvintage Schwinn Stingray Fastback in original condition\,\nIndian motorcycle that needs an engine\, which is available online\,\nRare Ford Model A performance parts\,\nFord Model A and 32 Ford radiators and radiator shells\,\nvintage Ford V8\, Model A and truck badges\,\nFord Model A hood\,\nnew and rebuilt crankshafts\,\nFord Model A engine\,\nlots of other Ford Model A engine\,\nsuspension and other parts.\nRare matched sets of 1928 California license plates\,\n1915 California porcelain license plate and other California license plates\,\nvintage military items\,\nvintage toys of all kinds\,\ncollectible diecast cars and trucks\,\nseries of Texaco diecast planes in original boxes\,\nSnap-On on toolbox and lots of Snap-on tools\,\nvintage table fans\,\nvintage Coca-Cola machine\,\nvintage Coca-Cola and Squirt advertising clocks\,\nvintage posters and racing posters : One racing poster signed by Billy Vukovich Jr and two signed by Carroll Shelby\,\nantique White sewing machine with quartersawn Oak cabinet\,\nantique floor lamps\,\nantique oak desk\,\nvintage office chairs\,\nvintage books and magazines\,\ncollectible pocket knives\,\ncollectible Ford tools and other Ford memorabilia\,\nvintage paper ephemera\,\nvintage 1955 Disney items\,\ncollectible glassware\,\nsets of silver plate flatware\,\nartwork\,\nPrints and much much more.\nDon’t miss this great auction!!
URL:https://fresnoauctioncompany.com/event/2-24-24/
LOCATION:1-20-24\, 2436 East Harvard Avenue\, Fresno\, CA\, 93703\, United States
CATEGORIES:Estate Auction
ATTACH;FMTTYPE=image/jpeg:https://fresnoauctioncompany.com/wp-content/uploads/2024/02/1000000779_1708303694895.jpg
END:VEVENT
END:VCALENDAR