BEGIN:VCALENDAR
VERSION:2.0
PRODID:-//Fresno Estates &amp; Auction Company - ECPv6.15.18//NONSGML v1.0//EN
CALSCALE:GREGORIAN
METHOD:PUBLISH
X-ORIGINAL-URL:https://fresnoauctioncompany.com
X-WR-CALDESC:Events for Fresno Estates &amp; Auction Company
REFRESH-INTERVAL;VALUE=DURATION:PT1H
X-Robots-Tag:noindex
X-PUBLISHED-TTL:PT1H
BEGIN:VTIMEZONE
TZID:America/Los_Angeles
BEGIN:DAYLIGHT
TZOFFSETFROM:-0800
TZOFFSETTO:-0700
TZNAME:PDT
DTSTART:20230312T100000
END:DAYLIGHT
BEGIN:STANDARD
TZOFFSETFROM:-0700
TZOFFSETTO:-0800
TZNAME:PST
DTSTART:20231105T090000
END:STANDARD
BEGIN:DAYLIGHT
TZOFFSETFROM:-0800
TZOFFSETTO:-0700
TZNAME:PDT
DTSTART:20240310T100000
END:DAYLIGHT
BEGIN:STANDARD
TZOFFSETFROM:-0700
TZOFFSETTO:-0800
TZNAME:PST
DTSTART:20241103T090000
END:STANDARD
BEGIN:DAYLIGHT
TZOFFSETFROM:-0800
TZOFFSETTO:-0700
TZNAME:PDT
DTSTART:20250309T100000
END:DAYLIGHT
BEGIN:STANDARD
TZOFFSETFROM:-0700
TZOFFSETTO:-0800
TZNAME:PST
DTSTART:20251102T090000
END:STANDARD
END:VTIMEZONE
BEGIN:VEVENT
DTSTART;TZID=America/Los_Angeles:20240203T090000
DTEND;TZID=America/Los_Angeles:20240203T150000
DTSTAMP:20260421T182926
CREATED:20240131T180308Z
LAST-MODIFIED:20240131T233024Z
UID:14561-1706950800-1706972400@fresnoauctioncompany.com
SUMMARY:2-3-24 -Beautiful 3 day Fresno Estate Sale with Quality Décor and Collectibles
DESCRIPTION:  \nWhere :3048 E. Los Altos Ave. Fresno\, CA 93710\nEast of Chestnut between Sierra and Herndon Aves \nWhen: Friday\, Saturday and Sunday\, February 2\,3\,4\, 2024\nSaturday: 9am to 4pm\nSunday: 9am-3pm \nCLICK HERE for expandable and scrollable Google photo Link \nThis Friday\, Saturday and (tentatively) Sunday 2-2\, 2-3 & 2-4 -24\, we will be conducting a quality 3 day Estate Sale. The sale begins Friday  & Saturday at 9am -3pm and Sunday 9am to 3pm if inventory permits. All must go! Great prices & selection on your next new treasures and Let’s make a deal for price reductions. See you soon! \n\n10×12 & 8×8 Tuff Sheds\,\ncostume jewelry\npair Murano Glass swans\,\nlarge fabulous Murano Bird of Paradise\,\nvintage mid-century Hollywood Regency gilt\,\ngold metal Hydrangea floor lamp\,\ntable lamp and matching wall lamp\,\nquality Asian collectibles\, pair ceramic Foo Dogs\,\nhand cut & blown glass Czechoslovakian\, French\, German and Polish Crystal\,\nDrexel Heritage dining table with extensions and six fancy chairs with two captains chairs\,\nfancy large gold gesso wall mirror\,\nDrexel Heritage 72-in round dining table with Center Lazy Susan and six oval back chairs\,\nDrexel lighted curio/china cabinet with beveled glass doors\,\nmirrored mid-century modern coffee table\,\nand matching sofa table\,\nmid-century modern sofa\,\nlarge fancy classic rectangular beveled mirror\,\nTropical Grande metal palm leaf floor lamp\,\ncement yard art statues\nvarious size sago palms – some potted\, some planted\,\nPulaski Cal King Classic bedroom set\,\nquality clothing\,\nreligious icons\,\nthree matching graduated\,\nfull size brass and marble antique style headboard\,\nquality cookware\,\nsmall appliances\,\nLinens of all kinds\,\ntowels\,\ntable Clothes\nbeautiful antique armoire with beveled mirror door\,\nmid-century bar cabinet with glasses\,\nantique oak lamp table\,\nantique quarter sawn Oak Serpentine front dresser with beveled mirror\,\nEthan Allen TV cabinet\,\nseveral quality hand knotted wool area rugs\,\nand much much more.\n\n.
URL:https://fresnoauctioncompany.com/event/2-3-24/
LOCATION:CA
CATEGORIES:Estate Tag Sale
ATTACH;FMTTYPE=image/jpeg:https://fresnoauctioncompany.com/wp-content/uploads/2024/01/20240130_161601-scaled.jpg
END:VEVENT
END:VCALENDAR