BEGIN:VCALENDAR
VERSION:2.0
PRODID:-//Fresno Estates &amp; Auction Company - ECPv6.15.18//NONSGML v1.0//EN
CALSCALE:GREGORIAN
METHOD:PUBLISH
X-ORIGINAL-URL:https://fresnoauctioncompany.com
X-WR-CALDESC:Events for Fresno Estates &amp; Auction Company
REFRESH-INTERVAL;VALUE=DURATION:PT1H
X-Robots-Tag:noindex
X-PUBLISHED-TTL:PT1H
BEGIN:VTIMEZONE
TZID:America/Los_Angeles
BEGIN:DAYLIGHT
TZOFFSETFROM:-0800
TZOFFSETTO:-0700
TZNAME:PDT
DTSTART:20230312T100000
END:DAYLIGHT
BEGIN:STANDARD
TZOFFSETFROM:-0700
TZOFFSETTO:-0800
TZNAME:PST
DTSTART:20231105T090000
END:STANDARD
BEGIN:DAYLIGHT
TZOFFSETFROM:-0800
TZOFFSETTO:-0700
TZNAME:PDT
DTSTART:20240310T100000
END:DAYLIGHT
BEGIN:STANDARD
TZOFFSETFROM:-0700
TZOFFSETTO:-0800
TZNAME:PST
DTSTART:20241103T090000
END:STANDARD
BEGIN:DAYLIGHT
TZOFFSETFROM:-0800
TZOFFSETTO:-0700
TZNAME:PDT
DTSTART:20250309T100000
END:DAYLIGHT
BEGIN:STANDARD
TZOFFSETFROM:-0700
TZOFFSETTO:-0800
TZNAME:PST
DTSTART:20251102T090000
END:STANDARD
END:VTIMEZONE
BEGIN:VEVENT
DTSTART;TZID=America/Los_Angeles:20240120T080000
DTEND;TZID=America/Los_Angeles:20240120T170000
DTSTAMP:20260421T182927
CREATED:20240109T181521Z
LAST-MODIFIED:20240117T181854Z
UID:13662-1705737600-1705770000@fresnoauctioncompany.com
SUMMARY:1-20-24 Fresno Auction with Model A Parts\, Schwinn Bikes\, Antiques\, Tools and MUCH MORE
DESCRIPTION:Where: 2436 East Harvard Avenue Fresno\, CA 93703\n The home is located Two blocks North of Clinton and  West of Fresno Street.\n\nWhen: Saturday January 20\, 2024\nAuction will begin at 10:00 a.m. with a preview beginning at 8:00 a.m.\n\n\nClick HERE  for scrollable and expandable google photos \n\n\n\nThis Fun Collector’s Auction Features:\n\nhuge collection of vintage\,\noriginal Ford Model A parts.\n Including;\n\nrare 1928 truck cab rear panel with Ford in script\, rare Ford 28-29 Model A Truck doors\, 28-29 Model A Roadster doors\, rebuilt transmission\, complete engine\, fenders\, bumpers\, axles\, wire wheels\, engine parts\, drivelines\, radiators\, Ford Chrome radiator shells\,\n\n\nboxes and boxes of miscellaneous parts\,\nseveral vintage Schwinn bicycles\,\nlots of advertising signs and advertising clocks\,\nvintage posters of all kinds including racing posters\,\ntravel posters and others.\nOriginal artwork\, vintage prints\,\nSnap-on tool box and tools\,\nusable products\,\nusable repair parts\,\nantique lanterns\,\nantique brass blade table fans\,\nworkbenches\,\nmetal storage cabinets\,\nshelving\,\ndiecast cars\,\ncollectible diecast Snap-on items\,\nrare Snap-on dealers clock\, mint in box.\nGreat selection of collectible items\, including\n\nbooks\, ashtrays\, tins\, oil lamps\, and more.\n\n\nSome household items\,\nbarbecues\,\nfans\,\ndishes and much much more.\n124 NEW PHOTOS JUST ADDED
URL:https://fresnoauctioncompany.com/event/1-20-24/
LOCATION:1-20-24\, 2436 East Harvard Avenue\, Fresno\, CA\, 93703\, United States
CATEGORIES:Estate Auction
ATTACH;FMTTYPE=image/jpeg:https://fresnoauctioncompany.com/wp-content/uploads/2024/01/20240115_125910-scaled.jpg
END:VEVENT
END:VCALENDAR