BEGIN:VCALENDAR
VERSION:2.0
PRODID:-//Fresno Estates &amp; Auction Company - ECPv6.15.18//NONSGML v1.0//EN
CALSCALE:GREGORIAN
METHOD:PUBLISH
X-WR-CALNAME:Fresno Estates &amp; Auction Company
X-ORIGINAL-URL:https://fresnoauctioncompany.com
X-WR-CALDESC:Events for Fresno Estates &amp; Auction Company
REFRESH-INTERVAL;VALUE=DURATION:PT1H
X-Robots-Tag:noindex
X-PUBLISHED-TTL:PT1H
BEGIN:VTIMEZONE
TZID:America/Los_Angeles
BEGIN:DAYLIGHT
TZOFFSETFROM:-0800
TZOFFSETTO:-0700
TZNAME:PDT
DTSTART:20220313T100000
END:DAYLIGHT
BEGIN:STANDARD
TZOFFSETFROM:-0700
TZOFFSETTO:-0800
TZNAME:PST
DTSTART:20221106T090000
END:STANDARD
BEGIN:DAYLIGHT
TZOFFSETFROM:-0800
TZOFFSETTO:-0700
TZNAME:PDT
DTSTART:20230312T100000
END:DAYLIGHT
BEGIN:STANDARD
TZOFFSETFROM:-0700
TZOFFSETTO:-0800
TZNAME:PST
DTSTART:20231105T090000
END:STANDARD
BEGIN:DAYLIGHT
TZOFFSETFROM:-0800
TZOFFSETTO:-0700
TZNAME:PDT
DTSTART:20240310T100000
END:DAYLIGHT
BEGIN:STANDARD
TZOFFSETFROM:-0700
TZOFFSETTO:-0800
TZNAME:PST
DTSTART:20241103T090000
END:STANDARD
END:VTIMEZONE
BEGIN:VEVENT
DTSTART;TZID=America/Los_Angeles:20231210T080000
DTEND;TZID=America/Los_Angeles:20231210T080000
DTSTAMP:20260421T181244
CREATED:20231205T041530Z
LAST-MODIFIED:20231207T053749Z
UID:13382-1702195200-1702195200@fresnoauctioncompany.com
SUMMARY:12-10-23 In collaboration with Big Valley Estates- SUNDAY MADERA Ranchos AUCTION 10am with Vehicles\, Riding lawn mower\, golf cart  plus Much More
DESCRIPTION:Where: 35079 Bonadelle Ave. Madera CA 93636\n\nClick here for link to upcoming Dec. 10 Big Valley Event page and photos\nFurther details Call Frank 559-790-8598\n\nWhen: SUNDAY\, December 10\, 2023 at 10am\nAuction will begin at 10:00 a.m. with a preview beginning at 8:00 a.m.\n\n\nClick HERE  for scrollable and expandable google photos \n\n\n\nDecember 10\, 2023 AUCTION-MADERA CA- Details coming\n\n\n\n\n\n​Two 1965 Pontiac Bonneville convertible body parts\n\n\n\n\n\n1960s Model I-60 Hough Loader. Cummings engine. Hydraulics work. \n\n\n\n\n\nPressure treated wood for trailer decking. \n\n\n\n\n\n2.5” high x 5.375” wide x 8ft long\n\n\n\n\n\n1989 Serengeti Safari Motorhome by Oshkosh. Diesel pusher engine. Reads 54\,193 miles. Includes Koehler Generator. Runs great. \n\n\n\n\n\nHonda lawnmower \n\n\n\n\n\nCraftsman Riding 6 speed turbo cooled lawnmower \n\n\n\n\n\n2009 EZ go Golf Cart by Textron. Electric. \n\n\n\n\n\nBriggs and Stratton lawnmower. \n\n\n\n\n\nRototiller by Troy 6.75 Engine\n\n\n\n\n\n2004 Blue Dodge Ram 3500. diesel 153\,00 miles !\n\n\n\n\n\n2008 Red Dodge Magnum \n\n\n\n\n\n74\,000 miles\n\n\n\n\n\n1926 Ford Model T \n\n\n\n\n\n5 window coupe. Runs\n\n\n\n\n\n1972 Suzuki Enduro. Model 90. Runs \n\n\n\n\n\nToro lawnmower 7.25 torque 163 cc. Runs \n\n\n\n\n\nRockwell Drill press with lots of bits. \n\n\n\n\n\n1976 Ford 900 fuel truck\n\n\n\n\n\nRt610 engine. 10 speed transmission.\n\n\n		\n		\n			\n				\n			\n			\n				\n			\n			\n				\n			\n			\n				\n			\n			\n				\n			\n			\n				\n			\n			\n				\n			\n			\n				\n			\n			\n				\n			\n			\n				\n			\n			\n				\n			\n			\n				\n			\n			\n				\n			\n			\n				\n			\n			\n				\n			\n			\n				\n			\n			\n				\n			\n			\n				\n			\n			\n				\n			\n			\n				\n			\n			\n				\n			\n			\n				\n			\n			\n				\n			\n			\n				\n			\n			\n				\n			\n			\n				\n			\n			\n				\n			\n			\n				\n			\n			\n				\n			\n			\n				\n			\n			\n				\n			\n			\n				\n			\n			\n				\n			\n			\n				\n			\n			\n				\n			\n			\n				\n			\n			\n				\n			\n			\n				\n			\n			\n				\n			\n			\n				\n			\n			\n				\n			\n			\n				\n			\n			\n				\n			\n			\n				\n			\n			\n				\n			\n			\n				\n			\n			\n				\n			\n			\n				\n			\n			\n				\n			\n			\n				\n			\n			\n				\n			\n			\n				\n			\n			\n				\n			\n			\n				\n			\n			\n				\n			\n			\n				\n			\n			\n				\n			\n			\n				\n			\n			\n				\n			\n			\n				\n			\n			\n				\n			\n			\n				\n			\n			\n				\n			\n			\n				\n			\n			\n				\n			\n			\n				\n			\n			\n				\n			\n			\n				\n			\n			\n				\n			\n			\n				\n			\n			\n				\n			\n			\n				\n			\n			\n				\n			\n			\n				\n			\n			\n				\n			\n			\n				\n			\n			\n				\n			\n			\n				\n			\n			\n				\n			\n			\n				\n			\n			\n				\n			\n			\n				\n			\n			\n				\n			\n			\n				\n			\n			\n				\n			\n			\n				\n			\n			\n				\n			\n			\n				\n			\n			\n				\n			\n			\n				\n			\n			\n				\n			\n			\n				\n			\n			\n				\n			\n			\n				\n			\n			\n				\n			\n			\n				\n			\n			\n				\n			\n			\n				\n			\n			\n				\n			\n			\n				\n			\n			\n				\n			\n			\n				\n			\n			\n				\n			\n			\n				\n			\n			\n				\n			\n			\n				\n			\n			\n		\n\n 
URL:https://fresnoauctioncompany.com/event/12-10-23/
LOCATION:12-10\, 35079 Bonadelle Ave.\, Madera\, CA\, 93636\, United States
CATEGORIES:Estate Auction
ATTACH;FMTTYPE=image/jpeg:https://fresnoauctioncompany.com/wp-content/uploads/2023/12/6AFCECE9-FBC3-4CC1-8EE6-68FBF5A92C8D-scaled.jpeg
END:VEVENT
END:VCALENDAR