BEGIN:VCALENDAR
VERSION:2.0
PRODID:-//Fresno Estates &amp; Auction Company - ECPv6.15.18//NONSGML v1.0//EN
CALSCALE:GREGORIAN
METHOD:PUBLISH
X-ORIGINAL-URL:https://fresnoauctioncompany.com
X-WR-CALDESC:Events for Fresno Estates &amp; Auction Company
REFRESH-INTERVAL;VALUE=DURATION:PT1H
X-Robots-Tag:noindex
X-PUBLISHED-TTL:PT1H
BEGIN:VTIMEZONE
TZID:America/Los_Angeles
BEGIN:DAYLIGHT
TZOFFSETFROM:-0800
TZOFFSETTO:-0700
TZNAME:PDT
DTSTART:20220313T100000
END:DAYLIGHT
BEGIN:STANDARD
TZOFFSETFROM:-0700
TZOFFSETTO:-0800
TZNAME:PST
DTSTART:20221106T090000
END:STANDARD
BEGIN:DAYLIGHT
TZOFFSETFROM:-0800
TZOFFSETTO:-0700
TZNAME:PDT
DTSTART:20230312T100000
END:DAYLIGHT
BEGIN:STANDARD
TZOFFSETFROM:-0700
TZOFFSETTO:-0800
TZNAME:PST
DTSTART:20231105T090000
END:STANDARD
BEGIN:DAYLIGHT
TZOFFSETFROM:-0800
TZOFFSETTO:-0700
TZNAME:PDT
DTSTART:20240310T100000
END:DAYLIGHT
BEGIN:STANDARD
TZOFFSETFROM:-0700
TZOFFSETTO:-0800
TZNAME:PST
DTSTART:20241103T090000
END:STANDARD
END:VTIMEZONE
BEGIN:VEVENT
DTSTART;TZID=America/Los_Angeles:20231202T080000
DTEND;TZID=America/Los_Angeles:20231202T160000
DTSTAMP:20260421T084249
CREATED:20231129T164443Z
LAST-MODIFIED:20231129T173326Z
UID:13085-1701504000-1701532800@fresnoauctioncompany.com
SUMMARY:12-2-23 Fresno Estate Auction with Multiple Vehicles\, Motorcycles\, Vintage and More!- 10am
DESCRIPTION:Where: 4585 North Hayes Avenue Fresno California 93723\nThe property is West of Highway 99 between Shaw Avenue and Gettysburg Avenue.\n\nWhen: Saturday\, December 2\, 2023\nAuction will begin at 10:00 a.m. with a preview beginning at 8:00 a.m.\n\n\nClick HERE  for scrollable and expandable google photos \n\n\n\nThis Auction Features: \n\nSeveral aluminum ladders (In case you are still putting up Christmas lights)\n2008 GMC Sierra SWB single cab pickup\,\n2017 Harley-Davidson Limited with 107 engine\,\n2007 Mercury Grand Marquis\,\n2007 Chevy Colorado pickup\,\n1998 Ford Crown Vic\,\n1950 Ford 2 door sedan project car\,\n1941 Dodge pickup project truck\,\nPagsta short Chopper motorcycle\nCool two seat FCC police Taylor Dunn style Electric cart\,\nrare 1974 Trans Am hood\,\nmatched sets of vintage California license plates\,\nCraftsman radial arm saw\,\nvintage Craftsman drill press\,\nCraftsman table saw\,\nchainsaws\,\nElectric weed eaters\,\nshop vacs\,\nMiller welder\,\ntoolbox\,\nvarious tools\,\nlarge shop fan\,\nlateral file cabinet for storage\,\nrare Vendo Westinghouse coin-op top load embossed Coca-Cola machine\,\nwheelbarrow and carts\,\ncollectibles\,\nantique oak wall phone\,\nantique curved glass Oak China cabinet\,\nold hall tree\,\noriginal Elvis artwork\,\nother Collectibles and usable items\n\n#comebidwithus
URL:https://fresnoauctioncompany.com/event/12-2-23-2/
LOCATION:Hayes\, 4585 N Hayes Avenue\, Fresno\, CA\, 93723\, United States
CATEGORIES:Estate Auction
ATTACH;FMTTYPE=image/jpeg:https://fresnoauctioncompany.com/wp-content/uploads/2023/11/1-2-scaled.jpg
END:VEVENT
END:VCALENDAR