BEGIN:VCALENDAR
VERSION:2.0
PRODID:-//Fresno Estates &amp; Auction Company - ECPv6.15.18//NONSGML v1.0//EN
CALSCALE:GREGORIAN
METHOD:PUBLISH
X-ORIGINAL-URL:https://fresnoauctioncompany.com
X-WR-CALDESC:Events for Fresno Estates &amp; Auction Company
REFRESH-INTERVAL;VALUE=DURATION:PT1H
X-Robots-Tag:noindex
X-PUBLISHED-TTL:PT1H
BEGIN:VTIMEZONE
TZID:America/Los_Angeles
BEGIN:DAYLIGHT
TZOFFSETFROM:-0800
TZOFFSETTO:-0700
TZNAME:PDT
DTSTART:20220313T100000
END:DAYLIGHT
BEGIN:STANDARD
TZOFFSETFROM:-0700
TZOFFSETTO:-0800
TZNAME:PST
DTSTART:20221106T090000
END:STANDARD
BEGIN:DAYLIGHT
TZOFFSETFROM:-0800
TZOFFSETTO:-0700
TZNAME:PDT
DTSTART:20230312T100000
END:DAYLIGHT
BEGIN:STANDARD
TZOFFSETFROM:-0700
TZOFFSETTO:-0800
TZNAME:PST
DTSTART:20231105T090000
END:STANDARD
BEGIN:DAYLIGHT
TZOFFSETFROM:-0800
TZOFFSETTO:-0700
TZNAME:PDT
DTSTART:20240310T100000
END:DAYLIGHT
BEGIN:STANDARD
TZOFFSETFROM:-0700
TZOFFSETTO:-0800
TZNAME:PST
DTSTART:20241103T090000
END:STANDARD
END:VTIMEZONE
BEGIN:VEVENT
DTSTART;TZID=America/Los_Angeles:20231118T080000
DTEND;TZID=America/Los_Angeles:20231118T170000
DTSTAMP:20260421T065809
CREATED:20231115T181422Z
LAST-MODIFIED:20231115T233622Z
UID:12813-1700294400-1700326800@fresnoauctioncompany.com
SUMMARY:11-18-23 Clean Quality Northwest Fresno Estate Auction 10am
DESCRIPTION:Where: 4982 West Fir Avenue Fresno\, CA 93722\n The home is located North of Herndon Avenue and West of Millburn Avenue.\n\nWhen: Saturday November 18\, 2023\nAuction will begin at 10:00 a.m. with a preview beginning at 8:00 a.m.\n\n\nClick HERE  for scrollable and expandable google photos \n\n\n\nThis Auction Features:\n\nMid-Century Modern furniture\,\nBrown-Saltman bedroom set\,\nHeywood-Wakefield chest of drawers\,\nDomas Danica- Erik Buch design for O.D. Mobler dining table with extensions and six floating seat chairs\,\nunusual Mid-Century Modern coffee table with built-in magazine holder\,\nthree cushion black leather sofa\,\n1950s solid Maple bedroom set\,\nnewer matching Samsung front load washer and electric dryer with drawer stands\,\nJapanese artwork pottery and collectibles\,\nIkebana pottery\, prints and pictures\,\nvintage Guardian Wear cookware\,\nvintage Fresno soda boxes\,\n1950 Cedar chest\,\nantique stenciled crocs\,\nseveral sets of China and dinnerware\,\nmiscellaneous vintage Golf trophies and collectibles\,\nlogo t-shirts\,\nquality clothing and linens\,\nyard and hand tools\,\nheavy duty metal shelving\,\nand much much more.\nDon’t miss this Great Auction!!
URL:https://fresnoauctioncompany.com/event/11-18-23/
LOCATION:CA
CATEGORIES:Estate Auction
ATTACH;FMTTYPE=image/jpeg:https://fresnoauctioncompany.com/wp-content/uploads/2023/11/20231115_152830-1-scaled.jpg
END:VEVENT
END:VCALENDAR