BEGIN:VCALENDAR
VERSION:2.0
PRODID:-//Fresno Estates &amp; Auction Company - ECPv6.15.18//NONSGML v1.0//EN
CALSCALE:GREGORIAN
METHOD:PUBLISH
X-ORIGINAL-URL:https://fresnoauctioncompany.com
X-WR-CALDESC:Events for Fresno Estates &amp; Auction Company
REFRESH-INTERVAL;VALUE=DURATION:PT1H
X-Robots-Tag:noindex
X-PUBLISHED-TTL:PT1H
BEGIN:VTIMEZONE
TZID:America/Los_Angeles
BEGIN:DAYLIGHT
TZOFFSETFROM:-0800
TZOFFSETTO:-0700
TZNAME:PDT
DTSTART:20220313T100000
END:DAYLIGHT
BEGIN:STANDARD
TZOFFSETFROM:-0700
TZOFFSETTO:-0800
TZNAME:PST
DTSTART:20221106T090000
END:STANDARD
BEGIN:DAYLIGHT
TZOFFSETFROM:-0800
TZOFFSETTO:-0700
TZNAME:PDT
DTSTART:20230312T100000
END:DAYLIGHT
BEGIN:STANDARD
TZOFFSETFROM:-0700
TZOFFSETTO:-0800
TZNAME:PST
DTSTART:20231105T090000
END:STANDARD
BEGIN:DAYLIGHT
TZOFFSETFROM:-0800
TZOFFSETTO:-0700
TZNAME:PDT
DTSTART:20240310T100000
END:DAYLIGHT
BEGIN:STANDARD
TZOFFSETFROM:-0700
TZOFFSETTO:-0800
TZNAME:PST
DTSTART:20241103T090000
END:STANDARD
END:VTIMEZONE
BEGIN:VEVENT
DTSTART;TZID=America/Los_Angeles:20231104T080000
DTEND;TZID=America/Los_Angeles:20231104T170000
DTSTAMP:20260421T040654
CREATED:20231030T201222Z
LAST-MODIFIED:20231031T233443Z
UID:11947-1699084800-1699117200@fresnoauctioncompany.com
SUMMARY:11-4-23 Vintage Car\, Indian Motorcycle & More Estate Auction 10am
DESCRIPTION:  \n\nWhere: 43106 Revis Cir E\, Coarsegold CA 93614\n                A Fabulous Estate Auction in the Yosemite Lakes Park area of Coarsegold – follow the signs off HWY 41N\n\nWhen: Saturday November 4\, 2023\nAuction will begin at 10:00 a.m. with a preview beginning at 8:00 a.m.\n\n\nClick HERE  for scrollable and expandable google photos \n\n\n\nThis Auction Features;\n\n\n\n1940 Chevy master Deluxe sedan street rod with 350 Chevy engine\,\nrare limited edition 2003 Indian Chief Terminator 3  motorcycle only 50 made!!\nAs seen in the Terminator 3 film\, 1950 Chevy two-door hardtop restored\,\n1955 Pontiac two-door hardtop\,\nrare 1953 Pontiac Sedan Delivery street rod project car\,\n1953 Oldsmobile 88 four-door hardtop\,\n1941 Pontiac Silver Street 2 door hardtop\,\n1951 GMC truck\,\n1949 GMC truck project\,\n1959 Ford F350 flatbed Survivor truck \,\n2 1962 Ford rancheros\,\nvintage Kawasaki motorcycles\,\nearly 1920s Chevy truck project vehicle\,\n1972 Ford Custom long wheelbase truck\,\n2006 Chevy HHR\,\n2004 Pagsta Lipan motorcycle\,\n2002 to 2004 Indian Scout motorcycle\,\n1999 CMC Chopper \,\nHarley-Davidson clone\, predecessor to and the basis for the Reintroduction of the Indian Brand motorcycles\,\nGMC Vandura 3500 box truck\,\ncontemporary \,hard to find\, Indian NOS parts of all kinds\,\nhand tools and power tools of all kinds\,\nmechanics tools\,\ntool boxes\,\nusable products\, oil\, antifreeze\, and more\,\nquality household furnishings\,\nseveral guitars\, rare\, hard to find\, advertising signs and banners from the Gilroy and Santa Cruz Indian dealerships\,\neasy to move size metal storage container\,\nmotorcycle work stand\,\ngarage and Shop shelving\,\nparts organizers\,\nlots of New Old Stock parts\,\npneumatic bumper jack\,\ntransmission jack\,\nrebuilt small block Chevy engine\,\nEagle brand flammable storage cabinet\,\nIndian motorcycle parts board\,\n6 lug GM truck wheels with newer 225 70 15 tires\,\nheavy duty shop shelving\,\nshop heater\, ladders\,\nNut and Bolt organizers\,\nnew paint guns\,\nPoulan Pro farmhand chainsaw\,\nfoosball and air hockey game\,\nIndian motorcycle logo t-shirts and jackets\,\nway too much to list\, don’t miss this great auction!!
URL:https://fresnoauctioncompany.com/event/11-4-23/
LOCATION:CA
CATEGORIES:Estate Auction
ATTACH;FMTTYPE=image/jpeg:https://fresnoauctioncompany.com/wp-content/uploads/2023/10/20231002_104815-2-scaled.jpg
END:VEVENT
END:VCALENDAR