BEGIN:VCALENDAR
VERSION:2.0
PRODID:-//Fresno Estates &amp; Auction Company - ECPv6.15.18//NONSGML v1.0//EN
CALSCALE:GREGORIAN
METHOD:PUBLISH
X-WR-CALNAME:Fresno Estates &amp; Auction Company
X-ORIGINAL-URL:https://fresnoauctioncompany.com
X-WR-CALDESC:Events for Fresno Estates &amp; Auction Company
REFRESH-INTERVAL;VALUE=DURATION:PT1H
X-Robots-Tag:noindex
X-PUBLISHED-TTL:PT1H
BEGIN:VTIMEZONE
TZID:America/Los_Angeles
BEGIN:DAYLIGHT
TZOFFSETFROM:-0800
TZOFFSETTO:-0700
TZNAME:PDT
DTSTART:20220313T100000
END:DAYLIGHT
BEGIN:STANDARD
TZOFFSETFROM:-0700
TZOFFSETTO:-0800
TZNAME:PST
DTSTART:20221106T090000
END:STANDARD
BEGIN:DAYLIGHT
TZOFFSETFROM:-0800
TZOFFSETTO:-0700
TZNAME:PDT
DTSTART:20230312T100000
END:DAYLIGHT
BEGIN:STANDARD
TZOFFSETFROM:-0700
TZOFFSETTO:-0800
TZNAME:PST
DTSTART:20231105T090000
END:STANDARD
BEGIN:DAYLIGHT
TZOFFSETFROM:-0800
TZOFFSETTO:-0700
TZNAME:PDT
DTSTART:20240310T100000
END:DAYLIGHT
BEGIN:STANDARD
TZOFFSETFROM:-0700
TZOFFSETTO:-0800
TZNAME:PST
DTSTART:20241103T090000
END:STANDARD
END:VTIMEZONE
BEGIN:VEVENT
DTSTART;TZID=America/Los_Angeles:20231014T080000
DTEND;TZID=America/Los_Angeles:20231014T160000
DTSTAMP:20260421T025514
CREATED:20231013T154437Z
LAST-MODIFIED:20231013T154649Z
UID:11463-1697270400-1697299200@fresnoauctioncompany.com
SUMMARY:10-14-23 Sunnyside Estate Auction with Mid-Century\, Sterling Flatware\, Vintage Cadillac -10am
DESCRIPTION:When: October 14\, 2023 at 10am\nPreview beginning at 8am\n\nWhere: 6109 E Butler Ave.\, Fresno\,  CA 93727\nin Sunnyside on Butler Avenue\, East of Fowler Avenue \nCLICK HERE for Expandable and Scroll-able google photos \n\nThis Saturday’s Auction is and features;\n1989 Cadillac Sedan de Ville 4.5 liter V8\,\nlarge classic Ridgeway 3 weight grandfather clock\,\nset of sterling silver flatware by Towle- Legato pattern\,\nmid-century Boomerang coffee table\,\nmid-century bedroom sets\,\nFrigidaire refrigerator freezer\,\nElectric organ\,\ntvs\,\nmatching multi drawer linen chests\,\nvintage Kenwood stereo system\,\nart of all kinds\, prints\,\noils\, Etc\,\nhighly decorated Asian Garden pottery and garden seats\,\nlarge cement deer family\,\npatio furniture\,\nvintage men’s hats and clothes\,\nvintage San Francisco 49er windbreaker\,\nlots of holiday decor\,\nCrystal vases and decanters\,\nset of Royal Albert Country Roses pattern china with serving pieces\,\nlarge set of Lenox china\,\nhandmade quilt and linens\,\nvintage Atari game console and games\,\nvintage Corner Bar with four stools\,\nvintage record albums\,\nvintage Pirates kitchenware\,\ndining table with eight mid-century chairs\,\nlarge beautiful China cabinet\,\nseveral console entry tables\,\nsofas and recliners\,\nholiday decorations of all kinds\,\nsome animated\,\ncement fountains\,\ngarage cabinets\,\ncookware\,\nlinens\,\nhousehold items\,\nusable products\,\nand much much more. #comebidwithus
URL:https://fresnoauctioncompany.com/event/10-14-23/
LOCATION:10-14-23 Sunnyside estate\, 6109 E. Bulter Ave\, Fresno\, CA\, 93727\, United States
CATEGORIES:Estate Auction
ATTACH;FMTTYPE=image/jpeg:https://fresnoauctioncompany.com/wp-content/uploads/2023/10/20231009_154930-scaled.jpg
END:VEVENT
END:VCALENDAR