BEGIN:VCALENDAR
VERSION:2.0
PRODID:-//Fresno Estates &amp; Auction Company - ECPv6.15.18//NONSGML v1.0//EN
CALSCALE:GREGORIAN
METHOD:PUBLISH
X-WR-CALNAME:Fresno Estates &amp; Auction Company
X-ORIGINAL-URL:https://fresnoauctioncompany.com
X-WR-CALDESC:Events for Fresno Estates &amp; Auction Company
REFRESH-INTERVAL;VALUE=DURATION:PT1H
X-Robots-Tag:noindex
X-PUBLISHED-TTL:PT1H
BEGIN:VTIMEZONE
TZID:America/Los_Angeles
BEGIN:DAYLIGHT
TZOFFSETFROM:-0800
TZOFFSETTO:-0700
TZNAME:PDT
DTSTART:20220313T100000
END:DAYLIGHT
BEGIN:STANDARD
TZOFFSETFROM:-0700
TZOFFSETTO:-0800
TZNAME:PST
DTSTART:20221106T090000
END:STANDARD
BEGIN:DAYLIGHT
TZOFFSETFROM:-0800
TZOFFSETTO:-0700
TZNAME:PDT
DTSTART:20230312T100000
END:DAYLIGHT
BEGIN:STANDARD
TZOFFSETFROM:-0700
TZOFFSETTO:-0800
TZNAME:PST
DTSTART:20231105T090000
END:STANDARD
BEGIN:DAYLIGHT
TZOFFSETFROM:-0800
TZOFFSETTO:-0700
TZNAME:PDT
DTSTART:20240310T100000
END:DAYLIGHT
BEGIN:STANDARD
TZOFFSETFROM:-0700
TZOFFSETTO:-0800
TZNAME:PST
DTSTART:20241103T090000
END:STANDARD
END:VTIMEZONE
BEGIN:VEVENT
DTSTART;TZID=America/Los_Angeles:20230923T090000
DTEND;TZID=America/Los_Angeles:20230923T160000
DTSTAMP:20260421T102318
CREATED:20230921T201902Z
LAST-MODIFIED:20230922T010437Z
UID:10541-1695459600-1695484800@fresnoauctioncompany.com
SUMMARY:9-23-23 Fresno Estate SALE (not Auction)
DESCRIPTION:Saturday\, Sept. 23\, 2023 beginning at 9am \nThis Saturday and Sunday September 23rd and 24th will be a tag sale at 4585 North Hayes Avenue Fresno California beginning at 9am until approximately 3pm. This sale consists of antiques and collectibles as well as tools and usable items. Items include; stainless steel French door refrigerator\, large wood dog house\, Victorian marble top dresser\, Victorian Hall tree\, Cruiser bicycle\, tools\, antique and collectibles\, usable household items\, collectible linens\, yard tools\, vintage iron patio sets\, yard art\, flower pots\, sofas\, vintage expanded metal patio chairs\, vintage metal porch chairs\, and much much more. Don’t miss this sale!!
URL:https://fresnoauctioncompany.com/event/9-23-23/
LOCATION:Hayes\, 4585 N Hayes Avenue\, Fresno\, CA\, 93723\, United States
CATEGORIES:Estate Tag Sale
ATTACH;FMTTYPE=image/jpeg:https://fresnoauctioncompany.com/wp-content/uploads/2023/09/IMG_9009-scaled.jpg
END:VEVENT
END:VCALENDAR