BEGIN:VCALENDAR
VERSION:2.0
PRODID:-//Fresno Estates &amp; Auction Company - ECPv6.15.18//NONSGML v1.0//EN
CALSCALE:GREGORIAN
METHOD:PUBLISH
X-ORIGINAL-URL:https://fresnoauctioncompany.com
X-WR-CALDESC:Events for Fresno Estates &amp; Auction Company
REFRESH-INTERVAL;VALUE=DURATION:PT1H
X-Robots-Tag:noindex
X-PUBLISHED-TTL:PT1H
BEGIN:VTIMEZONE
TZID:America/Los_Angeles
BEGIN:DAYLIGHT
TZOFFSETFROM:-0800
TZOFFSETTO:-0700
TZNAME:PDT
DTSTART:20220313T100000
END:DAYLIGHT
BEGIN:STANDARD
TZOFFSETFROM:-0700
TZOFFSETTO:-0800
TZNAME:PST
DTSTART:20221106T090000
END:STANDARD
BEGIN:DAYLIGHT
TZOFFSETFROM:-0800
TZOFFSETTO:-0700
TZNAME:PDT
DTSTART:20230312T100000
END:DAYLIGHT
BEGIN:STANDARD
TZOFFSETFROM:-0700
TZOFFSETTO:-0800
TZNAME:PST
DTSTART:20231105T090000
END:STANDARD
BEGIN:DAYLIGHT
TZOFFSETFROM:-0800
TZOFFSETTO:-0700
TZNAME:PDT
DTSTART:20240310T100000
END:DAYLIGHT
BEGIN:STANDARD
TZOFFSETFROM:-0700
TZOFFSETTO:-0800
TZNAME:PST
DTSTART:20241103T090000
END:STANDARD
END:VTIMEZONE
BEGIN:VEVENT
DTSTART;TZID=America/Los_Angeles:20230625T080000
DTEND;TZID=America/Los_Angeles:20230625T170000
DTSTAMP:20260421T013232
CREATED:20230607T020713Z
LAST-MODIFIED:20230621T070743Z
UID:7383-1687680000-1687712400@fresnoauctioncompany.com
SUMMARY:6-25-23 Huge SUNDAY Laton Farm Auction with Farm Equipment\, Tools and More!
DESCRIPTION:Where: 4166 East Blanchard Avenue Laton CA 93242\nWhen: 6-25-23 Sunday Auction starts at 10am (preview at 8am) \nThis auction features; \nJohn Deere AMT 626 atv\,\nEZGO 35 golf cart\,\nFlory model 664 Orchard sweeper\,\nGobel heavy duty 3pt tandem disc\,\nWeber 4\,000 lb 6 cylinder gas field forklift with side shift\,\nClark 5000 lb propane forklift\,\ntowable Orchard pruning tower\,\nAir O Fan 350 gallon stainless steel tank rear sprayer\,\n3pt brush fork\,\nAGCo 2005 Tye grain drill\,\nCub Cadet Time Saver riding mower\,\n3pt Auger\,\ntowable 200 gallon Orchard sprayer\,\nAllen three-point PTO sulfur machine\,\nL&H raisin shaker\,\n3pt flat furrow\,\n3-point ridger\,\n3pt flat furrow with checker\,\n3pt border cultivator\,\nseveral poly spray tanks\,\nantique Case tractor\,\nInternational parts tractor\,\n3pt broadcast spreader\,\n30 ft aluminum Main line\,\nvarious diameters\,\nmetal forklift bins\,\n1949/1950s Chevy flatbed truck\,\n1960 Chevy SWB truck\,\nCultipak rings\,\nantique blacksmiths Forge blower\,\nantique 92 lb anvil\,\nantique post Vise\,\nantique horse drawn Freight wagon\,\nlots of hand and Power tools\,\ndrill press\,\nhorizontal metal bandsaw\,\noxy acetylene torch set\,\nlots of extra oxy-acetylene spare cylinders\,\nwelding supplies of all kinds\,\nnuts and bolts of all kinds\,\npneumatic truck jack\,\nheavy duty American made vises of all kinds\,\nCat quick hitch\,\nvintage generator\,\nseveral ladders\,\nradial arm saw\,\nwelding tables\,\nusable supplies of all kinds\,\nportable bead breaker Tire machine\,\nand much much more. Do not miss this great auction!! \nClick Here for scrollable and expandable photos!
URL:https://fresnoauctioncompany.com/event/6-25-23/
LOCATION:CA
CATEGORIES:Estate Auction
ATTACH;FMTTYPE=image/jpeg:https://fresnoauctioncompany.com/wp-content/uploads/2023/06/20230619_123935-scaled.jpg
END:VEVENT
END:VCALENDAR