BEGIN:VCALENDAR
VERSION:2.0
PRODID:-//Fresno Estates &amp; Auction Company - ECPv6.15.18//NONSGML v1.0//EN
CALSCALE:GREGORIAN
METHOD:PUBLISH
X-WR-CALNAME:Fresno Estates &amp; Auction Company
X-ORIGINAL-URL:https://fresnoauctioncompany.com
X-WR-CALDESC:Events for Fresno Estates &amp; Auction Company
REFRESH-INTERVAL;VALUE=DURATION:PT1H
X-Robots-Tag:noindex
X-PUBLISHED-TTL:PT1H
BEGIN:VTIMEZONE
TZID:America/Los_Angeles
BEGIN:DAYLIGHT
TZOFFSETFROM:-0800
TZOFFSETTO:-0700
TZNAME:PDT
DTSTART:20220313T100000
END:DAYLIGHT
BEGIN:STANDARD
TZOFFSETFROM:-0700
TZOFFSETTO:-0800
TZNAME:PST
DTSTART:20221106T090000
END:STANDARD
BEGIN:DAYLIGHT
TZOFFSETFROM:-0800
TZOFFSETTO:-0700
TZNAME:PDT
DTSTART:20230312T100000
END:DAYLIGHT
BEGIN:STANDARD
TZOFFSETFROM:-0700
TZOFFSETTO:-0800
TZNAME:PST
DTSTART:20231105T090000
END:STANDARD
BEGIN:DAYLIGHT
TZOFFSETFROM:-0800
TZOFFSETTO:-0700
TZNAME:PDT
DTSTART:20240310T100000
END:DAYLIGHT
BEGIN:STANDARD
TZOFFSETFROM:-0700
TZOFFSETTO:-0800
TZNAME:PST
DTSTART:20241103T090000
END:STANDARD
END:VTIMEZONE
BEGIN:VEVENT
DTSTART;TZID=America/Los_Angeles:20230617T080000
DTEND;TZID=America/Los_Angeles:20230617T170000
DTSTAMP:20260421T012824
CREATED:20230607T015335Z
LAST-MODIFIED:20230615T151946Z
UID:7372-1686988800-1687021200@fresnoauctioncompany.com
SUMMARY:6-17-23 Jadeite\, FireKing\, and Collectables Auction 10am
DESCRIPTION:2742 East Andrews Ave Fresno CA 93726\nSaturday\, June 17\, 2023 at 10am\nPreview 8am-10am\nEast of First St and North of Shields \n100’s of pieces of vintage Jadeite glassware\, Fabrics\, and much more including; \nHuge service for 12 English Scenery pattern transferwear by Enoch Woods with lots of quality serving pieces\,\nhuge collection of Fire King Jadeite glassware with serving pieces\,\nlots of costume jewelry\,\nreference books and price guides on Antiques and glassware\,\nmid-century bar cabinet with glassware\,\nKitchenAid mixer\,\nGE side by side refrigerator freezer with ice and water in the door\,\nlots of quality small appliances by Sunbeam and others\,\nfinished handmade quilts\,\nlarge knife set\,\nvintage Singer Featherweight sewing machine\,\n1950s glassware\,\ngreen depression glass\,\nvintage mid-century tank desk vintage sewing machine cabinets\,\nvintage sewing desk\, vintage mixer with green jadeite bowls\,\nquilting and embroidery hoops\,\nportable folding tables\,\ngazebo with cast iron grape motif corners\,\nmatching iron grape leaf motif shelf\,\nvintage kitchen counters\,\nKenmore refrigerator freezer\,\nseveral ladders\,\naluminum and fiberglass\,\nmiscellaneous household repair items\,\ncookbooks\,\nboxes and boxes of all types of quilting fabric\,\nvintage birdcage\,\nvintage floor lamp\,\nlots of quilting material including batting and stuffing\,\nportable rollaway folding bed\,\nvintage a Queen Anne three cushion sofa\,\nlots of vintage milk glass\,\nvintage Fenton glassware\,\nset of quality Royal Dalton china service for eight\,\nlots of other quality Collectibles still to be unpacked. Don’t miss this AUCTION!! \nClick Me for scrollable and expandable photos!
URL:https://fresnoauctioncompany.com/event/6-17-23/
LOCATION:CA
CATEGORIES:Estate Auction
ATTACH;FMTTYPE=image/jpeg:https://fresnoauctioncompany.com/wp-content/uploads/2023/06/FAC-logo-1-scaled-e1686104020651.jpg
END:VEVENT
END:VCALENDAR