BEGIN:VCALENDAR
VERSION:2.0
PRODID:-//Fresno Estates &amp; Auction Company - ECPv6.15.18//NONSGML v1.0//EN
CALSCALE:GREGORIAN
METHOD:PUBLISH
X-ORIGINAL-URL:https://fresnoauctioncompany.com
X-WR-CALDESC:Events for Fresno Estates &amp; Auction Company
REFRESH-INTERVAL;VALUE=DURATION:PT1H
X-Robots-Tag:noindex
X-PUBLISHED-TTL:PT1H
BEGIN:VTIMEZONE
TZID:America/Los_Angeles
BEGIN:DAYLIGHT
TZOFFSETFROM:-0800
TZOFFSETTO:-0700
TZNAME:PDT
DTSTART:20220313T100000
END:DAYLIGHT
BEGIN:STANDARD
TZOFFSETFROM:-0700
TZOFFSETTO:-0800
TZNAME:PST
DTSTART:20221106T090000
END:STANDARD
BEGIN:DAYLIGHT
TZOFFSETFROM:-0800
TZOFFSETTO:-0700
TZNAME:PDT
DTSTART:20230312T100000
END:DAYLIGHT
BEGIN:STANDARD
TZOFFSETFROM:-0700
TZOFFSETTO:-0800
TZNAME:PST
DTSTART:20231105T090000
END:STANDARD
BEGIN:DAYLIGHT
TZOFFSETFROM:-0800
TZOFFSETTO:-0700
TZNAME:PDT
DTSTART:20240310T100000
END:DAYLIGHT
BEGIN:STANDARD
TZOFFSETFROM:-0700
TZOFFSETTO:-0800
TZNAME:PST
DTSTART:20241103T090000
END:STANDARD
END:VTIMEZONE
BEGIN:VEVENT
DTSTART;TZID=America/Los_Angeles:20230603T080000
DTEND;TZID=America/Los_Angeles:20230603T170000
DTSTAMP:20260421T013230
CREATED:20230503T171831Z
LAST-MODIFIED:20230531T080751Z
UID:5928-1685779200-1685811600@fresnoauctioncompany.com
SUMMARY:6-3-23 Fernwood #2 Estate Auction with Porcelain Signs\, Collectibles and Plants
DESCRIPTION:12090 Fernwood Dr\, Madera\, CA 93636\nSaturday\, June 3\,2023 at 10 am\nPreview: SAT. 8am-10am\nFernwood Gardens Nursery just is off Avenue 12 in the Madera Ranchos. \nPlease click here for the Google picture link for sneak peek preview pictures. \nThe Fernwood Nursery Auction includes:\nFancy antique National brass cash register\,\nporcelain signs including Wayne feeds and Wells Fargo as well as several others\,\npotted ornamental plants and trees\,\nthree Light Street light\,\nwrought iron and glass top patio sets\,\nMae West movie poster\,\nadvertising tins\,\nantique sea roll top desk with raised panels\,\nfolding portable bicycle\,\nnew inbox Zappy Electric Scooters\,\nWestern memorabilia\,\nwood Buckboard seat\,\nthree saddle saddle rack\,\nvintage cast iron memorabilia\,\nstand up coin-op penny scale\,\nvintage saxophone\,\ncoin-op gumball machines\,\ncopper pans\,\ndepression glass\,\nhot wheels\,\nvintage carousel horse\,\nwooden Parsons bench\,\nold hanging scales\,\ntable top scales\,\nyard art figurines\,\nthree barrel barrel rack\,\nski clothing\,\nand much much more. Less than 300 lots \nFor more information\, call Steve at 559-930-7218 or Steven Antonio at 559-355-4162
URL:https://fresnoauctioncompany.com/event/6-3-23/
LOCATION:CA
CATEGORIES:Estate Auction
ATTACH;FMTTYPE=image/jpeg:https://fresnoauctioncompany.com/wp-content/uploads/2023/05/20230512_115725-2-scaled-e1685520451884.jpg
END:VEVENT
END:VCALENDAR