BEGIN:VCALENDAR
VERSION:2.0
PRODID:-//Fresno Estates &amp; Auction Company - ECPv6.15.18//NONSGML v1.0//EN
CALSCALE:GREGORIAN
METHOD:PUBLISH
X-ORIGINAL-URL:https://fresnoauctioncompany.com
X-WR-CALDESC:Events for Fresno Estates &amp; Auction Company
REFRESH-INTERVAL;VALUE=DURATION:PT1H
X-Robots-Tag:noindex
X-PUBLISHED-TTL:PT1H
BEGIN:VTIMEZONE
TZID:America/Los_Angeles
BEGIN:DAYLIGHT
TZOFFSETFROM:-0800
TZOFFSETTO:-0700
TZNAME:PDT
DTSTART:20220313T100000
END:DAYLIGHT
BEGIN:STANDARD
TZOFFSETFROM:-0700
TZOFFSETTO:-0800
TZNAME:PST
DTSTART:20221106T090000
END:STANDARD
BEGIN:DAYLIGHT
TZOFFSETFROM:-0800
TZOFFSETTO:-0700
TZNAME:PDT
DTSTART:20230312T100000
END:DAYLIGHT
BEGIN:STANDARD
TZOFFSETFROM:-0700
TZOFFSETTO:-0800
TZNAME:PST
DTSTART:20231105T090000
END:STANDARD
BEGIN:DAYLIGHT
TZOFFSETFROM:-0800
TZOFFSETTO:-0700
TZNAME:PDT
DTSTART:20240310T100000
END:DAYLIGHT
BEGIN:STANDARD
TZOFFSETFROM:-0700
TZOFFSETTO:-0800
TZNAME:PST
DTSTART:20241103T090000
END:STANDARD
END:VTIMEZONE
BEGIN:VEVENT
DTSTART;TZID=America/Los_Angeles:20230507T080000
DTEND;TZID=America/Los_Angeles:20230507T170000
DTSTAMP:20260421T013234
CREATED:20230503T164451Z
LAST-MODIFIED:20230503T172303Z
UID:5714-1683446400-1683478800@fresnoauctioncompany.com
SUMMARY:5-7-23 SUNDAY Quilter's Estate Auction with Quilting items\, Antiques and Collectibles 10am
DESCRIPTION:2742 East Andrews Ave Fresno CA 93726\nPreview 8am-10am\nEast of First Street and North of Shields \nQuilting and and SO Much more. Fabrics\, Products\, Machines and antiques GALORE! \nCLICK HERE for scrollable & expandable Google Photos & Video link
URL:https://fresnoauctioncompany.com/event/5-7-23-sunday-quilters-estate-auction-with-quilting-items-antiques-and-collectibles-10am/
LOCATION:CA
CATEGORIES:Estate Auction
ATTACH;FMTTYPE=image/jpeg:https://fresnoauctioncompany.com/wp-content/uploads/2023/05/20230502_185155-scaled.jpg
END:VEVENT
END:VCALENDAR