BEGIN:VCALENDAR
VERSION:2.0
PRODID:-//Fresno Estates &amp; Auction Company - ECPv6.15.18//NONSGML v1.0//EN
CALSCALE:GREGORIAN
METHOD:PUBLISH
X-ORIGINAL-URL:https://fresnoauctioncompany.com
X-WR-CALDESC:Events for Fresno Estates &amp; Auction Company
REFRESH-INTERVAL;VALUE=DURATION:PT1H
X-Robots-Tag:noindex
X-PUBLISHED-TTL:PT1H
BEGIN:VTIMEZONE
TZID:America/Los_Angeles
BEGIN:DAYLIGHT
TZOFFSETFROM:-0800
TZOFFSETTO:-0700
TZNAME:PDT
DTSTART:20220313T100000
END:DAYLIGHT
BEGIN:STANDARD
TZOFFSETFROM:-0700
TZOFFSETTO:-0800
TZNAME:PST
DTSTART:20221106T090000
END:STANDARD
BEGIN:DAYLIGHT
TZOFFSETFROM:-0800
TZOFFSETTO:-0700
TZNAME:PDT
DTSTART:20230312T100000
END:DAYLIGHT
BEGIN:STANDARD
TZOFFSETFROM:-0700
TZOFFSETTO:-0800
TZNAME:PST
DTSTART:20231105T090000
END:STANDARD
BEGIN:DAYLIGHT
TZOFFSETFROM:-0800
TZOFFSETTO:-0700
TZNAME:PDT
DTSTART:20240310T100000
END:DAYLIGHT
BEGIN:STANDARD
TZOFFSETFROM:-0700
TZOFFSETTO:-0800
TZNAME:PST
DTSTART:20241103T090000
END:STANDARD
END:VTIMEZONE
BEGIN:VEVENT
DTSTART;TZID=America/Los_Angeles:20230506T080000
DTEND;TZID=America/Los_Angeles:20230506T170000
DTSTAMP:20260421T011650
CREATED:20230418T024751Z
LAST-MODIFIED:20230418T031259Z
UID:5074-1683360000-1683392400@fresnoauctioncompany.com
SUMMARY:May 6\, 2023 - 45th Annual Fresno Basque Club Festival -9am-5pm (Scheduled events listed below)
DESCRIPTION: OPEN to the Public –Traditional Food & Drink\, Music\, Dancing\, Fun & Friends! \nLocation: Campos Bros 15516 S Walnut Ave\, Caruthers\, Ca 93609\nCall Steve for Ticket Information and more Info at 559-930-7218 \nDoors open at 9am\nCatholic Mass: 10:30am\nTraditional Lamb BBQ with classic side dishes: 12:30pm-2pm\nBasque Parade\, Folk Dancers & Klika 2pm\nChorizo Sandwiches served at 4:30pm\nwith No host bar and Basque Vendors and Much more \n\n		\n		\n			\n				\n			\n			\n				\n			\n			\n		\n\n 
URL:https://fresnoauctioncompany.com/event/may-6-annual-fresno-basque-club-festival-open-to-the-public-traditional-food-drink-music-dancing-fun-friend/
LOCATION:Campos Farms\, 15516 S. Walnut Ave.\, Caruthers\, 93609\, United States
CATEGORIES:Special Event
ATTACH;FMTTYPE=image/jpeg:https://fresnoauctioncompany.com/wp-content/uploads/2023/04/341812972_780110236638072_8779459193115109273_n.jpg
END:VEVENT
END:VCALENDAR